PDS_VERSION_ID = PDS3
/* FILE DATA ELEMENTS */
RECORD_TYPE = UNDEFINED
/* POINTERS TO DATA OBJECTS */
^IMAGE = ("HP542_0000_RE4.TIF")
/* IDENTIFICATION DATA ELEMENTS */
DATA_SET_ID = "MEX-M-HRSC-4-REFDR-MAPPROJECT-EXT9-V4.0"
DATA_SET_NAME = "MARS EXPRESS HRSC MAP PROJECTED REFDR EXTENSION9 V4.0"
DETECTOR_ID = MEX_HRSC_RED
EVENT_TYPE = "MARS-REGIONAL-MAPPING-Gl-Pf-La"
INSTRUMENT_HOST_ID = MEX
INSTRUMENT_HOST_NAME = "MARS EXPRESS"
INSTRUMENT_ID = HRSC
INSTRUMENT_NAME = "HIGH RESOLUTION STEREO CAMERA"
MISSION_NAME = "MARS EXPRESS"
MISSION_PHASE_NAME = ME_Phase_50
PROCESSING_LEVEL_ID = 4
PRODUCT_CREATION_TIME = 2024-08-20T18:09:15.000Z
PRODUCT_ID = "HP542_0000_RE4.TIF"
RELEASE_ID = 0013
REVISION_ID = 0000
/* QUALITY DATA ELEMENTS */
DATA_QUALITY_ID = 1
DATA_QUALITY_DESC = "Data calculated based on original SPICE kernels"
/* TIME DATA ELEMENTS */
SPACECRAFT_CLOCK_START_COUNT = "1/0659463859.64170"
SPACECRAFT_CLOCK_STOP_COUNT = "1/0659464082.45523"
START_TIME = 2024-03-25T16:25:13.166Z
STOP_TIME = 2024-03-25T16:27:32.092Z
/* ORBITAL DATA ELEMENTS */
ASCENDING_NODE_LONGITUDE = 100.45
MAXIMUM_RESOLUTION = 0.0599
FOOTPRINT_POINT_LATITUDE = (-86.5145,-86.3165,-86.1051,-85.9745, -85.8403,-85.6677,-85.659,-85.5884, -85.3745,-85.1482,-84.8515,-84.5392, -84.3437,-84.1429,-84.0069,-83.7421, -83.5368,-83.2586,-82.9748,-82.8237, -82.6513,-82.4769,-82.301,-82.1212, -81.9433,-81.7666,-81.5949,-81.4167, -81.2372,-81.0568,-80.8755,-80.6938, -80.5119,-80.329,-80.1461,-79.9639, -79.7806,-79.5041,-79.319,-79.1342, -78.9484,-78.7611,-78.5747,-78.3896, -78.2039,-78.0166,-77.7364,-77.6427, -77.5969,-77.6707,-77.7355,-77.7753, -77.815,-77.8631,-77.8935,-77.8955, -77.8972,-78.0888,-78.3762,-78.5682, -78.7595,-78.9509,-79.1418,-79.3327, -79.5237,-79.8098,-80.0004,-80.1907, -80.4758,-80.7602,-80.9496,-81.1385, -81.3279,-81.5167,-81.7059,-81.8944, -82.0821,-82.2695,-82.5483,-82.7342, -82.9188,-83.1053,-83.3851,-83.54, -83.6938,-83.9993,-84.3003,-84.6008, -84.8248,-84.9731,-85.1202,-85.2664, -85.483,-85.6258,-85.9053,-86.1098, -86.244,-86.3761,-86.4411,-86.5145)
FOOTPRINT_POINT_LONGITUDE = (145.609,141.926,138.641,136.869, 135.212,133.288,133.196,133.802,136.927 ,139.765,142.941,145.766,147.316, 148.765,149.677,151.347,152.516,153.963 ,155.295,155.954,156.667,157.348, 157.998,158.622,159.214,159.777,160.312 ,160.829,161.325,161.8,162.256,162.694, 163.114,163.519,163.907,164.28,164.64, 165.155,165.483,165.799,166.104,166.399 ,166.683,166.958,167.224,167.481, 167.851,167.97,168.028,169.302,170.536, 171.367,172.265,173.473,174.326,174.387 ,174.407,174.243,173.986,173.805, 173.621,173.429,173.231,173.026,172.812 ,172.476,172.242,171.998,171.614, 171.207,170.921,170.624,170.309,169.983 ,169.638,169.278,168.904,168.511, 167.894,167.452,166.993,166.491,165.678 ,165.2,164.702,163.634,162.472,161.158, 160.062,159.276,158.443,157.558,156.126 ,155.092,152.833,150.937,149.545, 148.043,147.252,145.609)
ORBIT_NUMBER = 25542
ORBITAL_ECCENTRICITY = 0.574
ORBITAL_INCLINATION = 87.07
ORBITAL_SEMIMAJOR_AXIS = 8755.0
PERIAPSIS_ALTITUDE = 357.43
PERIAPSIS_ARGUMENT_ANGLE = 265.86
PERIAPSIS_TIME = 2024-03-25T16:23:54.000Z
SPACECRAFT_ORIENTATION = (0.0,1.0,0.0)
^MEX_ORIENTATION_DESC = "MEX_ORIENTATION_DESC.TXT"
SPACECRAFT_POINTING_MODE = ACROSSTRACK
^MEX_POINTING_DESC = "MEX_POINTING_DESC.TXT"
RIGHT_ASCENSION = -1e+32
DECLINATION = -1e+32
OFFSET_ANGLE = -0.1
SPACECRAFT_SOLAR_DISTANCE = 2.08695e+08
TARGET_NAME = MARS
/* CAMERA DATA ELEMENTS */
DETECTOR_TEMPERATURE = 18.5744
FOCAL_PLANE_TEMPERATURE = 8.7872
INST_CMPRS_NAME = "DISCRETE COSINE TRANSFORMATION (DCT)"
INST_CMPRS_RATIO = 5.73753
INST_CMPRS_QUALITY = 0
INST_CMPRS_QUANTZ_TBL_ID = 0
INSTRUMENT_TEMPERATURE = 11.234
LENS_TEMPERATURE = 9.195
MACROPIXEL_SIZE = 4
MISSING_FRAMES = 0
PIXEL_SUBSAMPLING_FLAG = N
SIGNAL_CHAIN_ID = 2
/* RADIOMETRIC DATA ELEMENTS */
BANDWIDTH = 48.0
CENTER_FILTER_WAVELENGTH = 748.0
RADIANCE_OFFSET = 1.14856
RADIANCE_SCALING_FACTOR = 0.00628799
REFLECTANCE_SCALING_FACTOR = 0.000624978
MEX:REFLECTANCE_OFFSET = 0.114158
/* IMAGE OBJECT DEFINITIONS */
OBJECT = IMAGE
  INTERCHANGE_FORMAT = BINARY
  LINES = 8440
  LINE_SAMPLES = 4880
  SAMPLE_TYPE = UNSIGNED_INTEGER
  SAMPLE_BITS = 8
  BANDS = 1
  BAND_STORAGE_TYPE = BAND_SEQUENTIAL
  MAXIMUM = 255
  MEAN = 74.031
  MINIMUM = 1
  STANDARD_DEVIATION = 44.3363
END_OBJECT = IMAGE
/* MAP OBJECT DEFINITIONS */
OBJECT = IMAGE_MAP_PROJECTION
  ^DATA_SET_MAP_PROJECTION_CATALOG= "DSMAP.CAT"
  A_AXIS_RADIUS = 3396.0
  B_AXIS_RADIUS = 3396.0
  C_AXIS_RADIUS = 3396.0
  CENTER_LATITUDE = -83.13890000000001
  CENTER_LONGITUDE = 160.53
  COORDINATE_SYSTEM_NAME = PLANETOGRAPHIC
  COORDINATE_SYSTEM_TYPE = "BODY-FIXED ROTATING"
  EASTERNMOST_LONGITUDE = 174.407
  FIRST_STANDARD_PARALLEL = "N/A"
  LINE_FIRST_PIXEL = 1
  LINE_LAST_PIXEL = 8440
  LINE_PROJECTION_OFFSET = 4388.875
  MAP_PROJECTION_ROTATION = 0.0
  MAP_PROJECTION_TYPE = ORTHOGRAPHIC
  MAP_RESOLUTION = 1185.42760773333
  MAP_SCALE = 0.05
  MAXIMUM_LATITUDE = -77.59690000000001
  MINIMUM_LATITUDE = -86.5145
  POSITIVE_LONGITUDE_DIRECTION = EAST
  REFERENCE_LATITUDE = "N/A"
  REFERENCE_LONGITUDE = "N/A"
  SAMPLE_FIRST_PIXEL = 1
  SAMPLE_LAST_PIXEL = 4880
  SAMPLE_PROJECTION_OFFSET = 2351.125
  SECOND_STANDARD_PARALLEL = "N/A"
  WESTERNMOST_LONGITUDE = 133.196
END_OBJECT = IMAGE_MAP_PROJECTION
END
