PDS_VERSION_ID = PDS3
/* FILE DATA ELEMENTS */
RECORD_TYPE = UNDEFINED
/* POINTERS TO DATA OBJECTS */
^IMAGE = ("HP542_0000_BL4.TIF")
/* IDENTIFICATION DATA ELEMENTS */
DATA_SET_ID = "MEX-M-HRSC-4-REFDR-MAPPROJECT-EXT9-V4.0"
DATA_SET_NAME = "MARS EXPRESS HRSC MAP PROJECTED REFDR EXTENSION9 V4.0"
DETECTOR_ID = MEX_HRSC_BLUE
EVENT_TYPE = "MARS-REGIONAL-MAPPING-Gl-Pf-La"
INSTRUMENT_HOST_ID = MEX
INSTRUMENT_HOST_NAME = "MARS EXPRESS"
INSTRUMENT_ID = HRSC
INSTRUMENT_NAME = "HIGH RESOLUTION STEREO CAMERA"
MISSION_NAME = "MARS EXPRESS"
MISSION_PHASE_NAME = ME_Phase_50
PROCESSING_LEVEL_ID = 4
PRODUCT_CREATION_TIME = 2024-08-20T18:09:15.000Z
PRODUCT_ID = "HP542_0000_BL4.TIF"
RELEASE_ID = 0013
REVISION_ID = 0000
/* QUALITY DATA ELEMENTS */
DATA_QUALITY_ID = 1
DATA_QUALITY_DESC = "Data calculated based on original SPICE kernels"
/* TIME DATA ELEMENTS */
SPACECRAFT_CLOCK_START_COUNT = "1/0659463859.64170"
SPACECRAFT_CLOCK_STOP_COUNT = "1/0659464082.45523"
START_TIME = 2024-03-25T16:25:34.542Z
STOP_TIME = 2024-03-25T16:27:32.092Z
/* ORBITAL DATA ELEMENTS */
ASCENDING_NODE_LONGITUDE = 100.45
MAXIMUM_RESOLUTION = 0.0579
FOOTPRINT_POINT_LATITUDE = (-86.4646,-86.3645,-86.2226,-86.0505, -85.9207,-85.7449,-85.6248,-85.6161, -85.5847,-85.4544,-85.2264,-84.9866, -84.7876,-84.5301,-84.3175,-84.0999, -83.907,-83.7762,-83.6426,-83.5075, -83.3716,-83.1656,-83.027,-82.8875, -82.7472,-82.5352,-82.3212,-82.1773, -82.0331,-81.8889,-81.7446,-81.6012, -81.456,-81.3101,-81.1637,-81.0169, -80.8696,-80.7222,-80.5744,-80.3522, -80.2036,-80.0551,-79.9064,-79.7573, -79.5332,-79.3084,-79.1585,-79.0835, -79.0546,-79.1377,-79.1877,-79.2412, -79.2912,-79.3234,-79.3565,-79.3951, -79.3975,-79.3993,-79.6312,-79.7858, -79.9402,-80.0946,-80.249,-80.4804, -80.6345,-80.7886,-80.9425,-81.1733, -81.4038,-81.5573,-81.7108,-81.9405, -82.0934,-82.2462,-82.3987,-82.5508, -82.7028,-82.8545,-83.006,-83.1574, -83.3084,-83.459,-83.6091,-83.7588, -83.908,-84.0567,-84.2048,-84.3524, -84.4994,-84.7178,-84.9001,-85.1409, -85.4966,-85.7292,-85.9009,-86.0699, -86.2902,-86.3978,-86.451,-86.4646)
FOOTPRINT_POINT_LONGITUDE = (146.301,144.348,141.872,139.236, 137.466,135.31,133.971,133.879,133.848, 135.801,138.811,141.536,143.531,145.813 ,147.483,149.027,150.286,151.108, 151.891,152.639,153.356,154.376,155.022 ,155.641,156.236,157.084,157.882, 158.388,158.875,159.346,159.803,160.248 ,160.673,161.082,161.476,161.857, 162.225,162.581,162.925,163.421,163.739 ,164.047,164.347,164.636,165.054, 165.452,165.708,165.834,165.881,167.295 ,168.21,169.265,170.333,171.073,171.887 ,172.912,172.981,173.002,172.738, 172.555,172.366,172.171,171.97,171.656, 171.439,171.213,170.98,170.614,170.227, 169.958,169.675,169.235,168.927,168.607 ,168.273,167.933,167.574,167.202,166.81 ,166.387,165.949,165.496,165.022, 164.526,164.006,163.463,162.896,162.295 ,161.659,160.636,159.708,158.358, 156.066,154.329,152.904,151.357,149.065 ,147.809,147.155,146.301)
ORBIT_NUMBER = 25542
ORBITAL_ECCENTRICITY = 0.574
ORBITAL_INCLINATION = 87.07
ORBITAL_SEMIMAJOR_AXIS = 8755.0
PERIAPSIS_ALTITUDE = 357.43
PERIAPSIS_ARGUMENT_ANGLE = 265.86
PERIAPSIS_TIME = 2024-03-25T16:23:54.000Z
SPACECRAFT_ORIENTATION = (0.0,1.0,0.0)
^MEX_ORIENTATION_DESC = "MEX_ORIENTATION_DESC.TXT"
SPACECRAFT_POINTING_MODE = ACROSSTRACK
^MEX_POINTING_DESC = "MEX_POINTING_DESC.TXT"
RIGHT_ASCENSION = -1e+32
DECLINATION = -1e+32
OFFSET_ANGLE = -0.1
SPACECRAFT_SOLAR_DISTANCE = 2.08695e+08
TARGET_NAME = MARS
/* CAMERA DATA ELEMENTS */
DETECTOR_TEMPERATURE = 18.3705
FOCAL_PLANE_TEMPERATURE = 8.7872
INST_CMPRS_NAME = "DISCRETE COSINE TRANSFORMATION (DCT)"
INST_CMPRS_RATIO = 3.57677
INST_CMPRS_QUALITY = 0
INST_CMPRS_QUANTZ_TBL_ID = 0
INSTRUMENT_TEMPERATURE = 11.234
LENS_TEMPERATURE = 9.195
MACROPIXEL_SIZE = 4
MISSING_FRAMES = 0
PIXEL_SUBSAMPLING_FLAG = N
SIGNAL_CHAIN_ID = 2
/* RADIOMETRIC DATA ELEMENTS */
BANDWIDTH = 76.0
CENTER_FILTER_WAVELENGTH = 444.0
RADIANCE_OFFSET = 0.686357
RADIANCE_SCALING_FACTOR = 0.00631133
REFLECTANCE_SCALING_FACTOR = 0.000282423
MEX:REFLECTANCE_OFFSET = 0.0307135
/* IMAGE OBJECT DEFINITIONS */
OBJECT = IMAGE
  INTERCHANGE_FORMAT = BINARY
  LINES = 8440
  LINE_SAMPLES = 4880
  SAMPLE_TYPE = UNSIGNED_INTEGER
  SAMPLE_BITS = 8
  BANDS = 1
  BAND_STORAGE_TYPE = BAND_SEQUENTIAL
  MAXIMUM = 255
  MEAN = 71.226
  MINIMUM = 1
  STANDARD_DEVIATION = 44.8492
END_OBJECT = IMAGE
/* MAP OBJECT DEFINITIONS */
OBJECT = IMAGE_MAP_PROJECTION
  ^DATA_SET_MAP_PROJECTION_CATALOG= "DSMAP.CAT"
  A_AXIS_RADIUS = 3396.0
  B_AXIS_RADIUS = 3396.0
  C_AXIS_RADIUS = 3396.0
  CENTER_LATITUDE = -83.13890000000001
  CENTER_LONGITUDE = 160.53
  COORDINATE_SYSTEM_NAME = PLANETOGRAPHIC
  COORDINATE_SYSTEM_TYPE = "BODY-FIXED ROTATING"
  EASTERNMOST_LONGITUDE = 173.002
  FIRST_STANDARD_PARALLEL = "N/A"
  LINE_FIRST_PIXEL = 1
  LINE_LAST_PIXEL = 8440
  LINE_PROJECTION_OFFSET = 4388.875
  MAP_PROJECTION_ROTATION = 0.0
  MAP_PROJECTION_TYPE = ORTHOGRAPHIC
  MAP_RESOLUTION = 1185.42760773333
  MAP_SCALE = 0.05
  MAXIMUM_LATITUDE = -79.05459999999999
  MINIMUM_LATITUDE = -86.4646
  POSITIVE_LONGITUDE_DIRECTION = EAST
  REFERENCE_LATITUDE = "N/A"
  REFERENCE_LONGITUDE = "N/A"
  SAMPLE_FIRST_PIXEL = 1
  SAMPLE_LAST_PIXEL = 4880
  SAMPLE_PROJECTION_OFFSET = 2351.125
  SECOND_STANDARD_PARALLEL = "N/A"
  WESTERNMOST_LONGITUDE = 133.848
END_OBJECT = IMAGE_MAP_PROJECTION
END
