PDS_VERSION_ID = PDS3
/* FILE DATA ELEMENTS */
RECORD_TYPE = UNDEFINED
/* POINTERS TO DATA OBJECTS */
^IMAGE = ("HP531_0000_RE4.TIF")
/* IDENTIFICATION DATA ELEMENTS */
DATA_SET_ID = "MEX-M-HRSC-4-REFDR-MAPPROJECT-EXT9-V4.0"
DATA_SET_NAME = "MARS EXPRESS HRSC MAP PROJECTED REFDR EXTENSION9 V4.0"
DETECTOR_ID = MEX_HRSC_RED
EVENT_TYPE = "MARS-REGIONAL-MAPPING-Gl-Pf-La"
INSTRUMENT_HOST_ID = MEX
INSTRUMENT_HOST_NAME = "MARS EXPRESS"
INSTRUMENT_ID = HRSC
INSTRUMENT_NAME = "HIGH RESOLUTION STEREO CAMERA"
MISSION_NAME = "MARS EXPRESS"
MISSION_PHASE_NAME = ME_Phase_50
PROCESSING_LEVEL_ID = 4
PRODUCT_CREATION_TIME = 2024-08-20T18:09:15.000Z
PRODUCT_ID = "HP531_0000_RE4.TIF"
RELEASE_ID = 0013
REVISION_ID = 0000
/* QUALITY DATA ELEMENTS */
DATA_QUALITY_ID = 1
DATA_QUALITY_DESC = "Data calculated based on original SPICE kernels"
/* TIME DATA ELEMENTS */
SPACECRAFT_CLOCK_START_COUNT = "1/0659187258.65118"
SPACECRAFT_CLOCK_STOP_COUNT = "1/0659187539.53735"
START_TIME = 2024-03-22T11:35:11.221Z
STOP_TIME = 2024-03-22T11:38:39.357Z
/* ORBITAL DATA ELEMENTS */
ASCENDING_NODE_LONGITUDE = 100.65
MAXIMUM_RESOLUTION = 0.0574
FOOTPRINT_POINT_LATITUDE = (-85.8349,-85.5565,-85.2628,-84.8555, -84.8454,-84.762,-84.5173,-84.249, -83.9596,-83.6523,-83.3293,-82.9929, -82.6448,-82.4505,-82.2347,-82.0157, -81.6819,-79.9977,-79.758,-79.5167, -79.2744,-79.0293,-78.7843,-78.5379, -78.2904,-78.0413,-77.7913,-77.5409, -77.289,-76.9097,-76.6537,-76.4003, -76.1429,-75.8885,-75.6316,-75.3738, -74.6131,-74.2232,-73.8313,-73.5695, -73.1712,-72.9,-72.6294,-72.3598, -72.088,-71.8151,-71.5368,-71.3969, -71.3269,-71.4407,-71.5182,-71.5935, -71.6769,-71.7311,-71.7342,-71.7364, -72.0193,-72.2986,-72.5734,-72.8481, -73.1217,-73.3956,-73.6656,-73.9366, -74.3331,-74.5977,-74.8616,-75.1245, -75.8949,-76.1572,-76.4177,-76.6789, -76.94,-77.1994,-77.4581,-77.716, -77.976,-78.233,-78.6174,-78.8733, -79.2539,-79.5073,-79.8862,-80.1381, -80.3881,-80.6394,-82.4128,-82.7695, -83.0048,-83.2378,-83.4391,-83.6305, -83.8197,-84.1912,-84.552,-84.8998, -85.232,-85.6928,-85.7647,-85.8349)
FOOTPRINT_POINT_LONGITUDE = (177.649,174.96,172.546,169.74,169.678, 169.617,173.512,177.058,180.273,183.184 ,185.817,188.2,190.358,191.449,192.579, 193.646,195.139,200.884,201.523,202.132 ,202.713,203.265,203.795,204.3,204.783, 205.245,205.687,206.112,206.518,207.097 ,207.46,207.814,208.149,208.478,208.791 ,209.093,209.914,210.302,210.67,210.904 ,211.243,211.463,211.676,211.885, 212.084,212.276,212.467,212.56,212.608, 213.77,214.616,215.501,216.556,217.298, 217.342,217.356,217.208,217.057,216.903 ,216.744,216.579,216.409,216.233, 216.054,215.775,215.581,215.38,215.172, 214.514,214.272,214.02,213.759,213.486, 213.202,212.907,212.598,212.275,211.939 ,211.404,211.027,210.428,210.003, 209.326,208.844,208.338,207.803,202.877 ,201.556,200.6,199.578,198.626,197.655, 196.625,194.364,191.798,188.873,185.53, 179.584,178.469,177.649)
ORBIT_NUMBER = 25531
ORBITAL_ECCENTRICITY = 0.574
ORBITAL_INCLINATION = 87.08
ORBITAL_SEMIMAJOR_AXIS = 8753.87
PERIAPSIS_ALTITUDE = 355.97
PERIAPSIS_ARGUMENT_ANGLE = 267.71
PERIAPSIS_TIME = 2024-03-22T11:34:07.000Z
SPACECRAFT_ORIENTATION = (0.0,1.0,0.0)
^MEX_ORIENTATION_DESC = "MEX_ORIENTATION_DESC.TXT"
SPACECRAFT_POINTING_MODE = INERT
^MEX_POINTING_DESC = "MEX_POINTING_DESC.TXT"
RIGHT_ASCENSION = 328.72
DECLINATION = 43.076
OFFSET_ANGLE = -1e+32
SPACECRAFT_SOLAR_DISTANCE = 2.08994e+08
TARGET_NAME = MARS
/* CAMERA DATA ELEMENTS */
DETECTOR_TEMPERATURE = 18.7783
FOCAL_PLANE_TEMPERATURE = 8.5833
INST_CMPRS_NAME = "DISCRETE COSINE TRANSFORMATION (DCT)"
INST_CMPRS_RATIO = 4.15199
INST_CMPRS_QUALITY = 0
INST_CMPRS_QUANTZ_TBL_ID = 0
INSTRUMENT_TEMPERATURE = 11.234
LENS_TEMPERATURE = 8.9911
MACROPIXEL_SIZE = 4
PIXEL_SUBSAMPLING_FLAG = N
SIGNAL_CHAIN_ID = 2
/* RADIOMETRIC DATA ELEMENTS */
BANDWIDTH = 48.0
CENTER_FILTER_WAVELENGTH = 748.0
RADIANCE_OFFSET = 1.25091
RADIANCE_SCALING_FACTOR = 0.0110151
REFLECTANCE_SCALING_FACTOR = 0.00109796
MEX:REFLECTANCE_OFFSET = 0.124687
/* IMAGE OBJECT DEFINITIONS */
OBJECT = IMAGE
  INTERCHANGE_FORMAT = BINARY
  LINES = 17600
  LINE_SAMPLES = 7462
  SAMPLE_TYPE = UNSIGNED_INTEGER
  SAMPLE_BITS = 8
  BANDS = 1
  BAND_STORAGE_TYPE = BAND_SEQUENTIAL
  MAXIMUM = 255
  MEAN = 93.4509
  MINIMUM = 1
  STANDARD_DEVIATION = 49.1695
END_OBJECT = IMAGE
/* MAP OBJECT DEFINITIONS */
OBJECT = IMAGE_MAP_PROJECTION
  ^DATA_SET_MAP_PROJECTION_CATALOG= "DSMAP.CAT"
  A_AXIS_RADIUS = 3396.0
  B_AXIS_RADIUS = 3396.0
  C_AXIS_RADIUS = 3396.0
  CENTER_LATITUDE = -78.6135
  CENTER_LONGITUDE = 207.755
  COORDINATE_SYSTEM_NAME = PLANETOGRAPHIC
  COORDINATE_SYSTEM_TYPE = "BODY-FIXED ROTATING"
  EASTERNMOST_LONGITUDE = 217.356
  FIRST_STANDARD_PARALLEL = "N/A"
  LINE_FIRST_PIXEL = 1
  LINE_LAST_PIXEL = 17600
  LINE_PROJECTION_OFFSET = 8504.375
  MAP_PROJECTION_ROTATION = 0.0
  MAP_PROJECTION_TYPE = ORTHOGRAPHIC
  MAP_RESOLUTION = 1185.42760773333
  MAP_SCALE = 0.05
  MAXIMUM_LATITUDE = -71.32689999999999
  MINIMUM_LATITUDE = -85.8349
  POSITIVE_LONGITUDE_DIRECTION = EAST
  REFERENCE_LATITUDE = "N/A"
  REFERENCE_LONGITUDE = "N/A"
  SAMPLE_FIRST_PIXEL = 1
  SAMPLE_LAST_PIXEL = 7462
  SAMPLE_PROJECTION_OFFSET = 3904.625
  SECOND_STANDARD_PARALLEL = "N/A"
  WESTERNMOST_LONGITUDE = 169.617
END_OBJECT = IMAGE_MAP_PROJECTION
END
