PDS_VERSION_ID = PDS3
/* FILE DATA ELEMENTS */
RECORD_TYPE = UNDEFINED
/* POINTERS TO DATA OBJECTS */
^IMAGE = ("HP531_0000_P24.TIF")
/* IDENTIFICATION DATA ELEMENTS */
DATA_SET_ID = "MEX-M-HRSC-4-REFDR-MAPPROJECT-EXT9-V4.0"
DATA_SET_NAME = "MARS EXPRESS HRSC MAP PROJECTED REFDR EXTENSION9 V4.0"
DETECTOR_ID = MEX_HRSC_P2
EVENT_TYPE = "MARS-REGIONAL-MAPPING-Gl-Pf-La"
INSTRUMENT_HOST_ID = MEX
INSTRUMENT_HOST_NAME = "MARS EXPRESS"
INSTRUMENT_ID = HRSC
INSTRUMENT_NAME = "HIGH RESOLUTION STEREO CAMERA"
MISSION_NAME = "MARS EXPRESS"
MISSION_PHASE_NAME = ME_Phase_50
PROCESSING_LEVEL_ID = 4
PRODUCT_CREATION_TIME = 2024-08-20T18:09:15.000Z
PRODUCT_ID = "HP531_0000_P24.TIF"
RELEASE_ID = 0013
REVISION_ID = 0000
/* QUALITY DATA ELEMENTS */
DATA_QUALITY_ID = 1
DATA_QUALITY_DESC = "Data calculated based on original SPICE kernels"
/* TIME DATA ELEMENTS */
SPACECRAFT_CLOCK_START_COUNT = "1/0659187258.65118"
SPACECRAFT_CLOCK_STOP_COUNT = "1/0659187539.53735"
START_TIME = 2024-03-22T11:35:15.873Z
STOP_TIME = 2024-03-22T11:38:45.485Z
/* ORBITAL DATA ELEMENTS */
ASCENDING_NODE_LONGITUDE = 100.65
MAXIMUM_RESOLUTION = 0.0286
FOOTPRINT_POINT_LATITUDE = (-85.826,-85.5354,-85.2279,-84.8418, -84.8313,-84.7541,-84.5104,-84.2429, -83.9543,-83.6477,-83.3254,-83.1591, -82.9896,-82.8155,-82.6063,-82.3933, -82.1771,-81.9578,-80.2866,-80.0494, -79.8106,-79.5703,-79.2064,-78.963, -78.7184,-78.4724,-78.2253,-77.8522, -77.6026,-77.2269,-76.8479,-76.5938, -76.2118,-75.8311,-75.0809,-74.8235, -74.5642,-74.176,-73.9162,-73.52, -73.2519,-72.9822,-72.7131,-72.4451, -72.1742,-71.8964,-71.4798,-71.3414, -71.3305,-71.457,-71.5863,-71.6382, -71.7194,-71.7225,-71.7242,-72.0051, -72.4262,-72.8407,-73.1128,-73.3852, -73.6548,-73.9287,-74.1976,-74.4609, -74.7239,-74.9864,-75.2481,-75.5104, -76.2729,-76.5326,-76.7929,-77.1815, -77.4395,-77.6968,-77.9557,-78.2122, -78.4679,-78.8511,-79.2313,-79.4843, -79.8627,-80.1143,-80.3641,-80.6151, -80.9863,-82.7545,-82.9899,-83.223, -83.4538,-83.6668,-83.8558,-84.0424, -84.2266,-84.4081,-84.8483,-85.2647, -85.5756,-85.7233,-85.7945,-85.826)
FOOTPRINT_POINT_LONGITUDE = (177.827,174.962,172.401,169.701, 169.634,169.429,173.335,176.891,180.116 ,183.036,185.677,186.902,188.067, 189.187,190.442,191.625,192.741,193.797 ,199.977,200.657,201.305,201.921,202.79 ,203.339,203.863,204.363,204.842,205.52 ,205.948,206.56,207.131,207.492,208.008 ,208.501,209.377,209.656,209.922, 210.308,210.553,210.91,211.141,211.362, 211.577,211.787,211.989,212.188,212.475 ,212.569,212.576,213.933,215.465, 216.154,217.297,217.343,217.359,217.212 ,216.983,216.745,216.582,216.413, 216.238,216.057,215.87,215.681,215.484, 215.281,215.07,214.851,214.161,213.906, 213.641,213.222,212.928,212.622,212.302 ,211.967,211.618,211.062,210.466, 210.045,209.372,208.894,208.391,207.86, 207.009,201.622,200.671,199.654,198.564 ,197.474,196.432,195.323,194.143, 192.885,189.357,185.186,181.301,179.148 ,178.016,177.827)
ORBIT_NUMBER = 25531
ORBITAL_ECCENTRICITY = 0.574
ORBITAL_INCLINATION = 87.08
ORBITAL_SEMIMAJOR_AXIS = 8753.87
PERIAPSIS_ALTITUDE = 355.97
PERIAPSIS_ARGUMENT_ANGLE = 267.71
PERIAPSIS_TIME = 2024-03-22T11:34:07.000Z
SPACECRAFT_ORIENTATION = (0.0,1.0,0.0)
^MEX_ORIENTATION_DESC = "MEX_ORIENTATION_DESC.TXT"
SPACECRAFT_POINTING_MODE = INERT
^MEX_POINTING_DESC = "MEX_POINTING_DESC.TXT"
RIGHT_ASCENSION = 328.72
DECLINATION = 43.076
OFFSET_ANGLE = -1e+32
SPACECRAFT_SOLAR_DISTANCE = 2.08994e+08
TARGET_NAME = MARS
/* CAMERA DATA ELEMENTS */
DETECTOR_TEMPERATURE = 18.7783
FOCAL_PLANE_TEMPERATURE = 8.5833
INST_CMPRS_NAME = "DISCRETE COSINE TRANSFORMATION (DCT)"
INST_CMPRS_RATIO = 3.56922
INST_CMPRS_QUALITY = 0
INST_CMPRS_QUANTZ_TBL_ID = 0
INSTRUMENT_TEMPERATURE = 11.234
LENS_TEMPERATURE = 8.9911
MACROPIXEL_SIZE = 2
MISSING_FRAMES = 532
PIXEL_SUBSAMPLING_FLAG = N
SIGNAL_CHAIN_ID = 3
/* RADIOMETRIC DATA ELEMENTS */
BANDWIDTH = 177.0
CENTER_FILTER_WAVELENGTH = 676.5
RADIANCE_OFFSET = 4.47275
RADIANCE_SCALING_FACTOR = 0.0431041
REFLECTANCE_SCALING_FACTOR = 0.000998255
MEX:REFLECTANCE_OFFSET = 0.103585
/* IMAGE OBJECT DEFINITIONS */
OBJECT = IMAGE
  INTERCHANGE_FORMAT = BINARY
  LINES = 35199
  LINE_SAMPLES = 14923
  SAMPLE_TYPE = UNSIGNED_INTEGER
  SAMPLE_BITS = 8
  BANDS = 1
  BAND_STORAGE_TYPE = BAND_SEQUENTIAL
  MAXIMUM = 255
  MEAN = 94.2598
  MINIMUM = 1
  STANDARD_DEVIATION = 48.6358
END_OBJECT = IMAGE
/* MAP OBJECT DEFINITIONS */
OBJECT = IMAGE_MAP_PROJECTION
  ^DATA_SET_MAP_PROJECTION_CATALOG= "DSMAP.CAT"
  A_AXIS_RADIUS = 3396.0
  B_AXIS_RADIUS = 3396.0
  C_AXIS_RADIUS = 3396.0
  CENTER_LATITUDE = -78.6135
  CENTER_LONGITUDE = 207.755
  COORDINATE_SYSTEM_NAME = PLANETOGRAPHIC
  COORDINATE_SYSTEM_TYPE = "BODY-FIXED ROTATING"
  EASTERNMOST_LONGITUDE = 217.359
  FIRST_STANDARD_PARALLEL = "N/A"
  LINE_FIRST_PIXEL = 1
  LINE_LAST_PIXEL = 35199
  LINE_PROJECTION_OFFSET = 17009.25
  MAP_PROJECTION_ROTATION = 0.0
  MAP_PROJECTION_TYPE = ORTHOGRAPHIC
  MAP_RESOLUTION = 2370.85521546667
  MAP_SCALE = 0.025
  MAXIMUM_LATITUDE = -71.3305
  MINIMUM_LATITUDE = -85.82599999999999
  POSITIVE_LONGITUDE_DIRECTION = EAST
  REFERENCE_LATITUDE = "N/A"
  REFERENCE_LONGITUDE = "N/A"
  SAMPLE_FIRST_PIXEL = 1
  SAMPLE_LAST_PIXEL = 14923
  SAMPLE_PROJECTION_OFFSET = 7809.75
  SECOND_STANDARD_PARALLEL = "N/A"
  WESTERNMOST_LONGITUDE = 169.429
END_OBJECT = IMAGE_MAP_PROJECTION
END
