PDS_VERSION_ID = PDS3
/* FILE DATA ELEMENTS */
RECORD_TYPE = UNDEFINED
/* POINTERS TO DATA OBJECTS */
^IMAGE = ("HP525_0000_S14.TIF")
/* IDENTIFICATION DATA ELEMENTS */
DATA_SET_ID = "MEX-M-HRSC-4-REFDR-MAPPROJECT-EXT9-V4.0"
DATA_SET_NAME = "MARS EXPRESS HRSC MAP PROJECTED REFDR EXTENSION9 V4.0"
DETECTOR_ID = MEX_HRSC_S1
EVENT_TYPE = "MARS-REGIONAL-MAPPING-Im-Gl-Pf"
INSTRUMENT_HOST_ID = MEX
INSTRUMENT_HOST_NAME = "MARS EXPRESS"
INSTRUMENT_ID = HRSC
INSTRUMENT_NAME = "HIGH RESOLUTION STEREO CAMERA"
MISSION_NAME = "MARS EXPRESS"
MISSION_PHASE_NAME = ME_Phase_50
PROCESSING_LEVEL_ID = 4
PRODUCT_CREATION_TIME = 2024-08-20T18:09:15.000Z
PRODUCT_ID = "HP525_0000_S14.TIF"
RELEASE_ID = 0013
REVISION_ID = 0000
/* QUALITY DATA ELEMENTS */
DATA_QUALITY_ID = 1
DATA_QUALITY_DESC = "Data calculated based on original SPICE kernels"
/* TIME DATA ELEMENTS */
SPACECRAFT_CLOCK_START_COUNT = "1/0659036391.64173"
SPACECRAFT_CLOCK_STOP_COUNT = "1/0659036617.36633"
START_TIME = 2024-03-20T17:41:45.334Z
STOP_TIME = 2024-03-20T17:44:23.042Z
/* ORBITAL DATA ELEMENTS */
ASCENDING_NODE_LONGITUDE = 100.75
MAXIMUM_RESOLUTION = 0.0309
FOOTPRINT_POINT_LATITUDE = (-85.2402,-85.1344,-85.0507,-84.8682, -84.6685,-84.662,-84.74,-84.4527, -84.1143,-83.8522,-83.5833,-83.314, -83.1322,-82.9496,-82.7665,-82.5826, -82.3058,-82.022,-81.8356,-81.6492, -81.3685,-81.1812,-80.9939,-80.8064, -80.6188,-80.4311,-80.2437,-79.962, -79.7743,-79.5866,-79.2159,-78.9338, -78.6526,-78.4642,-78.182,-77.9936, -77.6183,-77.4294,-77.0539,-76.8588, -76.6635,-76.4705,-76.2796,-76.0905, -75.9003,-75.6138,-75.5154,-75.4967, -75.5492,-75.6132,-75.6629,-75.7024, -75.7544,-75.7561,-75.7573,-76.0464, -76.2394,-76.4335,-76.63,-76.8285, -77.0238,-77.2206,-77.6025,-77.8886, -78.0796,-78.2709,-78.651,-78.8423, -79.1301,-79.3221,-79.5148,-79.7081, -79.9044,-80.1936,-80.3835,-80.6735, -80.8672,-81.0611,-81.2549,-81.4487, -81.6426,-81.8368,-82.0312,-82.2256, -82.42,-82.6146,-82.8086,-83.0022, -83.292,-83.4857,-83.6794,-83.873, -84.0664,-84.3559,-84.5488,-84.7406, -84.9322,-85.2602,-85.339,-85.2402)
FOOTPRINT_POINT_LONGITUDE = (102.09,99.1053,97.0399,93.1717,89.6363 ,89.531,89.0223,90.8318,92.6995,93.9837 ,95.1751,96.2606,96.9389,97.581,98.1888 ,98.7656,99.5767,100.342,100.815, 101.264,101.9,102.3,102.683,103.048, 103.398,103.733,104.054,104.511,104.801 ,105.079,105.598,105.967,106.315, 106.538,106.858,107.062,107.448,107.633 ,107.982,108.155,108.323,108.483, 108.637,108.784,108.928,109.137,109.206 ,109.219,110.22,111.69,112.731,113.615, 115.105,115.165,115.187,115.051,114.963 ,114.874,114.787,114.701,114.604, 114.508,114.305,114.142,114.029,113.912 ,113.659,113.528,113.324,113.181, 113.034,112.883,112.733,112.481,112.295 ,112.017,111.821,111.618,111.403, 111.179,110.944,110.698,110.441,110.169 ,109.884,109.583,109.264,108.926, 108.379,107.989,107.575,107.134,106.664 ,105.896,105.34,104.739,104.092,102.85, 102.52,102.09)
ORBIT_NUMBER = 25525
ORBITAL_ECCENTRICITY = 0.574
ORBITAL_INCLINATION = 87.08
ORBITAL_SEMIMAJOR_AXIS = 8753.86
PERIAPSIS_ALTITUDE = 356.35
PERIAPSIS_ARGUMENT_ANGLE = 268.7
PERIAPSIS_TIME = 2024-03-20T17:39:45.000Z
SPACECRAFT_ORIENTATION = (0.0,1.0,0.0)
^MEX_ORIENTATION_DESC = "MEX_ORIENTATION_DESC.TXT"
SPACECRAFT_POINTING_MODE = ACROSSTRACK
^MEX_POINTING_DESC = "MEX_POINTING_DESC.TXT"
RIGHT_ASCENSION = -1e+32
DECLINATION = -1e+32
OFFSET_ANGLE = -0.7
SPACECRAFT_SOLAR_DISTANCE = 2.09165e+08
TARGET_NAME = MARS
/* CAMERA DATA ELEMENTS */
DETECTOR_TEMPERATURE = 17.5549
FOCAL_PLANE_TEMPERATURE = 8.7872
INST_CMPRS_NAME = "DISCRETE COSINE TRANSFORMATION (DCT)"
INST_CMPRS_RATIO = 7.3045
INST_CMPRS_QUALITY = 0
INST_CMPRS_QUANTZ_TBL_ID = 0
INSTRUMENT_TEMPERATURE = 11.234
LENS_TEMPERATURE = 9.195
MACROPIXEL_SIZE = 2
MISSING_FRAMES = 0
PIXEL_SUBSAMPLING_FLAG = N
SIGNAL_CHAIN_ID = 1
/* RADIOMETRIC DATA ELEMENTS */
BANDWIDTH = 180.0
CENTER_FILTER_WAVELENGTH = 677.0
RADIANCE_OFFSET = 4.58002
RADIANCE_SCALING_FACTOR = 0.0284896
REFLECTANCE_SCALING_FACTOR = 0.000650288
MEX:REFLECTANCE_OFFSET = 0.104541
/* IMAGE OBJECT DEFINITIONS */
OBJECT = IMAGE
  INTERCHANGE_FORMAT = BINARY
  LINES = 23265
  LINE_SAMPLES = 8312
  SAMPLE_TYPE = UNSIGNED_INTEGER
  SAMPLE_BITS = 8
  BANDS = 1
  BAND_STORAGE_TYPE = BAND_SEQUENTIAL
  MAXIMUM = 255
  MEAN = 79.5877
  MINIMUM = 1
  STANDARD_DEVIATION = 52.4188
END_OBJECT = IMAGE
/* MAP OBJECT DEFINITIONS */
OBJECT = IMAGE_MAP_PROJECTION
  ^DATA_SET_MAP_PROJECTION_CATALOG= "DSMAP.CAT"
  A_AXIS_RADIUS = 3396.0
  B_AXIS_RADIUS = 3396.0
  C_AXIS_RADIUS = 3396.0
  CENTER_LATITUDE = -80.64960000000001
  CENTER_LONGITUDE = 107.589
  COORDINATE_SYSTEM_NAME = PLANETOGRAPHIC
  COORDINATE_SYSTEM_TYPE = "BODY-FIXED ROTATING"
  EASTERNMOST_LONGITUDE = 115.187
  FIRST_STANDARD_PARALLEL = "N/A"
  LINE_FIRST_PIXEL = 1
  LINE_LAST_PIXEL = 23265
  LINE_PROJECTION_OFFSET = 12139.25
  MAP_PROJECTION_ROTATION = 0.0
  MAP_PROJECTION_TYPE = ORTHOGRAPHIC
  MAP_RESOLUTION = 2370.85521546667
  MAP_SCALE = 0.025
  MAXIMUM_LATITUDE = -75.4967
  MINIMUM_LATITUDE = -85.339
  POSITIVE_LONGITUDE_DIRECTION = EAST
  REFERENCE_LATITUDE = "N/A"
  REFERENCE_LONGITUDE = "N/A"
  SAMPLE_FIRST_PIXEL = 1
  SAMPLE_LAST_PIXEL = 8312
  SAMPLE_PROJECTION_OFFSET = 3977.75
  SECOND_STANDARD_PARALLEL = "N/A"
  WESTERNMOST_LONGITUDE = 89.0223
END_OBJECT = IMAGE_MAP_PROJECTION
END
