PDS_VERSION_ID = PDS3
/* FILE DATA ELEMENTS */
RECORD_TYPE = UNDEFINED
/* POINTERS TO DATA OBJECTS */
^IMAGE = ("HP525_0000_BL4.TIF")
/* IDENTIFICATION DATA ELEMENTS */
DATA_SET_ID = "MEX-M-HRSC-4-REFDR-MAPPROJECT-EXT9-V4.0"
DATA_SET_NAME = "MARS EXPRESS HRSC MAP PROJECTED REFDR EXTENSION9 V4.0"
DETECTOR_ID = MEX_HRSC_BLUE
EVENT_TYPE = "MARS-REGIONAL-MAPPING-Im-Gl-Pf"
INSTRUMENT_HOST_ID = MEX
INSTRUMENT_HOST_NAME = "MARS EXPRESS"
INSTRUMENT_ID = HRSC
INSTRUMENT_NAME = "HIGH RESOLUTION STEREO CAMERA"
MISSION_NAME = "MARS EXPRESS"
MISSION_PHASE_NAME = ME_Phase_50
PROCESSING_LEVEL_ID = 4
PRODUCT_CREATION_TIME = 2024-08-20T18:09:15.000Z
PRODUCT_ID = "HP525_0000_BL4.TIF"
RELEASE_ID = 0013
REVISION_ID = 0000
/* QUALITY DATA ELEMENTS */
DATA_QUALITY_ID = 1
DATA_QUALITY_DESC = "Data calculated based on original SPICE kernels"
/* TIME DATA ELEMENTS */
SPACECRAFT_CLOCK_START_COUNT = "1/0659036391.64173"
SPACECRAFT_CLOCK_STOP_COUNT = "1/0659036617.36633"
START_TIME = 2024-03-20T17:41:06.449Z
STOP_TIME = 2024-03-20T17:43:37.625Z
/* ORBITAL DATA ELEMENTS */
ASCENDING_NODE_LONGITUDE = 100.75
MAXIMUM_RESOLUTION = 0.0572
FOOTPRINT_POINT_LATITUDE = (-85.3269,-85.2201,-85.1472,-85.0694, -84.987,-84.9003,-84.8097,-84.8039, -84.79,-84.5959,-84.4471,-84.2969, -84.0692,-83.9158,-83.6073,-83.1378, -82.8216,-82.5029,-82.183,-81.9965, -81.8038,-81.6105,-81.4168,-81.2227, -81.0281,-80.8331,-80.6377,-80.442, -80.1478,-79.9513,-79.7546,-79.4588, -79.2612,-78.9648,-78.767,-78.5693, -78.3716,-78.1735,-77.9755,-77.6781, -77.4799,-77.1825,-76.984,-76.7866, -76.5885,-76.2907,-76.0915,-75.8928, -75.6941,-75.5947,-75.5331,-75.5684, -75.6216,-75.6468,-75.6816,-75.7165, -75.7177,-75.7191,-76.0217,-76.2231, -76.4246,-76.6255,-76.9276,-77.1291, -77.3308,-77.5325,-77.8352,-78.0371, -78.34,-78.6432,-78.8452,-79.1482, -79.3503,-79.5523,-79.7541,-79.9558, -80.259,-80.4611,-80.7638,-80.9656, -81.1673,-81.4698,-81.6713,-81.8727, -82.074,-82.2752,-82.5647,-82.985, -83.3205,-83.5716,-83.9056,-84.0722, -84.2385,-84.4044,-84.57,-84.7352,-84.9 ,-85.1985,-85.2802,-85.3269)
FOOTPRINT_POINT_LONGITUDE = (101.421,98.0173,96.0243,94.109,92.2728 ,90.511,88.8223,88.7192,88.8479,90.1208 ,91.0256,91.8829,93.0873,93.8408, 95.2278,97.0701,98.1596,99.1544,100.062 ,100.555,101.038,101.499,101.938, 102.357,102.758,103.14,103.506,103.857, 104.355,104.67,104.973,105.405,105.679, 106.071,106.319,106.558,106.788,107.01, 107.224,107.532,107.727,108.009,108.189 ,108.361,108.529,108.772,108.928, 109.079,109.224,109.296,109.34,110.151, 111.487,112.218,113.461,114.926,114.981 ,114.999,114.855,114.765,114.673,114.59 ,114.448,114.349,114.245,114.138, 113.966,113.848,113.661,113.455,113.317 ,113.1,112.949,112.792,112.633,112.477, 112.199,112.003,111.707,111.499,111.278 ,110.927,110.68,110.421,110.149,109.863 ,109.422,108.71,108.072,107.551,106.791 ,106.379,105.943,105.481,104.99,104.465 ,103.914,102.796,102.462,101.421)
ORBIT_NUMBER = 25525
ORBITAL_ECCENTRICITY = 0.574
ORBITAL_INCLINATION = 87.08
ORBITAL_SEMIMAJOR_AXIS = 8753.86
PERIAPSIS_ALTITUDE = 356.35
PERIAPSIS_ARGUMENT_ANGLE = 268.7
PERIAPSIS_TIME = 2024-03-20T17:39:45.000Z
SPACECRAFT_ORIENTATION = (0.0,1.0,0.0)
^MEX_ORIENTATION_DESC = "MEX_ORIENTATION_DESC.TXT"
SPACECRAFT_POINTING_MODE = ACROSSTRACK
^MEX_POINTING_DESC = "MEX_POINTING_DESC.TXT"
RIGHT_ASCENSION = -1e+32
DECLINATION = -1e+32
OFFSET_ANGLE = -0.7
SPACECRAFT_SOLAR_DISTANCE = 2.09165e+08
TARGET_NAME = MARS
/* CAMERA DATA ELEMENTS */
DETECTOR_TEMPERATURE = 18.1666
FOCAL_PLANE_TEMPERATURE = 8.7872
INST_CMPRS_NAME = "DISCRETE COSINE TRANSFORMATION (DCT)"
INST_CMPRS_RATIO = 5.2395
INST_CMPRS_QUALITY = 0
INST_CMPRS_QUANTZ_TBL_ID = 0
INSTRUMENT_TEMPERATURE = 11.234
LENS_TEMPERATURE = 9.195
MACROPIXEL_SIZE = 4
PIXEL_SUBSAMPLING_FLAG = N
SIGNAL_CHAIN_ID = 2
/* RADIOMETRIC DATA ELEMENTS */
BANDWIDTH = 76.0
CENTER_FILTER_WAVELENGTH = 444.0
RADIANCE_OFFSET = 0.700595
RADIANCE_SCALING_FACTOR = 0.00355422
REFLECTANCE_SCALING_FACTOR = 0.000159764
MEX:REFLECTANCE_OFFSET = 0.0314921
/* IMAGE OBJECT DEFINITIONS */
OBJECT = IMAGE
  INTERCHANGE_FORMAT = BINARY
  LINES = 11633
  LINE_SAMPLES = 4156
  SAMPLE_TYPE = UNSIGNED_INTEGER
  SAMPLE_BITS = 8
  BANDS = 1
  BAND_STORAGE_TYPE = BAND_SEQUENTIAL
  MAXIMUM = 255
  MEAN = 122.096
  MINIMUM = 1
  STANDARD_DEVIATION = 56.3959
END_OBJECT = IMAGE
/* MAP OBJECT DEFINITIONS */
OBJECT = IMAGE_MAP_PROJECTION
  ^DATA_SET_MAP_PROJECTION_CATALOG= "DSMAP.CAT"
  A_AXIS_RADIUS = 3396.0
  B_AXIS_RADIUS = 3396.0
  C_AXIS_RADIUS = 3396.0
  CENTER_LATITUDE = -80.64960000000001
  CENTER_LONGITUDE = 107.589
  COORDINATE_SYSTEM_NAME = PLANETOGRAPHIC
  COORDINATE_SYSTEM_TYPE = "BODY-FIXED ROTATING"
  EASTERNMOST_LONGITUDE = 114.999
  FIRST_STANDARD_PARALLEL = "N/A"
  LINE_FIRST_PIXEL = 1
  LINE_LAST_PIXEL = 11633
  LINE_PROJECTION_OFFSET = 6069.375
  MAP_PROJECTION_ROTATION = 0.0
  MAP_PROJECTION_TYPE = ORTHOGRAPHIC
  MAP_RESOLUTION = 1185.42760773333
  MAP_SCALE = 0.05
  MAXIMUM_LATITUDE = -75.5331
  MINIMUM_LATITUDE = -85.32689999999999
  POSITIVE_LONGITUDE_DIRECTION = EAST
  REFERENCE_LATITUDE = "N/A"
  REFERENCE_LONGITUDE = "N/A"
  SAMPLE_FIRST_PIXEL = 1
  SAMPLE_LAST_PIXEL = 4156
  SAMPLE_PROJECTION_OFFSET = 1988.625
  SECOND_STANDARD_PARALLEL = "N/A"
  WESTERNMOST_LONGITUDE = 88.7192
END_OBJECT = IMAGE_MAP_PROJECTION
END
