PDS_VERSION_ID = PDS3
/* FILE DATA ELEMENTS */
RECORD_TYPE = UNDEFINED
/* POINTERS TO DATA OBJECTS */
^IMAGE = ("HP517_0000_RE4.TIF")
/* IDENTIFICATION DATA ELEMENTS */
DATA_SET_ID = "MEX-M-HRSC-4-REFDR-MAPPROJECT-EXT9-V4.0"
DATA_SET_NAME = "MARS EXPRESS HRSC MAP PROJECTED REFDR EXTENSION9 V4.0"
DETECTOR_ID = MEX_HRSC_RED
EVENT_TYPE = "MARS-REGIONAL-MAPPING-Gl-Pf-La"
INSTRUMENT_HOST_ID = MEX
INSTRUMENT_HOST_NAME = "MARS EXPRESS"
INSTRUMENT_ID = HRSC
INSTRUMENT_NAME = "HIGH RESOLUTION STEREO CAMERA"
MISSION_NAME = "MARS EXPRESS"
MISSION_PHASE_NAME = ME_Phase_50
PROCESSING_LEVEL_ID = 4
PRODUCT_CREATION_TIME = 2024-08-20T18:09:15.000Z
PRODUCT_ID = "HP517_0000_RE4.TIF"
RELEASE_ID = 0013
REVISION_ID = 0000
/* QUALITY DATA ELEMENTS */
DATA_QUALITY_ID = 1
DATA_QUALITY_DESC = "Data calculated based on original SPICE kernels"
/* TIME DATA ELEMENTS */
SPACECRAFT_CLOCK_START_COUNT = "1/0658835210.65102"
SPACECRAFT_CLOCK_STOP_COUNT = "1/0658835499.47009"
START_TIME = 2024-03-18T09:47:43.778Z
STOP_TIME = 2024-03-18T09:51:12.206Z
/* ORBITAL DATA ELEMENTS */
ASCENDING_NODE_LONGITUDE = 100.88
MAXIMUM_RESOLUTION = 0.0589
FOOTPRINT_POINT_LATITUDE = (-85.0127,-84.7871,-84.5438,-84.199, -84.1904,-84.0889,-83.6399,-83.2608, -82.8669,-82.4607,-82.1492,-81.9384, -81.7255,-81.5107,-81.294,-80.9657, -80.7448,-80.5227,-80.2992,-80.0745, -79.8482,-79.5067,-79.2786,-79.0493, -78.819,-78.5465,-78.2707,-77.9929, -77.7132,-77.4334,-77.0125,-76.7305, -76.4483,-76.1657,-75.8837,-75.5982, -75.31,-75.0272,-74.7415,-74.4526, -74.1667,-73.8823,-73.463,-73.1752, -72.887,-72.6009,-72.1669,-71.8786, -71.7358,-71.6702,-71.8141,-71.8791, -71.9807,-71.9829,-71.9847,-72.4201, -72.856,-73.2925,-73.5837,-74.0205, -74.4564,-74.7472,-75.1822,-75.618, -75.9086,-76.1986,-76.4879,-76.7773, -77.2107,-77.4981,-77.7866,-78.2203, -78.508,-78.7945,-79.0792,-79.4681, -79.7066,-79.9444,-80.1817,-80.5365, -80.7724,-81.0076,-81.242,-81.4755, -81.708,-81.9396,-82.1701,-82.3994, -82.6275,-82.8541,-83.0791,-83.4134, -83.6339,-83.8521,-84.0679,-84.281, -84.5952,-84.8003,-84.9015,-85.0127)
FOOTPRINT_POINT_LONGITUDE = (181.925,178.897,176.089,172.716,172.64 ,172.78,176.727,179.494,181.958,184.159 ,185.657,186.589,187.474,188.313,189.11 ,190.232,190.934,191.603,192.241, 192.849,193.429,194.251,194.769,195.265 ,195.74,196.269,196.785,197.275,197.741 ,198.186,198.815,199.211,199.59,199.953 ,200.302,200.633,200.946,201.255, 201.548,201.825,202.096,202.359,202.746 ,202.981,203.208,203.429,203.74,203.94, 204.039,204.085,205.974,206.897,208.523 ,208.564,208.578,208.352,208.114, 207.862,207.686,207.409,207.116,206.911 ,206.589,206.245,206.003,205.751, 205.488,205.213,204.776,204.469,204.146 ,203.628,203.262,202.877,202.473, 201.885,201.501,201.099,200.677,200.003 ,199.525,199.021,198.49,197.93,197.338, 196.712,196.049,195.345,194.597,193.802 ,192.954,191.575,190.575,189.504, 188.355,187.119,185.084,183.592,182.801 ,181.925)
ORBIT_NUMBER = 25517
ORBITAL_ECCENTRICITY = 0.574
ORBITAL_INCLINATION = 87.08
ORBITAL_SEMIMAJOR_AXIS = 8753.82
PERIAPSIS_ALTITUDE = 355.95
PERIAPSIS_ARGUMENT_ANGLE = 270.05
PERIAPSIS_TIME = 2024-03-18T09:47:08.000Z
SPACECRAFT_ORIENTATION = (0.0,1.0,0.0)
^MEX_ORIENTATION_DESC = "MEX_ORIENTATION_DESC.TXT"
SPACECRAFT_POINTING_MODE = ACROSSTRACK
^MEX_POINTING_DESC = "MEX_POINTING_DESC.TXT"
RIGHT_ASCENSION = -1e+32
DECLINATION = -1e+32
OFFSET_ANGLE = 0.65
SPACECRAFT_SOLAR_DISTANCE = 2.09402e+08
TARGET_NAME = MARS
/* CAMERA DATA ELEMENTS */
DETECTOR_TEMPERATURE = 18.5744
FOCAL_PLANE_TEMPERATURE = 9.195
INST_CMPRS_NAME = "DISCRETE COSINE TRANSFORMATION (DCT)"
INST_CMPRS_RATIO = 5.14817
INST_CMPRS_QUALITY = 0
INST_CMPRS_QUANTZ_TBL_ID = 0
INSTRUMENT_TEMPERATURE = 11.6418
LENS_TEMPERATURE = 9.195
MACROPIXEL_SIZE = 4
MISSING_FRAMES = 0
PIXEL_SUBSAMPLING_FLAG = N
SIGNAL_CHAIN_ID = 2
/* RADIOMETRIC DATA ELEMENTS */
BANDWIDTH = 48.0
CENTER_FILTER_WAVELENGTH = 748.0
RADIANCE_OFFSET = 1.25091
RADIANCE_SCALING_FACTOR = 0.00700152
REFLECTANCE_SCALING_FACTOR = 0.00070062
MEX:REFLECTANCE_OFFSET = 0.125174
/* IMAGE OBJECT DEFINITIONS */
OBJECT = IMAGE
  INTERCHANGE_FORMAT = BINARY
  LINES = 15827
  LINE_SAMPLES = 6535
  SAMPLE_TYPE = UNSIGNED_INTEGER
  SAMPLE_BITS = 8
  BANDS = 1
  BAND_STORAGE_TYPE = BAND_SEQUENTIAL
  MAXIMUM = 255
  MEAN = 111.108
  MINIMUM = 1
  STANDARD_DEVIATION = 71.7587
END_OBJECT = IMAGE
/* MAP OBJECT DEFINITIONS */
OBJECT = IMAGE_MAP_PROJECTION
  ^DATA_SET_MAP_PROJECTION_CATALOG= "DSMAP.CAT"
  A_AXIS_RADIUS = 3396.0
  B_AXIS_RADIUS = 3396.0
  C_AXIS_RADIUS = 3396.0
  CENTER_LATITUDE = -78.8107
  CENTER_LONGITUDE = 199.379
  COORDINATE_SYSTEM_NAME = PLANETOGRAPHIC
  COORDINATE_SYSTEM_TYPE = "BODY-FIXED ROTATING"
  EASTERNMOST_LONGITUDE = 208.578
  FIRST_STANDARD_PARALLEL = "N/A"
  LINE_FIRST_PIXEL = 1
  LINE_LAST_PIXEL = 15827
  LINE_PROJECTION_OFFSET = 8373.125
  MAP_PROJECTION_ROTATION = 0.0
  MAP_PROJECTION_TYPE = ORTHOGRAPHIC
  MAP_RESOLUTION = 1185.42760773333
  MAP_SCALE = 0.05
  MAXIMUM_LATITUDE = -71.67019999999999
  MINIMUM_LATITUDE = -85.0127
  POSITIVE_LONGITUDE_DIRECTION = EAST
  REFERENCE_LATITUDE = "N/A"
  REFERENCE_LONGITUDE = "N/A"
  SAMPLE_FIRST_PIXEL = 1
  SAMPLE_LAST_PIXEL = 6535
  SAMPLE_PROJECTION_OFFSET = 3132.125
  SECOND_STANDARD_PARALLEL = "N/A"
  WESTERNMOST_LONGITUDE = 172.64
END_OBJECT = IMAGE_MAP_PROJECTION
END
