PDS_VERSION_ID = PDS3
/* FILE DATA ELEMENTS */
RECORD_TYPE = UNDEFINED
/* POINTERS TO DATA OBJECTS */
^IMAGE = ("HP517_0000_ND4.TIF")
/* IDENTIFICATION DATA ELEMENTS */
DATA_SET_ID = "MEX-M-HRSC-4-REFDR-MAPPROJECT-EXT9-V4.0"
DATA_SET_NAME = "MARS EXPRESS HRSC MAP PROJECTED REFDR EXTENSION9 V4.0"
DETECTOR_ID = MEX_HRSC_NADIR
EVENT_TYPE = "MARS-REGIONAL-MAPPING-Gl-Pf-La"
INSTRUMENT_HOST_ID = MEX
INSTRUMENT_HOST_NAME = "MARS EXPRESS"
INSTRUMENT_ID = HRSC
INSTRUMENT_NAME = "HIGH RESOLUTION STEREO CAMERA"
MISSION_NAME = "MARS EXPRESS"
MISSION_PHASE_NAME = ME_Phase_50
PROCESSING_LEVEL_ID = 4
PRODUCT_CREATION_TIME = 2024-08-20T18:09:15.000Z
PRODUCT_ID = "HP517_0000_ND4.TIF"
RELEASE_ID = 0013
REVISION_ID = 0000
/* QUALITY DATA ELEMENTS */
DATA_QUALITY_ID = 1
DATA_QUALITY_DESC = "Data calculated based on original SPICE kernels"
/* TIME DATA ELEMENTS */
SPACECRAFT_CLOCK_START_COUNT = "1/0658835210.65102"
SPACECRAFT_CLOCK_STOP_COUNT = "1/0658835499.47009"
START_TIME = 2024-03-18T09:48:10.810Z
STOP_TIME = 2024-03-18T09:51:43.814Z
/* ORBITAL DATA ELEMENTS */
ASCENDING_NODE_LONGITUDE = 100.88
MAXIMUM_RESOLUTION = 0.0142
FOOTPRINT_POINT_LATITUDE = (-84.905,-84.6806,-84.436,-84.1379, -84.1293,-84.0822,-83.7277,-83.3559, -82.9696,-82.5711,-82.1625,-81.7451, -81.3205,-80.8897,-80.4536,-80.1913, -79.9274,-79.6616,-79.3956,-79.1281, -78.8596,-78.5896,-78.3195,-78.0488, -77.7769,-77.5046,-77.2318,-76.9584, -76.6844,-76.4102,-76.1357,-75.8609, -75.585,-75.3093,-75.0339,-74.758, -74.4814,-74.2052,-73.7899,-73.5145, -73.238,-72.9614,-72.6789,-72.3949, -72.1107,-71.8269,-71.6854,-71.6709, -71.724,-71.7739,-71.8408,-71.9341, -71.9361,-71.9374,-72.2249,-72.5126, -72.8005,-73.2316,-73.5123,-73.7931, -74.074,-74.4975,-74.7786,-75.0598, -75.341,-75.6222,-75.9035,-76.1847, -76.4659,-76.747,-77.028,-77.3089, -77.5897,-77.8703,-78.1507,-78.4308, -78.7107,-78.9902,-79.2694,-79.5482, -79.8264,-80.1041,-80.3812,-80.6577, -81.0508,-81.51,-81.9662,-82.4187, -82.8666,-83.0886,-83.309,-83.5277, -83.7446,-83.9593,-84.1716,-84.3814, -84.5881,-84.7916,-84.892,-84.905)
FOOTPRINT_POINT_LONGITUDE = (182.846,179.563,176.506,173.324,173.24 ,172.807,175.977,178.795,181.303, 183.542,185.545,187.342,188.961,190.423 ,191.748,192.48,193.173,193.822,194.448 ,195.038,195.598,196.123,196.631, 197.117,197.574,198.011,198.43,198.829, 199.21,199.575,199.926,200.263,200.576, 200.881,201.18,201.463,201.73,201.992, 202.382,202.632,202.86,203.078,203.297, 203.507,203.706,203.902,204.002,204.011 ,204.794,205.58,206.731,208.606,208.651 ,208.674,208.526,208.374,208.216, 207.968,207.799,207.624,207.443,207.156 ,206.956,206.749,206.533,206.308, 206.073,205.828,205.573,205.307,205.028 ,204.736,204.431,204.111,203.775, 203.423,203.052,202.662,202.251,201.817 ,201.359,200.875,200.361,199.817, 198.981,197.898,196.69,195.334,193.805, 192.965,192.069,191.112,190.087,188.988 ,187.808,186.539,185.171,183.694, 182.912,182.846)
ORBIT_NUMBER = 25517
ORBITAL_ECCENTRICITY = 0.574
ORBITAL_INCLINATION = 87.08
ORBITAL_SEMIMAJOR_AXIS = 8753.82
PERIAPSIS_ALTITUDE = 355.95
PERIAPSIS_ARGUMENT_ANGLE = 270.05
PERIAPSIS_TIME = 2024-03-18T09:47:08.000Z
SPACECRAFT_ORIENTATION = (0.0,1.0,0.0)
^MEX_ORIENTATION_DESC = "MEX_ORIENTATION_DESC.TXT"
SPACECRAFT_POINTING_MODE = ACROSSTRACK
^MEX_POINTING_DESC = "MEX_POINTING_DESC.TXT"
RIGHT_ASCENSION = -1e+32
DECLINATION = -1e+32
OFFSET_ANGLE = 0.65
SPACECRAFT_SOLAR_DISTANCE = 2.09402e+08
TARGET_NAME = MARS
/* CAMERA DATA ELEMENTS */
DETECTOR_TEMPERATURE = 18.5744
FOCAL_PLANE_TEMPERATURE = 9.195
INST_CMPRS_NAME = "DISCRETE COSINE TRANSFORMATION (DCT)"
INST_CMPRS_RATIO = 4.3959
INST_CMPRS_QUALITY = 0
INST_CMPRS_QUANTZ_TBL_ID = 0
INSTRUMENT_TEMPERATURE = 11.6418
LENS_TEMPERATURE = 9.195
MACROPIXEL_SIZE = 1
MISSING_FRAMES = 0
MISSING_FRAMES = 1
PIXEL_SUBSAMPLING_FLAG = N
SIGNAL_CHAIN_ID = 0
/* RADIOMETRIC DATA ELEMENTS */
BANDWIDTH = 177.0
CENTER_FILTER_WAVELENGTH = 677.5
RADIANCE_OFFSET = 3.84857
RADIANCE_SCALING_FACTOR = 0.0417822
REFLECTANCE_SCALING_FACTOR = 0.000973278
MEX:REFLECTANCE_OFFSET = 0.0896489
/* IMAGE OBJECT DEFINITIONS */
OBJECT = IMAGE
  INTERCHANGE_FORMAT = BINARY
  LINES = 63306
  LINE_SAMPLES = 26137
  SAMPLE_TYPE = UNSIGNED_INTEGER
  SAMPLE_BITS = 8
  BANDS = 1
  BAND_STORAGE_TYPE = BAND_SEQUENTIAL
  MAXIMUM = 255
  MEAN = 71.9406
  MINIMUM = 1
  STANDARD_DEVIATION = 45.9703
END_OBJECT = IMAGE
/* MAP OBJECT DEFINITIONS */
OBJECT = IMAGE_MAP_PROJECTION
  ^DATA_SET_MAP_PROJECTION_CATALOG= "DSMAP.CAT"
  A_AXIS_RADIUS = 3396.0
  B_AXIS_RADIUS = 3396.0
  C_AXIS_RADIUS = 3396.0
  CENTER_LATITUDE = -78.8107
  CENTER_LONGITUDE = 199.379
  COORDINATE_SYSTEM_NAME = PLANETOGRAPHIC
  COORDINATE_SYSTEM_TYPE = "BODY-FIXED ROTATING"
  EASTERNMOST_LONGITUDE = 208.674
  FIRST_STANDARD_PARALLEL = "N/A"
  LINE_FIRST_PIXEL = 1
  LINE_LAST_PIXEL = 63306
  LINE_PROJECTION_OFFSET = 33494.0
  MAP_PROJECTION_ROTATION = 0.0
  MAP_PROJECTION_TYPE = ORTHOGRAPHIC
  MAP_RESOLUTION = 4741.71043093333
  MAP_SCALE = 0.0125
  MAXIMUM_LATITUDE = -71.6709
  MINIMUM_LATITUDE = -84.905
  POSITIVE_LONGITUDE_DIRECTION = EAST
  REFERENCE_LATITUDE = "N/A"
  REFERENCE_LONGITUDE = "N/A"
  SAMPLE_FIRST_PIXEL = 1
  SAMPLE_LAST_PIXEL = 26137
  SAMPLE_PROJECTION_OFFSET = 12530.0
  SECOND_STANDARD_PARALLEL = "N/A"
  WESTERNMOST_LONGITUDE = 172.807
END_OBJECT = IMAGE_MAP_PROJECTION
END
