PDS_VERSION_ID = PDS3
/* FILE DATA ELEMENTS */
RECORD_TYPE = UNDEFINED
/* POINTERS TO DATA OBJECTS */
^IMAGE = ("HP508_0000_RE4.TIF")
/* IDENTIFICATION DATA ELEMENTS */
DATA_SET_ID = "MEX-M-HRSC-4-REFDR-MAPPROJECT-EXT9-V4.0"
DATA_SET_NAME = "MARS EXPRESS HRSC MAP PROJECTED REFDR EXTENSION9 V4.0"
DETECTOR_ID = MEX_HRSC_RED
EVENT_TYPE = "MARS-REGIONAL-MAPPING-Gl-La"
INSTRUMENT_HOST_ID = MEX
INSTRUMENT_HOST_NAME = "MARS EXPRESS"
INSTRUMENT_ID = HRSC
INSTRUMENT_NAME = "HIGH RESOLUTION STEREO CAMERA"
MISSION_NAME = "MARS EXPRESS"
MISSION_PHASE_NAME = ME_Phase_50
PROCESSING_LEVEL_ID = 4
PRODUCT_CREATION_TIME = 2024-08-20T18:09:15.000Z
PRODUCT_ID = "HP508_0000_RE4.TIF"
RELEASE_ID = 0013
REVISION_ID = 0000
/* QUALITY DATA ELEMENTS */
DATA_QUALITY_ID = 1
DATA_QUALITY_DESC = "Data calculated based on original SPICE kernels"
/* TIME DATA ELEMENTS */
SPACECRAFT_CLOCK_START_COUNT = "1/0658608749.39842"
SPACECRAFT_CLOCK_STOP_COUNT = "1/0658608974.59500"
START_TIME = 2024-03-15T18:53:23.107Z
STOP_TIME = 2024-03-15T18:54:52.395Z
/* ORBITAL DATA ELEMENTS */
ASCENDING_NODE_LONGITUDE = 101.04
MAXIMUM_RESOLUTION = 0.0587
FOOTPRINT_POINT_LATITUDE = (-84.6217,-84.5673,-84.4843,-84.3741, -84.2752,-84.1965,-84.096,-84.0114, -84.0047,-84.055,-84.1909,-84.3687, -84.5416,-84.7539,-84.8371,-84.9598, -85.1573,-85.2723,-85.3472,-85.4206, -85.5269,-85.6623,-85.7274,-85.8213, -85.9102,-85.9939,-86.0466,-86.1439, -86.1885,-86.2302,-86.2689,-86.3046, -86.337,-86.3793,-86.4033,-86.4329, -86.4546,-86.4645,-86.4706,-86.4729, -86.4716,-86.4621,-86.4512,-86.4368, -86.4184,-86.3972,-86.3723,-86.3584, -86.3494,-86.5376,-86.7362,-86.9117, -87.0209,-87.2271,-87.3883,-87.5057, -87.5163,-87.5202,-87.5811,-87.631, -87.658,-87.6794,-87.7021,-87.7093, -87.7108,-87.7066,-87.6969,-87.6816, -87.6484,-87.6198,-87.5674,-87.481, -87.4053,-87.3495,-87.2904,-87.1631, -87.0938,-86.9857,-86.9103,-86.795, -86.7134,-86.6311,-86.5044,-86.4177, -86.3297,-86.24,-86.1493,-86.0128, -85.9195,-85.8249,-85.7297,-85.6334, -85.4404,-85.2952,-85.1963,-85.0957, -84.9949,-84.7927,-84.7421,-84.6217)
FOOTPRINT_POINT_LONGITUDE = (263.343,264.55,266.259,268.326,270.018 ,271.273,272.773,273.958,274.047, 274.786,275.775,277.158,278.608,280.581 ,281.42,282.729,285.041,286.536,287.575 ,288.654,290.311,292.64,293.874,295.796 ,297.806,299.898,301.352,304.326, 305.878,307.478,309.107,310.777,312.474 ,315.081,316.85,319.535,322.245,324.078 ,325.923,327.778,329.631,332.515, 334.354,336.179,337.994,339.773,341.532 ,342.406,342.95,343.767,344.743,345.72, 346.389,347.813,349.104,350.167,350.267 ,350.283,346.52,342.594,339.902,337.134 ,332.752,329.9,327.038,324.182,321.351, 318.551,314.436,311.77,307.9,303.021, 299.602,297.428,295.352,291.488,289.674 ,287.125,285.525,283.287,281.868, 280.528,278.637,277.452,276.323,275.248 ,274.223,272.783,271.873,271.004, 270.174,269.381,267.901,266.874,266.223 ,265.596,264.995,263.866,263.598, 263.343)
ORBIT_NUMBER = 25508
ORBITAL_ECCENTRICITY = 0.574
ORBITAL_INCLINATION = 87.07
ORBITAL_SEMIMAJOR_AXIS = 8754.23
PERIAPSIS_ALTITUDE = 356.27
PERIAPSIS_ARGUMENT_ANGLE = 271.56
PERIAPSIS_TIME = 2024-03-15T18:55:28.000Z
SPACECRAFT_ORIENTATION = (0.0,1.0,0.0)
^MEX_ORIENTATION_DESC = "MEX_ORIENTATION_DESC.TXT"
SPACECRAFT_POINTING_MODE = NADIR
^MEX_POINTING_DESC = "MEX_POINTING_DESC.TXT"
RIGHT_ASCENSION = -1e+32
DECLINATION = -1e+32
OFFSET_ANGLE = -1e+32
SPACECRAFT_SOLAR_DISTANCE = 2.0968e+08
TARGET_NAME = MARS
/* CAMERA DATA ELEMENTS */
DETECTOR_TEMPERATURE = 0.0
FOCAL_PLANE_TEMPERATURE = 0.0
INST_CMPRS_NAME = "DISCRETE COSINE TRANSFORMATION (DCT)"
INST_CMPRS_RATIO = 6.55482
INST_CMPRS_QUALITY = 0
INST_CMPRS_QUANTZ_TBL_ID = 0
INSTRUMENT_TEMPERATURE = 0.0
LENS_TEMPERATURE = 0.0
MACROPIXEL_SIZE = 4
MISSING_FRAMES = 1
PIXEL_SUBSAMPLING_FLAG = N
SIGNAL_CHAIN_ID = 2
/* RADIOMETRIC DATA ELEMENTS */
BANDWIDTH = 48.0
CENTER_FILTER_WAVELENGTH = 748.0
RADIANCE_OFFSET = 0.868762
RADIANCE_SCALING_FACTOR = 0.00803817
REFLECTANCE_SCALING_FACTOR = 0.000806482
MEX:REFLECTANCE_OFFSET = 0.0871642
/* IMAGE OBJECT DEFINITIONS */
OBJECT = IMAGE
  INTERCHANGE_FORMAT = BINARY
  LINES = 4361
  LINE_SAMPLES = 4479
  SAMPLE_TYPE = UNSIGNED_INTEGER
  SAMPLE_BITS = 8
  BANDS = 1
  BAND_STORAGE_TYPE = BAND_SEQUENTIAL
  MAXIMUM = 215
  MEAN = 114.942
  MINIMUM = 1
  STANDARD_DEVIATION = 30.0946
END_OBJECT = IMAGE
/* MAP OBJECT DEFINITIONS */
OBJECT = IMAGE_MAP_PROJECTION
  ^DATA_SET_MAP_PROJECTION_CATALOG= "DSMAP.CAT"
  A_AXIS_RADIUS = 3396.0
  B_AXIS_RADIUS = 3396.0
  C_AXIS_RADIUS = 3396.0
  CENTER_LATITUDE = -85.9928
  CENTER_LONGITUDE = 284.606
  COORDINATE_SYSTEM_NAME = PLANETOGRAPHIC
  COORDINATE_SYSTEM_TYPE = "BODY-FIXED ROTATING"
  EASTERNMOST_LONGITUDE = 350.283
  FIRST_STANDARD_PARALLEL = "N/A"
  LINE_FIRST_PIXEL = 1
  LINE_LAST_PIXEL = 4361
  LINE_PROJECTION_OFFSET = 2183.375
  MAP_PROJECTION_ROTATION = 0.0
  MAP_PROJECTION_TYPE = ORTHOGRAPHIC
  MAP_RESOLUTION = 1185.42760773333
  MAP_SCALE = 0.05
  MAXIMUM_LATITUDE = -84.0047
  MINIMUM_LATITUDE = -87.71080000000001
  POSITIVE_LONGITUDE_DIRECTION = EAST
  REFERENCE_LATITUDE = "N/A"
  REFERENCE_LONGITUDE = "N/A"
  SAMPLE_FIRST_PIXEL = 1
  SAMPLE_LAST_PIXEL = 4479
  SAMPLE_PROJECTION_OFFSET = 2239.375
  SECOND_STANDARD_PARALLEL = "N/A"
  WESTERNMOST_LONGITUDE = 263.343
END_OBJECT = IMAGE_MAP_PROJECTION
END
