PDS_VERSION_ID = PDS3
/* FILE DATA ELEMENTS */
RECORD_TYPE = UNDEFINED
/* POINTERS TO DATA OBJECTS */
^IMAGE = ("HP500_0000_GR4.TIF")
/* IDENTIFICATION DATA ELEMENTS */
DATA_SET_ID = "MEX-M-HRSC-4-REFDR-MAPPROJECT-EXT9-V4.0"
DATA_SET_NAME = "MARS EXPRESS HRSC MAP PROJECTED REFDR EXTENSION9 V4.0"
DETECTOR_ID = MEX_HRSC_GREEN
EVENT_TYPE = "MARS-REGIONAL-MAPPING-Gl-La"
INSTRUMENT_HOST_ID = MEX
INSTRUMENT_HOST_NAME = "MARS EXPRESS"
INSTRUMENT_ID = HRSC
INSTRUMENT_NAME = "HIGH RESOLUTION STEREO CAMERA"
MISSION_NAME = "MARS EXPRESS"
MISSION_PHASE_NAME = ME_Phase_50
PROCESSING_LEVEL_ID = 4
PRODUCT_CREATION_TIME = 2024-08-19T12:52:58.000Z
PRODUCT_ID = "HP500_0000_GR4.TIF"
RELEASE_ID = 0012
REVISION_ID = 0000
/* QUALITY DATA ELEMENTS */
DATA_QUALITY_ID = 1
DATA_QUALITY_DESC = "Data calculated based on original SPICE kernels"
/* TIME DATA ELEMENTS */
SPACECRAFT_CLOCK_START_COUNT = "1/0658407557.00344"
SPACECRAFT_CLOCK_STOP_COUNT = "1/0658407884.33925"
START_TIME = 2024-03-13T11:00:45.852Z
STOP_TIME = 2024-03-13T11:05:00.809Z
/* ORBITAL DATA ELEMENTS */
ASCENDING_NODE_LONGITUDE = 101.18
MAXIMUM_RESOLUTION = 0.0567
FOOTPRINT_POINT_LATITUDE = (-84.2896,-84.1839,-84.0784,-83.9545, -83.9504,-83.9477,-84.2949,-84.6385, -85.1449,-85.6374,-85.9555,-86.241, -86.489,-86.7255,-86.9477,-87.1523, -87.335,-87.4911,-87.6642,-87.7315, -87.7516,-87.6732,-87.5705,-87.3524, -87.1715,-86.9685,-86.7475,-86.5121, -86.2646,-86.0076,-85.7425,-85.4712, -85.1949,-84.7719,-84.3403,-84.0495, -83.756,-83.4608,-83.1641,-82.8663, -82.2676,-81.6626,-81.0554,-80.7127, -80.3485,-79.8008,-79.4354,-79.0703, -78.8879,-78.7983,-78.9386,-78.9934, -78.9945,-78.9959,-79.3678,-79.7398, -80.1121,-80.4847,-80.8578,-81.2265, -81.8489,-82.161,-82.4732,-82.7853, -83.2542,-83.5681,-83.8787,-84.1887, -84.499,-84.8094,-85.2745,-85.5838, -85.8914,-86.3501,-86.6537,-86.9554, -87.401,-87.835,-88.114,-88.3806, -88.6247,-88.8346,-88.9864,-89.048, -88.9639,-88.7998,-88.583,-88.3341, -87.9267,-87.6434,-87.3512,-87.0522, -86.752,-86.2198,-85.8546,-85.3037, -84.9351,-84.5655,-84.3805,-84.2896)
FOOTPRINT_POINT_LONGITUDE = (345.457,350.517,354.102,357.453, 357.554,357.257,358.638,360.199,362.978 ,366.383,369.103,372.036,375.094, 378.605,382.649,387.301,392.641,398.709 ,409.135,416.802,428.804,440.503, 447.688,457.175,462.585,467.307,471.41, 474.973,478.071,480.774,483.142,485.228 ,487.077,489.473,491.493,492.677, 493.743,494.715,495.601,496.414,497.85, 499.053,500.091,500.627,501.136,501.822 ,502.24,502.631,502.818,502.909,507.172 ,509.725,509.794,509.817,509.654, 509.478,509.289,509.09,508.883,508.667, 508.161,507.901,507.621,507.316,506.833 ,506.508,506.059,505.553,505.01,504.419 ,503.403,502.61,501.671,499.952,498.544 ,496.872,493.611,489.033,484.834, 479.258,471.556,460.846,446.205,418.544 ,400.91,387.009,376.914,369.672,362.236 ,358.54,355.797,353.838,352.051,349.597 ,348.278,346.691,345.794,345.036, 344.676,345.457)
ORBIT_NUMBER = 25500
ORBITAL_ECCENTRICITY = 0.574
ORBITAL_INCLINATION = 87.07
ORBITAL_SEMIMAJOR_AXIS = 8755.12
PERIAPSIS_ALTITUDE = 357.1
PERIAPSIS_ARGUMENT_ANGLE = 272.89
PERIAPSIS_TIME = 2024-03-13T11:02:51.000Z
SPACECRAFT_ORIENTATION = (0.0,1.0,0.0)
^MEX_ORIENTATION_DESC = "MEX_ORIENTATION_DESC.TXT"
SPACECRAFT_POINTING_MODE = ACROSSTRACK
^MEX_POINTING_DESC = "MEX_POINTING_DESC.TXT"
RIGHT_ASCENSION = -1e+32
DECLINATION = -1e+32
OFFSET_ANGLE = -1.239
SPACECRAFT_SOLAR_DISTANCE = 2.09937e+08
TARGET_NAME = MARS
/* CAMERA DATA ELEMENTS */
DETECTOR_TEMPERATURE = 18.3705
FOCAL_PLANE_TEMPERATURE = 8.7872
INST_CMPRS_NAME = "DISCRETE COSINE TRANSFORMATION (DCT)"
INST_CMPRS_RATIO = 6.58974
INST_CMPRS_QUALITY = 0
INST_CMPRS_QUANTZ_TBL_ID = 0
INSTRUMENT_TEMPERATURE = 11.4379
LENS_TEMPERATURE = 8.1755
MACROPIXEL_SIZE = 4
MISSING_FRAMES = 0
PIXEL_SUBSAMPLING_FLAG = N
SIGNAL_CHAIN_ID = 2
/* RADIOMETRIC DATA ELEMENTS */
BANDWIDTH = 88.0
CENTER_FILTER_WAVELENGTH = 538.0
RADIANCE_OFFSET = 1.31402
RADIANCE_SCALING_FACTOR = 0.0116672
REFLECTANCE_SCALING_FACTOR = 0.000442728
MEX:REFLECTANCE_OFFSET = 0.0498622
/* IMAGE OBJECT DEFINITIONS */
OBJECT = IMAGE
  INTERCHANGE_FORMAT = BINARY
  LINES = 17705
  LINE_SAMPLES = 11276
  SAMPLE_TYPE = UNSIGNED_INTEGER
  SAMPLE_BITS = 8
  BANDS = 1
  BAND_STORAGE_TYPE = BAND_SEQUENTIAL
  MAXIMUM = 255
  MEAN = 83.0546
  MINIMUM = 1
  STANDARD_DEVIATION = 41.5173
END_OBJECT = IMAGE
/* MAP OBJECT DEFINITIONS */
OBJECT = IMAGE_MAP_PROJECTION
  ^DATA_SET_MAP_PROJECTION_CATALOG= "DSMAP.CAT"
  A_AXIS_RADIUS = 3396.0
  B_AXIS_RADIUS = 3396.0
  C_AXIS_RADIUS = 3396.0
  CENTER_LATITUDE = -86.8181
  CENTER_LONGITUDE = 124.466
  COORDINATE_SYSTEM_NAME = PLANETOGRAPHIC
  COORDINATE_SYSTEM_TYPE = "BODY-FIXED ROTATING"
  EASTERNMOST_LONGITUDE = 149.817
  FIRST_STANDARD_PARALLEL = "N/A"
  LINE_FIRST_PIXEL = 1
  LINE_LAST_PIXEL = 17705
  LINE_PROJECTION_OFFSET = 8787.125
  MAP_PROJECTION_ROTATION = 0.0
  MAP_PROJECTION_TYPE = ORTHOGRAPHIC
  MAP_RESOLUTION = 1185.42760773333
  MAP_SCALE = 0.05
  MAXIMUM_LATITUDE = -78.7983
  MINIMUM_LATITUDE = -89.048
  POSITIVE_LONGITUDE_DIRECTION = EAST
  REFERENCE_LATITUDE = "N/A"
  REFERENCE_LONGITUDE = "N/A"
  SAMPLE_FIRST_PIXEL = 1
  SAMPLE_LAST_PIXEL = 11276
  SAMPLE_PROJECTION_OFFSET = 5723.375
  SECOND_STANDARD_PARALLEL = "N/A"
  WESTERNMOST_LONGITUDE = -15.324
END_OBJECT = IMAGE_MAP_PROJECTION
END
