PDS_VERSION_ID = PDS3
/* FILE DATA ELEMENTS */
RECORD_TYPE = UNDEFINED
/* POINTERS TO DATA OBJECTS */
^IMAGE = ("HP479_0000_ND4.TIF")
/* IDENTIFICATION DATA ELEMENTS */
DATA_SET_ID = "MEX-M-HRSC-4-REFDR-MAPPROJECT-EXT9-V4.0"
DATA_SET_NAME = "MARS EXPRESS HRSC MAP PROJECTED REFDR EXTENSION9 V4.0"
DETECTOR_ID = MEX_HRSC_NADIR
EVENT_TYPE = "MARS-REGIONAL-MAPPING-Gl-Pf-La"
INSTRUMENT_HOST_ID = MEX
INSTRUMENT_HOST_NAME = "MARS EXPRESS"
INSTRUMENT_ID = HRSC
INSTRUMENT_NAME = "HIGH RESOLUTION STEREO CAMERA"
MISSION_NAME = "MARS EXPRESS"
MISSION_PHASE_NAME = ME_Phase_50
PROCESSING_LEVEL_ID = 4
PRODUCT_CREATION_TIME = 2024-08-19T12:52:58.000Z
PRODUCT_ID = "HP479_0000_ND4.TIF"
RELEASE_ID = 0012
REVISION_ID = 0000
/* QUALITY DATA ELEMENTS */
DATA_QUALITY_ID = 1
DATA_QUALITY_DESC = "Data calculated based on original SPICE kernels"
/* TIME DATA ELEMENTS */
SPACECRAFT_CLOCK_START_COUNT = "1/0657879605.00358"
SPACECRAFT_CLOCK_STOP_COUNT = "1/0657879839.32655"
START_TIME = 2024-03-07T08:21:24.989Z
STOP_TIME = 2024-03-07T08:24:10.990Z
/* ORBITAL DATA ELEMENTS */
ASCENDING_NODE_LONGITUDE = 101.54
MAXIMUM_RESOLUTION = 0.0141
FOOTPRINT_POINT_LATITUDE = (-86.4068,-86.1575,-85.9085,-85.6347, -85.6261,-85.6093,-85.4613,-85.3076, -85.1496,-84.9053,-84.737,-84.5656, -84.3909,-84.2133,-84.0332,-83.8506, -83.6659,-83.4793,-83.2909,-83.0051, -82.8127,-82.619,-82.4241,-82.228, -82.0308,-81.8326,-81.6336,-81.4337, -81.233,-81.0316,-80.8295,-80.6267, -80.4234,-80.2197,-80.0153,-79.8105, -79.6052,-79.1935,-78.7803,-78.4695, -78.0541,-77.6379,-77.3255,-76.9077, -76.4894,-76.0707,-75.9659,-75.8615, -75.9163,-75.9621,-76.0147,-76.052, -76.0823,-76.0839,-76.085,-76.5111, -76.9372,-77.363,-77.576,-77.789, -78.1083,-78.3213,-78.534,-78.7467, -79.0659,-79.2783,-79.4902,-79.7025, -79.9145,-80.2322,-80.4438,-80.6553, -80.8665,-81.0776,-81.3936,-81.604, -81.8141,-82.0238,-82.2332,-82.4422, -82.7549,-82.9628,-83.1702,-83.3769, -83.5831,-83.7884,-83.9929,-84.1966, -84.5001,-84.7012,-84.901,-85.0993, -85.2961,-85.4911,-85.6841,-85.8747, -86.0626,-86.2473,-86.3382,-86.4068)
FOOTPRINT_POINT_LONGITUDE = (105.272,100.191,96.1443,92.4937, 92.3907,92.225,94.2371,96.1147,97.8766, 100.318,101.81,103.213,104.526,105.758, 106.915,108.004,109.028,109.994,110.905 ,112.177,112.967,113.716,114.426, 115.099,115.738,116.345,116.923,117.473 ,117.997,118.497,118.974,119.43,119.866 ,120.284,120.684,121.067,121.434, 122.125,122.762,123.206,123.762,124.279 ,124.648,125.101,125.527,125.926, 126.022,126.116,127.167,128.129,129.358 ,130.337,131.226,131.278,131.304, 131.049,130.779,130.485,130.334,130.177 ,129.931,129.765,129.586,129.402, 129.123,128.918,128.69,128.467,128.234, 127.862,127.6,127.329,127.045,126.746, 126.269,125.932,125.576,125.201,124.806 ,124.391,123.72,123.24,122.731,122.19, 121.616,120.996,120.335,119.629,118.467 ,117.622,116.71,115.725,114.657,113.495 ,112.231,110.849,109.332,107.662,106.76 ,105.272)
ORBIT_NUMBER = 25479
ORBITAL_ECCENTRICITY = 0.574
ORBITAL_INCLINATION = 87.07
ORBITAL_SEMIMAJOR_AXIS = 8755.93
PERIAPSIS_ALTITUDE = 356.19
PERIAPSIS_ARGUMENT_ANGLE = 276.4
PERIAPSIS_TIME = 2024-03-07T08:22:18.000Z
SPACECRAFT_ORIENTATION = (0.0,1.0,0.0)
^MEX_ORIENTATION_DESC = "MEX_ORIENTATION_DESC.TXT"
SPACECRAFT_POINTING_MODE = ACROSSTRACK
^MEX_POINTING_DESC = "MEX_POINTING_DESC.TXT"
RIGHT_ASCENSION = -1e+32
DECLINATION = -1e+32
OFFSET_ANGLE = -0.269
SPACECRAFT_SOLAR_DISTANCE = 2.10655e+08
TARGET_NAME = MARS
/* CAMERA DATA ELEMENTS */
DETECTOR_TEMPERATURE = 18.3705
FOCAL_PLANE_TEMPERATURE = 8.1755
INST_CMPRS_NAME = "DISCRETE COSINE TRANSFORMATION (DCT)"
INST_CMPRS_RATIO = 4.89555
INST_CMPRS_QUALITY = 0
INST_CMPRS_QUANTZ_TBL_ID = 0
INSTRUMENT_TEMPERATURE = 11.4379
LENS_TEMPERATURE = 8.7872
MACROPIXEL_SIZE = 1
MISSING_FRAMES = 0
PIXEL_SUBSAMPLING_FLAG = N
SIGNAL_CHAIN_ID = 0
/* RADIOMETRIC DATA ELEMENTS */
BANDWIDTH = 177.0
CENTER_FILTER_WAVELENGTH = 677.5
RADIANCE_OFFSET = 2.78846
RADIANCE_SCALING_FACTOR = 0.0231721
REFLECTANCE_SCALING_FACTOR = 0.000546255
MEX:REFLECTANCE_OFFSET = 0.0657347
/* IMAGE OBJECT DEFINITIONS */
OBJECT = IMAGE
  INTERCHANGE_FORMAT = BINARY
  LINES = 50570
  LINE_SAMPLES = 20662
  SAMPLE_TYPE = UNSIGNED_INTEGER
  SAMPLE_BITS = 8
  BANDS = 1
  BAND_STORAGE_TYPE = BAND_SEQUENTIAL
  MAXIMUM = 255
  MEAN = 106.074
  MINIMUM = 1
  STANDARD_DEVIATION = 57.3335
END_OBJECT = IMAGE
/* MAP OBJECT DEFINITIONS */
OBJECT = IMAGE_MAP_PROJECTION
  ^DATA_SET_MAP_PROJECTION_CATALOG= "DSMAP.CAT"
  A_AXIS_RADIUS = 3396.0
  B_AXIS_RADIUS = 3396.0
  C_AXIS_RADIUS = 3396.0
  CENTER_LATITUDE = -81.2315
  CENTER_LONGITUDE = 122.281
  COORDINATE_SYSTEM_NAME = PLANETOGRAPHIC
  COORDINATE_SYSTEM_TYPE = "BODY-FIXED ROTATING"
  EASTERNMOST_LONGITUDE = 131.304
  FIRST_STANDARD_PARALLEL = "N/A"
  LINE_FIRST_PIXEL = 1
  LINE_LAST_PIXEL = 50570
  LINE_PROJECTION_OFFSET = 25277.0
  MAP_PROJECTION_ROTATION = 0.0
  MAP_PROJECTION_TYPE = ORTHOGRAPHIC
  MAP_RESOLUTION = 4741.71043093333
  MAP_SCALE = 0.0125
  MAXIMUM_LATITUDE = -75.86150000000001
  MINIMUM_LATITUDE = -86.4068
  POSITIVE_LONGITUDE_DIRECTION = EAST
  REFERENCE_LATITUDE = "N/A"
  REFERENCE_LONGITUDE = "N/A"
  SAMPLE_FIRST_PIXEL = 1
  SAMPLE_LAST_PIXEL = 20662
  SAMPLE_PROJECTION_OFFSET = 10415.0
  SECOND_STANDARD_PARALLEL = "N/A"
  WESTERNMOST_LONGITUDE = 92.22499999999999
END_OBJECT = IMAGE_MAP_PROJECTION
END
