PDS_VERSION_ID = PDS3
/* FILE DATA ELEMENTS */
RECORD_TYPE = UNDEFINED
/* POINTERS TO DATA OBJECTS */
^IMAGE = ("HP477_0000_BL4.TIF")
/* IDENTIFICATION DATA ELEMENTS */
DATA_SET_ID = "MEX-M-HRSC-4-REFDR-MAPPROJECT-EXT9-V4.0"
DATA_SET_NAME = "MARS EXPRESS HRSC MAP PROJECTED REFDR EXTENSION9 V4.0"
DETECTOR_ID = MEX_HRSC_BLUE
EVENT_TYPE = "MARS-REGIONAL-MAPPING-Gl-Pf-La"
INSTRUMENT_HOST_ID = MEX
INSTRUMENT_HOST_NAME = "MARS EXPRESS"
INSTRUMENT_ID = HRSC
INSTRUMENT_NAME = "HIGH RESOLUTION STEREO CAMERA"
MISSION_NAME = "MARS EXPRESS"
MISSION_PHASE_NAME = ME_Phase_50
PROCESSING_LEVEL_ID = 4
PRODUCT_CREATION_TIME = 2024-08-19T12:52:58.000Z
PRODUCT_ID = "HP477_0000_BL4.TIF"
RELEASE_ID = 0012
REVISION_ID = 0000
/* QUALITY DATA ELEMENTS */
DATA_QUALITY_ID = 1
DATA_QUALITY_DESC = "Data calculated based on original SPICE kernels"
/* TIME DATA ELEMENTS */
SPACECRAFT_CLOCK_START_COUNT = "1/0657829333.00341"
SPACECRAFT_CLOCK_STOP_COUNT = "1/0657829556.24781"
START_TIME = 2024-03-06T18:23:27.234Z
STOP_TIME = 2024-03-06T18:26:02.140Z
/* ORBITAL DATA ELEMENTS */
ASCENDING_NODE_LONGITUDE = 101.58
MAXIMUM_RESOLUTION = 0.0563
FOOTPRINT_POINT_LATITUDE = (-85.1254,-84.8809,-84.7652,-84.4831, -84.4763,-84.4426,-84.0445,-83.7146, -83.5462,-83.3752,-83.0307,-82.8557, -82.6784,-82.4116,-82.1421,-81.9613, -81.7797,-81.597,-81.4132,-81.2284, -81.0431,-80.8571,-80.6705,-80.483, -80.2951,-80.1067,-79.9177,-79.7279, -79.538,-79.2523,-79.0613,-78.8699, -78.6782,-78.486,-78.2935,-78.1008, -77.9077,-77.7146,-77.5211,-77.2304, -77.0364,-76.6481,-76.4533,-75.9662, -75.5758,-75.2826,-75.1848,-75.1765, -75.2545,-75.3178,-75.3548,-75.4079, -75.4096,-75.411,-75.7093,-75.9081, -76.1068,-76.4048,-76.6033,-76.8017, -77.0002,-77.2978,-77.4962,-77.6945, -77.8927,-78.1897,-78.3877,-78.5855, -78.8821,-79.0796,-79.3756,-79.5728, -79.7697,-80.0647,-80.2612,-80.4574, -80.6534,-80.8493,-81.0447,-81.2398, -81.5319,-81.7262,-82.0168,-82.2101, -82.403,-82.5953,-82.7872,-82.9784, -83.2641,-83.4538,-83.6426,-83.8306, -84.0177,-84.2967,-84.4812,-84.6643, -84.846,-85.026,-85.1154,-85.1254)
FOOTPRINT_POINT_LONGITUDE = (315.926,311.16,309.246,305.223,305.134 ,305.009,308.053,310.202,311.192, 312.127,313.869,314.674,315.436,316.517 ,317.524,318.158,318.764,319.342, 319.894,320.422,320.928,321.413,321.879 ,322.325,322.754,323.166,323.562, 323.942,324.309,324.834,325.167,325.489 ,325.8,326.099,326.388,326.667,326.937, 327.199,327.452,327.815,328.048,328.494 ,328.705,329.208,329.584,329.851, 329.938,329.945,331.341,332.616,333.441 ,334.779,334.826,334.841,334.659, 334.533,334.406,334.206,334.067,333.926 ,333.779,333.549,333.389,333.223, 333.053,332.786,332.599,332.407,332.104 ,331.892,331.56,331.328,331.088,330.71, 330.443,330.166,329.877,329.573,329.258 ,328.93,328.407,328.039,327.455,327.039 ,326.601,326.142,325.657,325.145, 324.323,323.733,323.109,322.449,321.739 ,320.58,319.742,318.853,317.905,316.894 ,316.357,315.926)
ORBIT_NUMBER = 25477
ORBITAL_ECCENTRICITY = 0.574
ORBITAL_INCLINATION = 87.08
ORBITAL_SEMIMAJOR_AXIS = 8754.05
PERIAPSIS_ALTITUDE = 355.76
PERIAPSIS_ARGUMENT_ANGLE = 276.74
PERIAPSIS_TIME = 2024-03-06T18:24:10.000Z
SPACECRAFT_ORIENTATION = (0.0,1.0,0.0)
^MEX_ORIENTATION_DESC = "MEX_ORIENTATION_DESC.TXT"
SPACECRAFT_POINTING_MODE = NADIR
^MEX_POINTING_DESC = "MEX_POINTING_DESC.TXT"
RIGHT_ASCENSION = -1e+32
DECLINATION = -1e+32
OFFSET_ANGLE = -1e+32
SPACECRAFT_SOLAR_DISTANCE = 2.10727e+08
TARGET_NAME = MARS
/* CAMERA DATA ELEMENTS */
DETECTOR_TEMPERATURE = 18.3705
FOCAL_PLANE_TEMPERATURE = 8.9911
INST_CMPRS_NAME = "DISCRETE COSINE TRANSFORMATION (DCT)"
INST_CMPRS_RATIO = 12.1651
INST_CMPRS_QUALITY = 0
INST_CMPRS_QUANTZ_TBL_ID = 0
INSTRUMENT_TEMPERATURE = 11.234
LENS_TEMPERATURE = 9.3989
MACROPIXEL_SIZE = 4
MISSING_FRAMES = 0
PIXEL_SUBSAMPLING_FLAG = N
SIGNAL_CHAIN_ID = 2
/* RADIOMETRIC DATA ELEMENTS */
BANDWIDTH = 76.0
CENTER_FILTER_WAVELENGTH = 444.0
RADIANCE_OFFSET = 0.651636
RADIANCE_SCALING_FACTOR = 0.0135225
REFLECTANCE_SCALING_FACTOR = 0.000616956
MEX:REFLECTANCE_OFFSET = 0.0297305
/* IMAGE OBJECT DEFINITIONS */
OBJECT = IMAGE
  INTERCHANGE_FORMAT = BINARY
  LINES = 11839
  LINE_SAMPLES = 4849
  SAMPLE_TYPE = UNSIGNED_INTEGER
  SAMPLE_BITS = 8
  BANDS = 1
  BAND_STORAGE_TYPE = BAND_SEQUENTIAL
  MAXIMUM = 254
  MEAN = 80.1558
  MINIMUM = 1
  STANDARD_DEVIATION = 40.2176
END_OBJECT = IMAGE
/* MAP OBJECT DEFINITIONS */
OBJECT = IMAGE_MAP_PROJECTION
  ^DATA_SET_MAP_PROJECTION_CATALOG= "DSMAP.CAT"
  A_AXIS_RADIUS = 3396.0
  B_AXIS_RADIUS = 3396.0
  C_AXIS_RADIUS = 3396.0
  CENTER_LATITUDE = -80.1921
  CENTER_LONGITUDE = 326.769
  COORDINATE_SYSTEM_NAME = PLANETOGRAPHIC
  COORDINATE_SYSTEM_TYPE = "BODY-FIXED ROTATING"
  EASTERNMOST_LONGITUDE = 334.841
  FIRST_STANDARD_PARALLEL = "N/A"
  LINE_FIRST_PIXEL = 1
  LINE_LAST_PIXEL = 11839
  LINE_PROJECTION_OFFSET = 5916.375
  MAP_PROJECTION_ROTATION = 0.0
  MAP_PROJECTION_TYPE = ORTHOGRAPHIC
  MAP_RESOLUTION = 1185.42760773333
  MAP_SCALE = 0.05
  MAXIMUM_LATITUDE = -75.1765
  MINIMUM_LATITUDE = -85.1254
  POSITIVE_LONGITUDE_DIRECTION = EAST
  REFERENCE_LATITUDE = "N/A"
  REFERENCE_LONGITUDE = "N/A"
  SAMPLE_FIRST_PIXEL = 1
  SAMPLE_LAST_PIXEL = 4849
  SAMPLE_PROJECTION_OFFSET = 2443.375
  SECOND_STANDARD_PARALLEL = "N/A"
  WESTERNMOST_LONGITUDE = 305.009
END_OBJECT = IMAGE_MAP_PROJECTION
END
