PDS_VERSION_ID = PDS3
/* FILE DATA ELEMENTS */
RECORD_TYPE = UNDEFINED
/* POINTERS TO DATA OBJECTS */
^IMAGE = ("HP473_0000_IR4.TIF")
/* IDENTIFICATION DATA ELEMENTS */
DATA_SET_ID = "MEX-M-HRSC-4-REFDR-MAPPROJECT-EXT9-V4.0"
DATA_SET_NAME = "MARS EXPRESS HRSC MAP PROJECTED REFDR EXTENSION9 V4.0"
DETECTOR_ID = MEX_HRSC_IR
EVENT_TYPE = "MARS-LOCAL-MAPPING-Im-Eo-Ts"
INSTRUMENT_HOST_ID = MEX
INSTRUMENT_HOST_NAME = "MARS EXPRESS"
INSTRUMENT_ID = HRSC
INSTRUMENT_NAME = "HIGH RESOLUTION STEREO CAMERA"
MISSION_NAME = "MARS EXPRESS"
MISSION_PHASE_NAME = ME_Phase_50
PROCESSING_LEVEL_ID = 4
PRODUCT_CREATION_TIME = 2024-08-19T12:52:58.000Z
PRODUCT_ID = "HP473_0000_IR4.TIF"
RELEASE_ID = 0012
REVISION_ID = 0000
/* QUALITY DATA ELEMENTS */
DATA_QUALITY_ID = 1
DATA_QUALITY_DESC = "Data calculated based on original SPICE kernels"
/* TIME DATA ELEMENTS */
SPACECRAFT_CLOCK_START_COUNT = "1/0657729195.64191"
SPACECRAFT_CLOCK_STOP_COUNT = "1/0657729554.13097"
START_TIME = 2024-03-05T14:35:30.900Z
STOP_TIME = 2024-03-05T14:39:42.965Z
/* ORBITAL DATA ELEMENTS */
ASCENDING_NODE_LONGITUDE = 101.64
MAXIMUM_RESOLUTION = 0.0881
FOOTPRINT_POINT_LATITUDE = (-56.0391,-56.0298,-56.0145,-55.9986, -55.9843,-55.9534,-55.9522,-56.0044, -55.4188,-55.0656,-54.7076,-54.2284, -53.6225,-53.133,-52.8843,-52.3904, -52.1411,-51.8905,-51.6328,-51.2486, -50.9945,-50.7395,-50.4795,-50.2202, -49.9574,-49.6949,-49.4295,-49.1644, -48.8967,-48.6282,-48.3641,-48.0896, -47.6759,-47.399,-46.9821,-46.7048, -46.4267,-46.1512,-45.8762,-45.4639, -45.1908,-44.9193,-44.6481,-44.3779, -44.1087,-43.8406,-43.5732,-43.1734, -43.041,-42.9803,-42.9892,-42.9934, -42.9952,-42.9963,-42.9982,-42.9983, -42.9979,-42.9977,-42.999,-43.3989, -43.6666,-43.9354,-44.3471,-44.6215, -44.894,-45.1674,-45.442,-45.7111, -46.1273,-46.4065,-46.6915,-46.9717, -47.2521,-47.5296,-47.9435,-48.3544, -48.6278,-49.0266,-49.2956,-49.5618, -49.9593,-50.3546,-50.6149,-50.8741, -51.1364,-51.3893,-51.6431,-51.9019, -52.2835,-52.5342,-53.029,-53.3931, -53.6396,-53.8854,-54.3738,-54.9763, -55.4527,-55.9252,-56.0419,-56.0391)
FOOTPRINT_POINT_LONGITUDE = (28.1203,27.6082,26.9161,26.3148, 25.8345,24.9332,24.9031,24.8524,24.9072 ,24.9386,24.9686,25.0071,25.0527, 25.0872,25.1043,25.1339,25.1479,25.1624 ,25.1791,25.2015,25.2126,25.2243, 25.2364,25.2482,25.2595,25.2705,25.2811 ,25.291,25.3003,25.3098,25.3141,25.3245 ,25.3379,25.3454,25.3555,25.3605, 25.3661,25.3702,25.3742,25.3801,25.3832 ,25.3855,25.3878,25.3896,25.391,25.392, 25.3927,25.3933,25.3931,25.3929,26.1008 ,26.641,26.9783,27.3493,27.9566,28.294, 28.9702,29.004,29.0152,28.9966,28.9838, 28.9709,28.9548,28.943,28.9296,28.9158, 28.9019,28.8843,28.8632,28.8491,28.8374 ,28.8223,28.8069,28.7912,28.7675, 28.7435,28.7278,28.7,28.6837,28.6667, 28.6413,28.6156,28.5978,28.5794,28.5643 ,28.543,28.5244,28.5079,28.4816,28.4616 ,28.4212,28.3879,28.3683,28.3483, 28.3091,28.2577,28.2153,28.1711,28.1602 ,28.1203)
ORBIT_NUMBER = 25473
ORBITAL_ECCENTRICITY = 0.574
ORBITAL_INCLINATION = 87.07
ORBITAL_SEMIMAJOR_AXIS = 8755.83
PERIAPSIS_ALTITUDE = 356.0
PERIAPSIS_ARGUMENT_ANGLE = 277.4
PERIAPSIS_TIME = 2024-03-05T14:27:53.000Z
SPACECRAFT_ORIENTATION = (0.0,1.0,0.0)
^MEX_ORIENTATION_DESC = "MEX_ORIENTATION_DESC.TXT"
SPACECRAFT_POINTING_MODE = NADIR
^MEX_POINTING_DESC = "MEX_POINTING_DESC.TXT"
RIGHT_ASCENSION = -1e+32
DECLINATION = -1e+32
OFFSET_ANGLE = -1e+32
SPACECRAFT_SOLAR_DISTANCE = 2.10872e+08
TARGET_NAME = MARS
/* CAMERA DATA ELEMENTS */
DETECTOR_TEMPERATURE = 17.351
FOCAL_PLANE_TEMPERATURE = 8.5833
INST_CMPRS_NAME = "DISCRETE COSINE TRANSFORMATION (DCT)"
INST_CMPRS_RATIO = 22.7957
INST_CMPRS_QUALITY = 0
INST_CMPRS_QUANTZ_TBL_ID = 0
INSTRUMENT_TEMPERATURE = 11.234
LENS_TEMPERATURE = 9.3989
MACROPIXEL_SIZE = 4
MISSING_FRAMES = 0
PIXEL_SUBSAMPLING_FLAG = N
SIGNAL_CHAIN_ID = 2
/* RADIOMETRIC DATA ELEMENTS */
BANDWIDTH = 81.0
CENTER_FILTER_WAVELENGTH = 955.5
RADIANCE_OFFSET = 1.58098
RADIANCE_SCALING_FACTOR = 0.00487566
REFLECTANCE_SCALING_FACTOR = 0.000467732
MEX:REFLECTANCE_OFFSET = 0.151666
/* IMAGE OBJECT DEFINITIONS */
OBJECT = IMAGE
  INTERCHANGE_FORMAT = BINARY
  LINES = 7767
  LINE_SAMPLES = 1468
  SAMPLE_TYPE = UNSIGNED_INTEGER
  SAMPLE_BITS = 8
  BANDS = 1
  BAND_STORAGE_TYPE = BAND_SEQUENTIAL
  MAXIMUM = 255
  MEAN = 104.481
  MINIMUM = 1
  STANDARD_DEVIATION = 38.5302
END_OBJECT = IMAGE
/* MAP OBJECT DEFINITIONS */
OBJECT = IMAGE_MAP_PROJECTION
  ^DATA_SET_MAP_PROJECTION_CATALOG= "DSMAP.CAT"
  A_AXIS_RADIUS = 3396.0
  B_AXIS_RADIUS = 3396.0
  C_AXIS_RADIUS = 3396.0
  CENTER_LATITUDE = -49.9692
  CENTER_LONGITUDE = 26.9275
  COORDINATE_SYSTEM_NAME = PLANETOGRAPHIC
  COORDINATE_SYSTEM_TYPE = "BODY-FIXED ROTATING"
  EASTERNMOST_LONGITUDE = 29.0152
  FIRST_STANDARD_PARALLEL = "N/A"
  LINE_FIRST_PIXEL = 1
  LINE_LAST_PIXEL = 7767
  LINE_PROJECTION_OFFSET = 4135.375
  MAP_PROJECTION_ROTATION = 0.0
  MAP_PROJECTION_TYPE = ORTHOGRAPHIC
  MAP_RESOLUTION = 592.713803866667
  MAP_SCALE = 0.1
  MAXIMUM_LATITUDE = -42.9803
  MINIMUM_LATITUDE = -56.0419
  POSITIVE_LONGITUDE_DIRECTION = EAST
  REFERENCE_LATITUDE = "N/A"
  REFERENCE_LONGITUDE = "N/A"
  SAMPLE_FIRST_PIXEL = 1
  SAMPLE_LAST_PIXEL = 1468
  SAMPLE_PROJECTION_OFFSET = 651.125
  SECOND_STANDARD_PARALLEL = "N/A"
  WESTERNMOST_LONGITUDE = 24.8524
END_OBJECT = IMAGE_MAP_PROJECTION
END
