PDS_VERSION_ID = PDS3
/* FILE DATA ELEMENTS */
RECORD_TYPE = UNDEFINED
/* POINTERS TO DATA OBJECTS */
^IMAGE = ("HP467_0000_ND4.TIF")
/* IDENTIFICATION DATA ELEMENTS */
DATA_SET_ID = "MEX-M-HRSC-4-REFDR-MAPPROJECT-EXT9-V4.0"
DATA_SET_NAME = "MARS EXPRESS HRSC MAP PROJECTED REFDR EXTENSION9 V4.0"
DETECTOR_ID = MEX_HRSC_NADIR
EVENT_TYPE = "MARS-REGIONAL-MAPPING-Gl-La-Ot"
INSTRUMENT_HOST_ID = MEX
INSTRUMENT_HOST_NAME = "MARS EXPRESS"
INSTRUMENT_ID = HRSC
INSTRUMENT_NAME = "HIGH RESOLUTION STEREO CAMERA"
MISSION_NAME = "MARS EXPRESS"
MISSION_PHASE_NAME = ME_Phase_50
PROCESSING_LEVEL_ID = 4
PRODUCT_CREATION_TIME = 2024-08-19T12:52:58.000Z
PRODUCT_ID = "HP467_0000_ND4.TIF"
RELEASE_ID = 0012
REVISION_ID = 0000
/* QUALITY DATA ELEMENTS */
DATA_QUALITY_ID = 1
DATA_QUALITY_DESC = "Data calculated based on original SPICE kernels"
/* TIME DATA ELEMENTS */
SPACECRAFT_CLOCK_START_COUNT = "1/0657577890.65117"
SPACECRAFT_CLOCK_STOP_COUNT = "1/0657578092.40412"
START_TIME = 2024-03-03T20:33:03.074Z
STOP_TIME = 2024-03-03T20:35:04.657Z
/* ORBITAL DATA ELEMENTS */
ASCENDING_NODE_LONGITUDE = 101.75
MAXIMUM_RESOLUTION = 0.0141
FOOTPRINT_POINT_LATITUDE = (-83.2326,-83.0935,-82.9711,-82.8854, -82.7568,-82.7513,-82.733,-82.5983, -82.4629,-82.24,-81.9942,-81.856, -81.6475,-81.5078,-81.3676,-81.2271, -81.0154,-80.8027,-80.6605,-80.518, -80.3034,-80.1599,-79.9441,-79.7997, -79.6551,-79.5105,-79.3651,-79.0748, -78.929,-78.7102,-78.5639,-78.4174, -78.2708,-78.0503,-77.756,-77.4617, -77.2401,-76.9444,-76.6484,-76.2775, -75.9805,-75.6831,-75.3854,-75.3109, -75.3005,-75.3654,-75.3982,-75.4475, -75.4843,-75.533,-75.5349,-75.5359, -75.7632,-75.9146,-76.1418,-76.2932, -76.4445,-76.6715,-76.8229,-76.9742, -77.2012,-77.3524,-77.5035,-77.73, -77.881,-78.032,-78.183,-78.3339, -78.4846,-78.7107,-78.8614,-79.012, -79.1625,-79.3129,-79.4632,-79.6134, -79.7635,-79.9135,-80.1382,-80.2879, -80.4374,-80.5869,-80.7362,-80.8852, -81.0342,-81.1829,-81.3316,-81.4801, -81.6284,-81.8503,-81.998,-82.1453, -82.2925,-82.4394,-82.7014,-82.8671, -83.0127,-83.158,-83.2305,-83.2326)
FOOTPRINT_POINT_LONGITUDE = (265.429,262.428,260.153,258.709, 256.728,256.647,256.415,256.988,257.54, 258.4,259.285,259.756,260.433,260.864, 261.282,261.687,262.269,262.824,263.179 ,263.525,264.022,264.34,264.8,265.093, 265.38,265.662,265.928,266.454,266.701, 267.065,267.297,267.523,267.743,268.06, 268.467,268.862,269.138,269.494,269.834 ,270.235,270.541,270.83,271.109,271.176 ,271.185,272.333,272.959,273.974, 274.801,276.023,276.072,276.096,275.956 ,275.861,275.711,275.609,275.505, 275.343,275.233,275.12,274.952,274.834, 274.707,274.509,274.378,274.245,274.108 ,273.969,273.819,273.594,273.44,273.28, 273.116,272.947,272.773,272.593,272.408 ,272.217,271.92,271.714,271.499,271.282 ,271.055,270.818,270.576,270.324, 270.068,269.802,269.524,269.089,268.785 ,268.468,268.14,267.799,267.156,266.723 ,266.325,265.909,265.694,265.429)
ORBIT_NUMBER = 25467
ORBITAL_ECCENTRICITY = 0.574
ORBITAL_INCLINATION = 87.07
ORBITAL_SEMIMAJOR_AXIS = 8755.65
PERIAPSIS_ALTITUDE = 355.7
PERIAPSIS_ARGUMENT_ANGLE = 278.42
PERIAPSIS_TIME = 2024-03-03T20:33:35.000Z
SPACECRAFT_ORIENTATION = (0.0,1.0,0.0)
^MEX_ORIENTATION_DESC = "MEX_ORIENTATION_DESC.TXT"
SPACECRAFT_POINTING_MODE = NADIR
^MEX_POINTING_DESC = "MEX_POINTING_DESC.TXT"
RIGHT_ASCENSION = -1e+32
DECLINATION = -1e+32
OFFSET_ANGLE = -1e+32
SPACECRAFT_SOLAR_DISTANCE = 2.11093e+08
TARGET_NAME = MARS
/* CAMERA DATA ELEMENTS */
DETECTOR_TEMPERATURE = 18.5744
FOCAL_PLANE_TEMPERATURE = 9.6028
INST_CMPRS_NAME = "DISCRETE COSINE TRANSFORMATION (DCT)"
INST_CMPRS_RATIO = 5.39803
INST_CMPRS_QUALITY = 0
INST_CMPRS_QUANTZ_TBL_ID = 0
INSTRUMENT_TEMPERATURE = 11.6418
LENS_TEMPERATURE = 9.8067
MACROPIXEL_SIZE = 1
MISSING_FRAMES = 127
PIXEL_SUBSAMPLING_FLAG = N
SIGNAL_CHAIN_ID = 0
/* RADIOMETRIC DATA ELEMENTS */
BANDWIDTH = 177.0
CENTER_FILTER_WAVELENGTH = 677.5
RADIANCE_OFFSET = 3.52964
RADIANCE_SCALING_FACTOR = 0.035268
REFLECTANCE_SCALING_FACTOR = 0.000834863
MEX:REFLECTANCE_OFFSET = 0.0835536
/* IMAGE OBJECT DEFINITIONS */
OBJECT = IMAGE
  INTERCHANGE_FORMAT = BINARY
  LINES = 37677
  LINE_SAMPLES = 15448
  SAMPLE_TYPE = UNSIGNED_INTEGER
  SAMPLE_BITS = 8
  BANDS = 1
  BAND_STORAGE_TYPE = BAND_SEQUENTIAL
  MAXIMUM = 255
  MEAN = 129.9
  MINIMUM = 1
  STANDARD_DEVIATION = 36.5302
END_OBJECT = IMAGE
/* MAP OBJECT DEFINITIONS */
OBJECT = IMAGE_MAP_PROJECTION
  ^DATA_SET_MAP_PROJECTION_CATALOG= "DSMAP.CAT"
  A_AXIS_RADIUS = 3396.0
  B_AXIS_RADIUS = 3396.0
  C_AXIS_RADIUS = 3396.0
  CENTER_LATITUDE = -79.1738
  CENTER_LONGITUDE = 269.717
  COORDINATE_SYSTEM_NAME = PLANETOGRAPHIC
  COORDINATE_SYSTEM_TYPE = "BODY-FIXED ROTATING"
  EASTERNMOST_LONGITUDE = 276.096
  FIRST_STANDARD_PARALLEL = "N/A"
  LINE_FIRST_PIXEL = 1
  LINE_LAST_PIXEL = 37677
  LINE_PROJECTION_OFFSET = 18329.0
  MAP_PROJECTION_ROTATION = 0.0
  MAP_PROJECTION_TYPE = ORTHOGRAPHIC
  MAP_RESOLUTION = 4741.71043093333
  MAP_SCALE = 0.0125
  MAXIMUM_LATITUDE = -75.3005
  MINIMUM_LATITUDE = -83.23260000000001
  POSITIVE_LONGITUDE_DIRECTION = EAST
  REFERENCE_LATITUDE = "N/A"
  REFERENCE_LONGITUDE = "N/A"
  SAMPLE_FIRST_PIXEL = 1
  SAMPLE_LAST_PIXEL = 15448
  SAMPLE_PROJECTION_OFFSET = 7907.0
  SECOND_STANDARD_PARALLEL = "N/A"
  WESTERNMOST_LONGITUDE = 256.415
END_OBJECT = IMAGE_MAP_PROJECTION
END
