PDS_VERSION_ID = PDS3
/* FILE DATA ELEMENTS */
RECORD_TYPE = UNDEFINED
/* POINTERS TO DATA OBJECTS */
^IMAGE = ("HP465_0000_S14.TIF")
/* IDENTIFICATION DATA ELEMENTS */
DATA_SET_ID = "MEX-M-HRSC-4-REFDR-MAPPROJECT-EXT9-V4.0"
DATA_SET_NAME = "MARS EXPRESS HRSC MAP PROJECTED REFDR EXTENSION9 V4.0"
DETECTOR_ID = MEX_HRSC_S1
EVENT_TYPE = "MARS-REGIONAL-MAPPING-Gl-La"
INSTRUMENT_HOST_ID = MEX
INSTRUMENT_HOST_NAME = "MARS EXPRESS"
INSTRUMENT_ID = HRSC
INSTRUMENT_NAME = "HIGH RESOLUTION STEREO CAMERA"
MISSION_NAME = "MARS EXPRESS"
MISSION_PHASE_NAME = ME_Phase_50
PROCESSING_LEVEL_ID = 4
PRODUCT_CREATION_TIME = 2024-08-19T12:52:58.000Z
PRODUCT_ID = "HP465_0000_S14.TIF"
RELEASE_ID = 0012
REVISION_ID = 0000
/* QUALITY DATA ELEMENTS */
DATA_QUALITY_ID = 1
DATA_QUALITY_DESC = "Data calculated based on original SPICE kernels"
/* TIME DATA ELEMENTS */
SPACECRAFT_CLOCK_START_COUNT = "1/0657527551.64162"
SPACECRAFT_CLOCK_STOP_COUNT = "1/0657527758.48048"
START_TIME = 2024-03-03T06:34:25.001Z
STOP_TIME = 2024-03-03T06:34:29.280Z
/* ORBITAL DATA ELEMENTS */
ASCENDING_NODE_LONGITUDE = 101.78
MAXIMUM_RESOLUTION = 0.03
FOOTPRINT_POINT_LATITUDE = (-86.3058,-86.2842,-86.2624,-86.233, -86.2108,-86.1733,-86.1429,-86.12, -86.0891,-86.058,-86.0266,-85.9949, -85.9629,-85.9307,-85.8982,-85.8655, -85.8326,-85.7994,-85.766,-85.7323, -85.6985,-85.6558,-85.63,-85.6128, -85.5955,-85.5781,-85.5607,-85.5433, -85.517,-85.4994,-85.4818,-85.473, -85.5058,-85.488,-85.4669,-85.4442, -85.4145,-85.3962,-85.3662,-85.3493, -85.3306,-85.3289,-85.3278,-85.3544, -85.3723,-85.3901,-85.4079,-85.4256, -85.4433,-85.461,-85.4872,-85.5047, -85.5222,-85.5396,-85.5568,-85.574, -85.5912,-85.6083,-85.6254,-85.6507, -85.6675,-85.6843,-85.7011,-85.726, -85.7426,-85.7591,-85.7755,-85.7919, -85.8083,-85.8326,-85.8488,-85.8648, -85.8888,-85.9127,-85.9364,-85.9521, -85.9754,-85.9909,-86.0064,-86.0296, -86.0449,-86.0673,-86.0823,-86.0973, -86.1122,-86.1269,-86.1487,-86.1638, -86.1713,-86.1742,-86.2009,-86.2357, -86.2564,-86.2852,-86.3098,-86.3322, -86.3545,-86.3914,-86.3939,-86.3058)
FOOTPRINT_POINT_LONGITUDE = (91.2389,90.822,90.4098,89.8677,89.4666 ,88.8085,88.2913,87.9087,87.4054, 86.9098,86.4218,85.9414,85.4682,85.0023 ,84.5439,84.0929,83.6491,83.2122, 82.7819,82.3581,81.9404,81.4271,81.1239 ,80.9237,80.7251,80.5279,80.3323, 80.1381,79.8496,79.659,79.4699,79.3758, 78.2305,78.5158,78.85,79.2011,79.6541, 79.9279,80.3672,80.6109,80.8771,80.9012 ,80.9172,81.2103,81.4101,81.6145, 81.8173,82.0214,82.227,82.4343,82.7496, 82.9605,83.1726,83.3866,83.6044,83.8218 ,84.0408,84.2613,84.4836,84.8227,85.049 ,85.2771,85.5068,85.856,86.0902,86.3263 ,86.5642,86.804,87.0456,87.4117,87.658, 87.9062,88.2818,88.6616,89.0453,89.3033 ,89.6949,89.9579,90.2228,90.6228, 90.8922,91.3042,91.5797,91.8571,92.1361 ,92.4187,92.8464,93.1307,93.2738, 93.3222,93.0224,92.6233,92.3836,92.0435 ,91.7478,91.4734,91.1954,90.7299,90.701 ,91.2389)
ORBIT_NUMBER = 25465
ORBITAL_ECCENTRICITY = 0.574
ORBITAL_INCLINATION = 87.07
ORBITAL_SEMIMAJOR_AXIS = 8756.82
PERIAPSIS_ALTITUDE = 355.59
PERIAPSIS_ARGUMENT_ANGLE = 278.74
PERIAPSIS_TIME = 2024-03-03T06:35:25.000Z
SPACECRAFT_ORIENTATION = (0.0,1.0,0.0)
^MEX_ORIENTATION_DESC = "MEX_ORIENTATION_DESC.TXT"
SPACECRAFT_POINTING_MODE = NADIR
^MEX_POINTING_DESC = "MEX_POINTING_DESC.TXT"
RIGHT_ASCENSION = -1e+32
DECLINATION = -1e+32
OFFSET_ANGLE = -1e+32
SPACECRAFT_SOLAR_DISTANCE = 2.11168e+08
TARGET_NAME = MARS
/* CAMERA DATA ELEMENTS */
DETECTOR_TEMPERATURE = 17.5549
FOCAL_PLANE_TEMPERATURE = 9.3989
INST_CMPRS_NAME = "DISCRETE COSINE TRANSFORMATION (DCT)"
INST_CMPRS_RATIO = 4.64559
INST_CMPRS_QUALITY = 0
INST_CMPRS_QUANTZ_TBL_ID = 0
INSTRUMENT_TEMPERATURE = 11.4379
LENS_TEMPERATURE = 9.3989
MACROPIXEL_SIZE = 2
MISSING_FRAMES = 0
PIXEL_SUBSAMPLING_FLAG = N
SIGNAL_CHAIN_ID = 1
/* RADIOMETRIC DATA ELEMENTS */
BANDWIDTH = 180.0
CENTER_FILTER_WAVELENGTH = 677.0
RADIANCE_OFFSET = 3.54726
RADIANCE_SCALING_FACTOR = 0.0141709
REFLECTANCE_SCALING_FACTOR = 0.000329683
MEX:REFLECTANCE_OFFSET = 0.0825265
/* IMAGE OBJECT DEFINITIONS */
OBJECT = IMAGE
  INTERCHANGE_FORMAT = BINARY
  LINES = 6285
  LINE_SAMPLES = 5708
  SAMPLE_TYPE = UNSIGNED_INTEGER
  SAMPLE_BITS = 8
  BANDS = 1
  BAND_STORAGE_TYPE = BAND_SEQUENTIAL
  MAXIMUM = 255
  MEAN = 119.699
  MINIMUM = 1
  STANDARD_DEVIATION = 39.308
END_OBJECT = IMAGE
/* MAP OBJECT DEFINITIONS */
OBJECT = IMAGE_MAP_PROJECTION
  ^DATA_SET_MAP_PROJECTION_CATALOG= "DSMAP.CAT"
  A_AXIS_RADIUS = 3396.0
  B_AXIS_RADIUS = 3396.0
  C_AXIS_RADIUS = 3396.0
  CENTER_LATITUDE = -85.0936
  CENTER_LONGITUDE = 93.52760000000001
  COORDINATE_SYSTEM_NAME = PLANETOGRAPHIC
  COORDINATE_SYSTEM_TYPE = "BODY-FIXED ROTATING"
  EASTERNMOST_LONGITUDE = 93.3222
  FIRST_STANDARD_PARALLEL = "N/A"
  LINE_FIRST_PIXEL = 1
  LINE_LAST_PIXEL = 6285
  LINE_PROJECTION_OFFSET = 3138.75
  MAP_PROJECTION_ROTATION = 0.0
  MAP_PROJECTION_TYPE = ORTHOGRAPHIC
  MAP_RESOLUTION = 2370.85521546667
  MAP_SCALE = 0.025
  MAXIMUM_LATITUDE = -85.3278
  MINIMUM_LATITUDE = -86.3939
  POSITIVE_LONGITUDE_DIRECTION = EAST
  REFERENCE_LATITUDE = "N/A"
  REFERENCE_LONGITUDE = "N/A"
  SAMPLE_FIRST_PIXEL = 1
  SAMPLE_LAST_PIXEL = 5708
  SAMPLE_PROJECTION_OFFSET = 2858.75
  SECOND_STANDARD_PARALLEL = "N/A"
  WESTERNMOST_LONGITUDE = 78.23050000000001
END_OBJECT = IMAGE_MAP_PROJECTION
END
