PDS_VERSION_ID = PDS3
/* FILE DATA ELEMENTS */
RECORD_TYPE = UNDEFINED
/* POINTERS TO DATA OBJECTS */
^IMAGE = ("HP465_0000_BL4.TIF")
/* IDENTIFICATION DATA ELEMENTS */
DATA_SET_ID = "MEX-M-HRSC-4-REFDR-MAPPROJECT-EXT9-V4.0"
DATA_SET_NAME = "MARS EXPRESS HRSC MAP PROJECTED REFDR EXTENSION9 V4.0"
DETECTOR_ID = MEX_HRSC_BLUE
EVENT_TYPE = "MARS-REGIONAL-MAPPING-Gl-La"
INSTRUMENT_HOST_ID = MEX
INSTRUMENT_HOST_NAME = "MARS EXPRESS"
INSTRUMENT_ID = HRSC
INSTRUMENT_NAME = "HIGH RESOLUTION STEREO CAMERA"
MISSION_NAME = "MARS EXPRESS"
MISSION_PHASE_NAME = ME_Phase_50
PROCESSING_LEVEL_ID = 4
PRODUCT_CREATION_TIME = 2024-08-19T12:52:58.000Z
PRODUCT_ID = "HP465_0000_BL4.TIF"
RELEASE_ID = 0012
REVISION_ID = 0000
/* QUALITY DATA ELEMENTS */
DATA_QUALITY_ID = 1
DATA_QUALITY_DESC = "Data calculated based on original SPICE kernels"
/* TIME DATA ELEMENTS */
SPACECRAFT_CLOCK_START_COUNT = "1/0657527551.64162"
SPACECRAFT_CLOCK_STOP_COUNT = "1/0657527758.48048"
START_TIME = 2024-03-03T06:33:47.068Z
STOP_TIME = 2024-03-03T06:34:29.171Z
/* ORBITAL DATA ELEMENTS */
ASCENDING_NODE_LONGITUDE = 101.78
MAXIMUM_RESOLUTION = 0.0568
FOOTPRINT_POINT_LATITUDE = (-86.4221,-86.3491,-86.2895,-86.2286, -86.1822,-86.0876,-85.9989,-85.9333, -85.8668,-85.8164,-85.7485,-85.6969, -85.6275,-85.5663,-85.5575,-85.5225, -85.4403,-85.3556,-85.3038,-85.2335, -85.1799,-85.1074,-85.0149,-84.9396, -84.8824,-84.8052,-84.727,-84.6477, -84.5676,-84.4864,-84.3835,-84.3003, -84.2584,-84.2162,-84.1738,-84.1097, -84.0667,-84.0233,-83.9584,-83.8718, -83.7627,-83.6747,-83.6084,-83.5194, -83.4971,-83.4827,-83.5376,-83.5918, -83.6563,-83.6849,-83.7243,-83.763, -83.8062,-83.8437,-83.8696,-83.905, -83.9541,-83.9873,-84.0241,-84.051, -84.0554,-84.0576,-84.1069,-84.156, -84.2051,-84.2541,-84.3275,-84.4007, -84.4493,-84.4979,-84.5706,-84.619, -84.6673,-84.7395,-84.8114,-84.8831, -84.9308,-85.0021,-85.0732,-85.1204, -85.1674,-85.2378,-85.2845,-85.3543, -85.4469,-85.516,-85.6302,-85.6982, -85.7882,-85.8552,-85.8996,-85.9877, -86.075,-86.1182,-86.1826,-86.2251, -86.3095,-86.3927,-86.4133,-86.4221)
FOOTPRINT_POINT_LONGITUDE = (89.8031,88.4607,87.4262,86.4244,85.694 ,84.2858,83.0542,82.1933,81.3603, 80.7527,79.965,79.3896,78.6433,78.0106, 77.9217,77.8671,79.1808,80.4473,81.1851 ,82.1438,82.8443,83.7542,84.8537, 85.7041,86.3252,87.1322,87.915,88.6749, 89.4123,90.1278,90.9922,91.6609,91.9878 ,92.3099,92.6268,93.0932,93.3983, 93.6982,94.1421,94.7206,95.4214,95.9644 ,96.3617,96.8787,97.0057,97.0872, 97.8592,98.6528,99.6392,100.094,100.737 ,101.388,102.143,102.807,103.287, 103.968,104.953,105.652,106.46,107.076, 107.179,107.211,107.014,106.815,106.613 ,106.406,106.09,105.766,105.544,105.32, 104.975,104.738,104.498,104.131,103.756 ,103.369,103.103,102.697,102.277,101.99 ,101.699,101.253,100.947,100.478, 99.8288,99.324,98.4531,97.907,97.1547, 96.5654,96.1467,95.302,94.4315,93.9762, 93.2671,92.7845,91.7957,90.7662,90.5005 ,89.8031)
ORBIT_NUMBER = 25465
ORBITAL_ECCENTRICITY = 0.574
ORBITAL_INCLINATION = 87.07
ORBITAL_SEMIMAJOR_AXIS = 8756.82
PERIAPSIS_ALTITUDE = 355.59
PERIAPSIS_ARGUMENT_ANGLE = 278.74
PERIAPSIS_TIME = 2024-03-03T06:35:25.000Z
SPACECRAFT_ORIENTATION = (0.0,1.0,0.0)
^MEX_ORIENTATION_DESC = "MEX_ORIENTATION_DESC.TXT"
SPACECRAFT_POINTING_MODE = NADIR
^MEX_POINTING_DESC = "MEX_POINTING_DESC.TXT"
RIGHT_ASCENSION = -1e+32
DECLINATION = -1e+32
OFFSET_ANGLE = -1e+32
SPACECRAFT_SOLAR_DISTANCE = 2.11168e+08
TARGET_NAME = MARS
/* CAMERA DATA ELEMENTS */
DETECTOR_TEMPERATURE = 18.3705
FOCAL_PLANE_TEMPERATURE = 9.3989
INST_CMPRS_NAME = "DISCRETE COSINE TRANSFORMATION (DCT)"
INST_CMPRS_RATIO = 4.26422
INST_CMPRS_QUALITY = 0
INST_CMPRS_QUANTZ_TBL_ID = 0
INSTRUMENT_TEMPERATURE = 11.4379
LENS_TEMPERATURE = 9.3989
MACROPIXEL_SIZE = 4
MISSING_FRAMES = 0
PIXEL_SUBSAMPLING_FLAG = N
SIGNAL_CHAIN_ID = 2
/* RADIOMETRIC DATA ELEMENTS */
BANDWIDTH = 76.0
CENTER_FILTER_WAVELENGTH = 444.0
RADIANCE_OFFSET = 0.621449
RADIANCE_SCALING_FACTOR = 0.00461564
REFLECTANCE_SCALING_FACTOR = 0.000211469
MEX:REFLECTANCE_OFFSET = 0.0284721
/* IMAGE OBJECT DEFINITIONS */
OBJECT = IMAGE
  INTERCHANGE_FORMAT = BINARY
  LINES = 3143
  LINE_SAMPLES = 2854
  SAMPLE_TYPE = UNSIGNED_INTEGER
  SAMPLE_BITS = 8
  BANDS = 1
  BAND_STORAGE_TYPE = BAND_SEQUENTIAL
  MAXIMUM = 254
  MEAN = 91.9905
  MINIMUM = 1
  STANDARD_DEVIATION = 36.5177
END_OBJECT = IMAGE
/* MAP OBJECT DEFINITIONS */
OBJECT = IMAGE_MAP_PROJECTION
  ^DATA_SET_MAP_PROJECTION_CATALOG= "DSMAP.CAT"
  A_AXIS_RADIUS = 3396.0
  B_AXIS_RADIUS = 3396.0
  C_AXIS_RADIUS = 3396.0
  CENTER_LATITUDE = -85.0936
  CENTER_LONGITUDE = 93.52760000000001
  COORDINATE_SYSTEM_NAME = PLANETOGRAPHIC
  COORDINATE_SYSTEM_TYPE = "BODY-FIXED ROTATING"
  EASTERNMOST_LONGITUDE = 107.211
  FIRST_STANDARD_PARALLEL = "N/A"
  LINE_FIRST_PIXEL = 1
  LINE_LAST_PIXEL = 3143
  LINE_PROJECTION_OFFSET = 1569.125
  MAP_PROJECTION_ROTATION = 0.0
  MAP_PROJECTION_TYPE = ORTHOGRAPHIC
  MAP_RESOLUTION = 1185.42760773333
  MAP_SCALE = 0.05
  MAXIMUM_LATITUDE = -83.48269999999999
  MINIMUM_LATITUDE = -86.4221
  POSITIVE_LONGITUDE_DIRECTION = EAST
  REFERENCE_LATITUDE = "N/A"
  REFERENCE_LONGITUDE = "N/A"
  SAMPLE_FIRST_PIXEL = 1
  SAMPLE_LAST_PIXEL = 2854
  SAMPLE_PROJECTION_OFFSET = 1429.125
  SECOND_STANDARD_PARALLEL = "N/A"
  WESTERNMOST_LONGITUDE = 77.86709999999999
END_OBJECT = IMAGE_MAP_PROJECTION
END
