PDS_VERSION_ID = PDS3
/* FILE DATA ELEMENTS */
RECORD_TYPE = UNDEFINED
/* POINTERS TO DATA OBJECTS */
^IMAGE = ("HP453_0000_S24.TIF")
/* IDENTIFICATION DATA ELEMENTS */
DATA_SET_ID = "MEX-M-HRSC-4-REFDR-MAPPROJECT-EXT9-V4.0"
DATA_SET_NAME = "MARS EXPRESS HRSC MAP PROJECTED REFDR EXTENSION9 V4.0"
DETECTOR_ID = MEX_HRSC_S2
EVENT_TYPE = "MARS-REGIONAL-MAPPING-Gl-Ot-Ts"
INSTRUMENT_HOST_ID = MEX
INSTRUMENT_HOST_NAME = "MARS EXPRESS"
INSTRUMENT_ID = HRSC
INSTRUMENT_NAME = "HIGH RESOLUTION STEREO CAMERA"
MISSION_NAME = "MARS EXPRESS"
MISSION_PHASE_NAME = ME_Phase_50
PROCESSING_LEVEL_ID = 4
PRODUCT_CREATION_TIME = 2024-08-19T12:52:58.000Z
PRODUCT_ID = "HP453_0000_S24.TIF"
RELEASE_ID = 0012
REVISION_ID = 0000
/* QUALITY DATA ELEMENTS */
DATA_QUALITY_ID = 1
DATA_QUALITY_DESC = "Data calculated based on original SPICE kernels"
/* TIME DATA ELEMENTS */
SPACECRAFT_CLOCK_START_COUNT = "1/0657225849.00367"
SPACECRAFT_CLOCK_STOP_COUNT = "1/0657226051.42053"
START_TIME = 2024-02-28T18:44:56.097Z
STOP_TIME = 2024-02-28T18:47:12.069Z
/* ORBITAL DATA ELEMENTS */
ASCENDING_NODE_LONGITUDE = 101.99
MAXIMUM_RESOLUTION = 0.03
FOOTPRINT_POINT_LATITUDE = (-83.7094,-83.606,-83.5281,-83.3806, -83.2901,-83.177,-83.1709,-83.0681, -82.7685,-82.5412,-82.2371,-81.9275, -81.7712,-81.5355,-81.3775,-81.2188, -81.0596,-80.8997,-80.6572,-80.4948, -80.3328,-80.1708,-80.0076,-79.8437, -79.68,-79.5162,-79.2668,-79.0182, -78.7691,-78.5188,-78.3515,-78.1, -77.8479,-77.6793,-77.4259,-77.2568, -77.0872,-76.9173,-76.5608,-76.3048, -76.134,-75.9628,-75.7916,-75.6201, -75.4483,-75.1905,-74.9325,-74.8463, -74.8387,-74.9141,-74.9498,-75.0102, -75.0657,-75.0674,-75.0684,-75.3315, -75.5065,-75.7691,-75.9441,-76.1189, -76.2932,-76.5545,-76.8161,-77.0944, -77.2683,-77.4424,-77.6161,-77.8759, -78.0473,-78.223,-78.3957,-78.5689, -78.739,-78.9106,-79.1681,-79.3439, -79.6825,-79.8531,-80.0224,-80.1959, -80.3673,-80.5368,-80.7074,-80.877, -81.047,-81.2155,-81.3842,-81.5522, -81.7205,-81.9723,-82.1391,-82.3057, -82.4721,-82.6375,-82.8026,-82.9671, -83.1318,-83.5393,-83.62,-83.7094)
FOOTPRINT_POINT_LONGITUDE = (254.081,251.809,250.274,247.682, 246.254,244.608,244.522,244.711,246.113 ,247.089,248.297,249.416,249.943, 250.697,251.177,251.639,252.085,252.515 ,253.132,253.526,253.907,254.274, 254.629,254.973,255.305,255.627,256.091 ,256.534,256.956,257.36,257.619,257.994 ,258.353,258.583,258.917,259.132, 259.342,259.545,259.955,260.234,260.414 ,260.589,260.76,260.927,261.09,261.326, 261.554,261.628,261.635,262.942,263.622 ,264.902,266.286,266.332,266.349,266.2, 266.098,265.939,265.83,265.718,265.604, 265.427,265.241,265.035,264.902,264.764 ,264.623,264.405,264.258,264.095, 263.935,263.768,263.604,263.43,263.157, 262.955,262.568,262.36,262.148,261.914, 261.677,261.439,261.186,260.926,260.654 ,260.376,260.085,259.784,259.469,258.97 ,258.622,258.259,257.878,257.483, 257.069,256.636,256.179,254.944,254.68, 254.081)
ORBIT_NUMBER = 25453
ORBITAL_ECCENTRICITY = 0.574
ORBITAL_INCLINATION = 87.07
ORBITAL_SEMIMAJOR_AXIS = 8756.74
PERIAPSIS_ALTITUDE = 355.4
PERIAPSIS_ARGUMENT_ANGLE = 280.76
PERIAPSIS_TIME = 2024-02-28T18:46:43.000Z
SPACECRAFT_ORIENTATION = (0.0,1.0,0.0)
^MEX_ORIENTATION_DESC = "MEX_ORIENTATION_DESC.TXT"
SPACECRAFT_POINTING_MODE = NADIR
^MEX_POINTING_DESC = "MEX_POINTING_DESC.TXT"
RIGHT_ASCENSION = -1e+32
DECLINATION = -1e+32
OFFSET_ANGLE = -1e+32
SPACECRAFT_SOLAR_DISTANCE = 2.11629e+08
TARGET_NAME = MARS
/* CAMERA DATA ELEMENTS */
DETECTOR_TEMPERATURE = 17.7588
FOCAL_PLANE_TEMPERATURE = 9.195
INST_CMPRS_NAME = "DISCRETE COSINE TRANSFORMATION (DCT)"
INST_CMPRS_RATIO = 7.11655
INST_CMPRS_QUALITY = 0
INST_CMPRS_QUANTZ_TBL_ID = 0
INSTRUMENT_TEMPERATURE = 11.234
LENS_TEMPERATURE = 9.3989
MACROPIXEL_SIZE = 2
PIXEL_SUBSAMPLING_FLAG = N
SIGNAL_CHAIN_ID = 1
/* RADIOMETRIC DATA ELEMENTS */
BANDWIDTH = 178.0
CENTER_FILTER_WAVELENGTH = 679.0
RADIANCE_OFFSET = 5.09821
RADIANCE_SCALING_FACTOR = 0.028371
REFLECTANCE_SCALING_FACTOR = 0.000672902
MEX:REFLECTANCE_OFFSET = 0.120919
/* IMAGE OBJECT DEFINITIONS */
OBJECT = IMAGE
  INTERCHANGE_FORMAT = BINARY
  LINES = 20828
  LINE_SAMPLES = 8287
  SAMPLE_TYPE = UNSIGNED_INTEGER
  SAMPLE_BITS = 8
  BANDS = 1
  BAND_STORAGE_TYPE = BAND_SEQUENTIAL
  MAXIMUM = 255
  MEAN = 121.294
  MINIMUM = 1
  STANDARD_DEVIATION = 36.2884
END_OBJECT = IMAGE
/* MAP OBJECT DEFINITIONS */
OBJECT = IMAGE_MAP_PROJECTION
  ^DATA_SET_MAP_PROJECTION_CATALOG= "DSMAP.CAT"
  A_AXIS_RADIUS = 3396.0
  B_AXIS_RADIUS = 3396.0
  C_AXIS_RADIUS = 3396.0
  CENTER_LATITUDE = -79.2289
  CENTER_LONGITUDE = 259.633
  COORDINATE_SYSTEM_NAME = PLANETOGRAPHIC
  COORDINATE_SYSTEM_TYPE = "BODY-FIXED ROTATING"
  EASTERNMOST_LONGITUDE = 266.349
  FIRST_STANDARD_PARALLEL = "N/A"
  LINE_FIRST_PIXEL = 1
  LINE_LAST_PIXEL = 20828
  LINE_PROJECTION_OFFSET = 10424.25
  MAP_PROJECTION_ROTATION = 0.0
  MAP_PROJECTION_TYPE = ORTHOGRAPHIC
  MAP_RESOLUTION = 2370.85521546667
  MAP_SCALE = 0.025
  MAXIMUM_LATITUDE = -74.8387
  MINIMUM_LATITUDE = -83.7094
  POSITIVE_LONGITUDE_DIRECTION = EAST
  REFERENCE_LATITUDE = "N/A"
  REFERENCE_LONGITUDE = "N/A"
  SAMPLE_FIRST_PIXEL = 1
  SAMPLE_LAST_PIXEL = 8287
  SAMPLE_PROJECTION_OFFSET = 4185.25
  SECOND_STANDARD_PARALLEL = "N/A"
  WESTERNMOST_LONGITUDE = 244.522
END_OBJECT = IMAGE_MAP_PROJECTION
END
