PDS_VERSION_ID = PDS3
/* FILE DATA ELEMENTS */
RECORD_TYPE = UNDEFINED
/* POINTERS TO DATA OBJECTS */
^IMAGE = ("HP446_0000_ND4.TIF")
/* IDENTIFICATION DATA ELEMENTS */
DATA_SET_ID = "MEX-M-HRSC-4-REFDR-MAPPROJECT-EXT9-V4.0"
DATA_SET_NAME = "MARS EXPRESS HRSC MAP PROJECTED REFDR EXTENSION9 V4.0"
DETECTOR_ID = MEX_HRSC_NADIR
EVENT_TYPE = "MARS-REGIONAL-MAPPING-Gl-La-Ot"
INSTRUMENT_HOST_ID = MEX
INSTRUMENT_HOST_NAME = "MARS EXPRESS"
INSTRUMENT_ID = HRSC
INSTRUMENT_NAME = "HIGH RESOLUTION STEREO CAMERA"
MISSION_NAME = "MARS EXPRESS"
MISSION_PHASE_NAME = ME_Phase_50
PROCESSING_LEVEL_ID = 4
PRODUCT_CREATION_TIME = 2024-08-19T12:52:58.000Z
PRODUCT_ID = "HP446_0000_ND4.TIF"
RELEASE_ID = 0012
REVISION_ID = 0000
/* QUALITY DATA ELEMENTS */
DATA_QUALITY_ID = 1
DATA_QUALITY_DESC = "Data calculated based on original SPICE kernels"
/* TIME DATA ELEMENTS */
SPACECRAFT_CLOCK_START_COUNT = "1/0657049827.64193"
SPACECRAFT_CLOCK_STOP_COUNT = "1/0657050030.39510"
START_TIME = 2024-02-26T17:51:48.404Z
STOP_TIME = 2024-02-26T17:54:03.400Z
/* ORBITAL DATA ELEMENTS */
ASCENDING_NODE_LONGITUDE = 102.11
MAXIMUM_RESOLUTION = 0.0141
FOOTPRINT_POINT_LATITUDE = (-83.3019,-83.1593,-83.0337,-82.9456, -82.8134,-82.8077,-82.7894,-82.5598, -82.2505,-81.9375,-81.6212,-81.3023, -80.9809,-80.6571,-80.2494,-79.9215, -79.5918,-79.4265,-79.2607,-79.0947, -78.9283,-78.7616,-78.5946,-78.4274, -78.2599,-78.0921,-77.9241,-77.6717, -77.5031,-77.3343,-77.1654,-76.9115, -76.7421,-76.5726,-76.4028,-76.2329, -76.0628,-75.8927,-75.7224,-75.5519, -75.3814,-75.2108,-75.0399,-74.869, -74.6125,-74.5271,-74.5225,-74.5729, -74.6152,-74.6791,-74.7381,-74.7398, -74.7409,-74.9147,-75.0885,-75.2623, -75.436,-75.6097,-75.7833,-76.0438, -76.2173,-76.4775,-76.7376,-76.911, -77.0842,-77.344,-77.5171,-77.7765, -77.9494,-78.1222,-78.2949,-78.4675, -78.6399,-78.8984,-79.0706,-79.2426, -79.5004,-79.6721,-79.8436,-80.0149, -80.1861,-80.3571,-80.528,-80.6986, -80.869,-81.0392,-81.2091,-81.3787, -81.5482,-81.7172,-81.886,-82.0546, -82.2227,-82.3905,-82.5579,-82.7249, -82.8914,-83.2231,-83.3057,-83.3019)
FOOTPRINT_POINT_LONGITUDE = (250.306,247.228,244.896,243.419, 241.393,241.31,241.076,242.064,243.293, 244.423,245.464,246.431,247.328,248.161 ,249.12,249.832,250.498,250.815,251.121 ,251.419,251.706,251.985,252.255, 252.517,252.771,253.018,253.258,253.605 ,253.828,254.045,254.256,254.56,254.756 ,254.95,255.135,255.316,255.493,255.665 ,255.833,255.996,256.156,256.312, 256.463,256.611,256.826,256.897,256.901 ,257.797,258.61,259.973,261.438,261.484 ,261.507,261.412,261.316,261.218, 261.116,261.012,260.906,260.741,260.627 ,260.451,260.268,260.142,260.012,259.81 ,259.671,259.454,259.304,259.15,258.992 ,258.829,258.66,258.396,258.214,258.025 ,257.729,257.525,257.311,257.092, 256.864,256.629,256.387,256.135,255.871 ,255.599,255.317,255.021,254.715, 254.395,254.062,253.716,253.355,252.976 ,252.581,252.167,251.734,250.805, 250.558,250.306)
ORBIT_NUMBER = 25446
ORBITAL_ECCENTRICITY = 0.574
ORBITAL_INCLINATION = 87.07
ORBITAL_SEMIMAJOR_AXIS = 8757.39
PERIAPSIS_ALTITUDE = 355.24
PERIAPSIS_ARGUMENT_ANGLE = 281.93
PERIAPSIS_TIME = 2024-02-26T17:53:15.000Z
SPACECRAFT_ORIENTATION = (0.0,1.0,0.0)
^MEX_ORIENTATION_DESC = "MEX_ORIENTATION_DESC.TXT"
SPACECRAFT_POINTING_MODE = NADIR
^MEX_POINTING_DESC = "MEX_POINTING_DESC.TXT"
RIGHT_ASCENSION = -1e+32
DECLINATION = -1e+32
OFFSET_ANGLE = -1e+32
SPACECRAFT_SOLAR_DISTANCE = 2.11905e+08
TARGET_NAME = MARS
/* CAMERA DATA ELEMENTS */
DETECTOR_TEMPERATURE = 18.7783
FOCAL_PLANE_TEMPERATURE = 9.8067
INST_CMPRS_NAME = "DISCRETE COSINE TRANSFORMATION (DCT)"
INST_CMPRS_RATIO = 5.4866
INST_CMPRS_QUALITY = 0
INST_CMPRS_QUANTZ_TBL_ID = 0
INSTRUMENT_TEMPERATURE = 11.8457
LENS_TEMPERATURE = 10.2145
MACROPIXEL_SIZE = 1
MISSING_FRAMES = 0
PIXEL_SUBSAMPLING_FLAG = N
SIGNAL_CHAIN_ID = 0
/* RADIOMETRIC DATA ELEMENTS */
BANDWIDTH = 177.0
CENTER_FILTER_WAVELENGTH = 677.5
RADIANCE_OFFSET = 3.48129
RADIANCE_SCALING_FACTOR = 0.0265458
REFLECTANCE_SCALING_FACTOR = 0.000633234
MEX:REFLECTANCE_OFFSET = 0.0830441
/* IMAGE OBJECT DEFINITIONS */
OBJECT = IMAGE
  INTERCHANGE_FORMAT = BINARY
  LINES = 41669
  LINE_SAMPLES = 16407
  SAMPLE_TYPE = UNSIGNED_INTEGER
  SAMPLE_BITS = 8
  BANDS = 1
  BAND_STORAGE_TYPE = BAND_SEQUENTIAL
  MAXIMUM = 255
  MEAN = 132.252
  MINIMUM = 1
  STANDARD_DEVIATION = 43.1551
END_OBJECT = IMAGE
/* MAP OBJECT DEFINITIONS */
OBJECT = IMAGE_MAP_PROJECTION
  ^DATA_SET_MAP_PROJECTION_CATALOG= "DSMAP.CAT"
  A_AXIS_RADIUS = 3396.0
  B_AXIS_RADIUS = 3396.0
  C_AXIS_RADIUS = 3396.0
  CENTER_LATITUDE = 0.0
  CENTER_LONGITUDE = 255.0
  COORDINATE_SYSTEM_NAME = PLANETOGRAPHIC
  COORDINATE_SYSTEM_TYPE = "BODY-FIXED ROTATING"
  EASTERNMOST_LONGITUDE = 261.507
  FIRST_STANDARD_PARALLEL = "N/A"
  LINE_FIRST_PIXEL = 1
  LINE_LAST_PIXEL = 41669
  LINE_PROJECTION_OFFSET = -353365.0
  MAP_PROJECTION_ROTATION = 0.0
  MAP_PROJECTION_TYPE = SINUSOIDAL
  MAP_RESOLUTION = 4741.71043093333
  MAP_SCALE = 0.0125
  MAXIMUM_LATITUDE = -74.52249999999999
  MINIMUM_LATITUDE = -83.3057
  POSITIVE_LONGITUDE_DIRECTION = EAST
  REFERENCE_LATITUDE = "N/A"
  REFERENCE_LONGITUDE = "N/A"
  SAMPLE_FIRST_PIXEL = 1
  SAMPLE_LAST_PIXEL = 16407
  SAMPLE_PROJECTION_OFFSET = 8286.0
  SECOND_STANDARD_PARALLEL = "N/A"
  WESTERNMOST_LONGITUDE = 241.076
END_OBJECT = IMAGE_MAP_PROJECTION
END
