PDS_VERSION_ID = PDS3
/* FILE DATA ELEMENTS */
RECORD_TYPE = UNDEFINED
/* POINTERS TO DATA OBJECTS */
^IMAGE = ("HP444_0000_IR4.TIF")
/* IDENTIFICATION DATA ELEMENTS */
DATA_SET_ID = "MEX-M-HRSC-4-REFDR-MAPPROJECT-EXT9-V4.0"
DATA_SET_NAME = "MARS EXPRESS HRSC MAP PROJECTED REFDR EXTENSION9 V4.0"
DETECTOR_ID = MEX_HRSC_IR
EVENT_TYPE = "MARS-REGIONAL-MAPPING-Gl-La"
INSTRUMENT_HOST_ID = MEX
INSTRUMENT_HOST_NAME = "MARS EXPRESS"
INSTRUMENT_ID = HRSC
INSTRUMENT_NAME = "HIGH RESOLUTION STEREO CAMERA"
MISSION_NAME = "MARS EXPRESS"
MISSION_PHASE_NAME = ME_Phase_50
PROCESSING_LEVEL_ID = 4
PRODUCT_CREATION_TIME = 2024-08-19T12:52:58.000Z
PRODUCT_ID = "HP444_0000_IR4.TIF"
RELEASE_ID = 0012
REVISION_ID = 0000
/* QUALITY DATA ELEMENTS */
DATA_QUALITY_ID = 1
DATA_QUALITY_DESC = "Data calculated based on original SPICE kernels"
/* TIME DATA ELEMENTS */
SPACECRAFT_CLOCK_START_COUNT = "1/0656999497.00370"
SPACECRAFT_CLOCK_STOP_COUNT = "1/0656999720.39042"
START_TIME = 2024-02-26T03:53:25.957Z
STOP_TIME = 2024-02-26T03:56:00.016Z
/* ORBITAL DATA ELEMENTS */
ASCENDING_NODE_LONGITUDE = 102.14
MAXIMUM_RESOLUTION = 0.0588
FOOTPRINT_POINT_LATITUDE = (-85.3298,-85.1009,-84.8593,-84.6481, -84.6409,-84.6776,-84.4488,-84.2132, -83.9719,-83.7253,-83.5581,-83.304, -83.0461,-82.8724,-82.6975,-82.5216, -82.3445,-82.1664,-81.898,-81.6258, -81.3516,-81.1679,-80.8911,-80.6127, -80.3311,-80.1452,-79.958,-79.77, -79.4876,-79.2991,-79.1101,-78.8258, -78.6355,-78.445,-78.1591,-77.9681, -77.6814,-77.3947,-77.2011,-77.0072, -76.8142,-76.5278,-76.2393,-75.9495, -75.6581,-75.5609,-75.5226,-75.6079, -75.6865,-75.7309,-75.7611,-75.7628, -75.7642,-75.9606,-76.1545,-76.4444, -76.6397,-76.8352,-77.0342,-77.2327, -77.4295,-77.6264,-77.921,-78.1172, -78.3134,-78.5096,-78.8036,-78.9992, -79.1952,-79.4883,-79.6799,-79.971, -80.1659,-80.3609,-80.5569,-80.7503, -80.9447,-81.1391,-81.3339,-81.6256, -81.9182,-82.1144,-82.4032,-82.6911, -82.8824,-83.0733,-83.2632,-83.453, -83.6414,-83.8278,-84.0121,-84.1965, -84.381,-84.5642,-84.7468,-84.9284, -85.108,-85.2862,-85.3745,-85.3298)
FOOTPRINT_POINT_LONGITUDE = (85.4,80.92,77.0544,74.1789,74.0869, 73.3099,75.3781,77.2786,79.0238,80.6325 ,81.6362,83.0446,84.3474,85.1608, 85.9326,86.6657,87.3642,88.0299,88.9669 ,89.8545,90.6852,91.2088,91.9532, 92.6534,93.3218,93.7326,94.1317,94.5173 ,95.0667,95.4157,95.7521,96.2355, 96.5449,96.8434,97.2709,97.5443,97.9369 ,98.3092,98.5547,98.7927,99.0201, 99.3382,99.647,99.9453,100.234,100.328, 100.364,101.99,103.446,104.417,105.207, 105.254,105.269,105.146,105.017,104.815 ,104.678,104.536,104.393,104.244, 104.089,103.93,103.679,103.505,103.324, 103.138,102.845,102.64,102.428,102.095, 101.858,101.49,101.232,100.964,100.686, 100.394,100.089,99.7717,99.4399,98.9127 ,98.3476,97.948,97.3071,96.6148,96.1217 ,95.6012,95.0507,94.468,93.8501,93.1944 ,92.4979,91.7564,90.9654,90.1205, 89.2159,88.2455,87.2034,86.0811,85.4877 ,85.4)
ORBIT_NUMBER = 25444
ORBITAL_ECCENTRICITY = 0.574
ORBITAL_INCLINATION = 87.07
ORBITAL_SEMIMAJOR_AXIS = 8758.88
PERIAPSIS_ALTITUDE = 354.92
PERIAPSIS_ARGUMENT_ANGLE = 282.26
PERIAPSIS_TIME = 2024-02-26T03:55:07.000Z
SPACECRAFT_ORIENTATION = (0.0,1.0,0.0)
^MEX_ORIENTATION_DESC = "MEX_ORIENTATION_DESC.TXT"
SPACECRAFT_POINTING_MODE = NADIR
^MEX_POINTING_DESC = "MEX_POINTING_DESC.TXT"
RIGHT_ASCENSION = -1e+32
DECLINATION = -1e+32
OFFSET_ANGLE = -1e+32
SPACECRAFT_SOLAR_DISTANCE = 2.11986e+08
TARGET_NAME = MARS
/* CAMERA DATA ELEMENTS */
DETECTOR_TEMPERATURE = 16.7393
FOCAL_PLANE_TEMPERATURE = 8.7872
INST_CMPRS_NAME = "DISCRETE COSINE TRANSFORMATION (DCT)"
INST_CMPRS_RATIO = 6.75251
INST_CMPRS_QUALITY = 0
INST_CMPRS_QUANTZ_TBL_ID = 0
INSTRUMENT_TEMPERATURE = 11.234
LENS_TEMPERATURE = 8.9911
MACROPIXEL_SIZE = 4
MISSING_FRAMES = 0
PIXEL_SUBSAMPLING_FLAG = N
SIGNAL_CHAIN_ID = 2
/* RADIOMETRIC DATA ELEMENTS */
BANDWIDTH = 81.0
CENTER_FILTER_WAVELENGTH = 955.5
RADIANCE_OFFSET = 0.54872
RADIANCE_SCALING_FACTOR = 0.00826503
REFLECTANCE_SCALING_FACTOR = 0.000801279
MEX:REFLECTANCE_OFFSET = 0.0531973
/* IMAGE OBJECT DEFINITIONS */
OBJECT = IMAGE
  INTERCHANGE_FORMAT = BINARY
  LINES = 11746
  LINE_SAMPLES = 5035
  SAMPLE_TYPE = UNSIGNED_INTEGER
  SAMPLE_BITS = 8
  BANDS = 1
  BAND_STORAGE_TYPE = BAND_SEQUENTIAL
  MAXIMUM = 255
  MEAN = 85.597
  MINIMUM = 1
  STANDARD_DEVIATION = 48.8923
END_OBJECT = IMAGE
/* MAP OBJECT DEFINITIONS */
OBJECT = IMAGE_MAP_PROJECTION
  ^DATA_SET_MAP_PROJECTION_CATALOG= "DSMAP.CAT"
  A_AXIS_RADIUS = 3396.0
  B_AXIS_RADIUS = 3396.0
  C_AXIS_RADIUS = 3396.0
  CENTER_LATITUDE = 0.0
  CENTER_LONGITUDE = 97.0
  COORDINATE_SYSTEM_NAME = PLANETOGRAPHIC
  COORDINATE_SYSTEM_TYPE = "BODY-FIXED ROTATING"
  EASTERNMOST_LONGITUDE = 105.269
  FIRST_STANDARD_PARALLEL = "N/A"
  LINE_FIRST_PIXEL = 1
  LINE_LAST_PIXEL = 11746
  LINE_PROJECTION_OFFSET = -89529.125
  MAP_PROJECTION_ROTATION = 0.0
  MAP_PROJECTION_TYPE = SINUSOIDAL
  MAP_RESOLUTION = 1185.42760773333
  MAP_SCALE = 0.05
  MAXIMUM_LATITUDE = -75.5226
  MINIMUM_LATITUDE = -85.3745
  POSITIVE_LONGITUDE_DIRECTION = EAST
  REFERENCE_LATITUDE = "N/A"
  REFERENCE_LONGITUDE = "N/A"
  SAMPLE_FIRST_PIXEL = 1
  SAMPLE_LAST_PIXEL = 5035
  SAMPLE_PROJECTION_OFFSET = 2631.625
  SECOND_STANDARD_PARALLEL = "N/A"
  WESTERNMOST_LONGITUDE = 73.3099
END_OBJECT = IMAGE_MAP_PROJECTION
END
