PDS_VERSION_ID = PDS3
/* FILE DATA ELEMENTS */
RECORD_TYPE = UNDEFINED
/* POINTERS TO DATA OBJECTS */
^IMAGE = ("HP439_0000_S24.TIF")
/* IDENTIFICATION DATA ELEMENTS */
DATA_SET_ID = "MEX-M-HRSC-4-REFDR-MAPPROJECT-EXT9-V4.0"
DATA_SET_NAME = "MARS EXPRESS HRSC MAP PROJECTED REFDR EXTENSION9 V4.0"
DETECTOR_ID = MEX_HRSC_S2
EVENT_TYPE = "MARS-REGIONAL-MAPPING-Gl-Ot-Ts"
INSTRUMENT_HOST_ID = MEX
INSTRUMENT_HOST_NAME = "MARS EXPRESS"
INSTRUMENT_ID = HRSC
INSTRUMENT_NAME = "HIGH RESOLUTION STEREO CAMERA"
MISSION_NAME = "MARS EXPRESS"
MISSION_PHASE_NAME = ME_Phase_50
PROCESSING_LEVEL_ID = 4
PRODUCT_CREATION_TIME = 2024-08-19T12:52:58.000Z
PRODUCT_ID = "HP439_0000_S24.TIF"
RELEASE_ID = 0012
REVISION_ID = 0000
/* QUALITY DATA ELEMENTS */
DATA_QUALITY_ID = 1
DATA_QUALITY_DESC = "Data calculated based on original SPICE kernels"
/* TIME DATA ELEMENTS */
SPACECRAFT_CLOCK_START_COUNT = "1/0656873870.65104"
SPACECRAFT_CLOCK_STOP_COUNT = "1/0656874093.62276"
START_TIME = 2024-02-24T16:58:37.993Z
STOP_TIME = 2024-02-24T17:01:09.995Z
/* ORBITAL DATA ELEMENTS */
ASCENDING_NODE_LONGITUDE = 102.23
MAXIMUM_RESOLUTION = 0.0304
FOOTPRINT_POINT_LATITUDE = (-78.6124,-78.5282,-78.4393,-78.3457, -78.2471,-78.1432,-77.9914,-77.9842, -77.8315,-77.627,-77.4219,-77.1309, -76.8699,-76.4326,-76.2565,-75.9038, -75.7265,-75.5484,-75.3703,-75.1917, -74.9229,-74.743,-74.5631,-74.383, -74.1116,-73.7498,-73.4767,-73.2939, -73.1112,-72.8371,-72.5615,-72.3774, -72.1946,-72.011,-71.8258,-71.6396, -71.4544,-71.1763,-70.8963,-70.7101, -70.5242,-70.3378,-70.0581,-69.8705, -69.6848,-69.4973,-69.2141,-68.8822, -68.6587,-68.5419,-68.5122,-68.5964, -68.665,-68.7345,-68.7933,-68.9261, -68.9295,-68.9312,-69.2729,-69.5011, -69.7119,-69.9006,-70.0908,-70.2836, -70.4749,-70.6635,-70.8542,-71.1392, -71.4237,-71.6125,-71.8954,-72.0847, -72.274,-72.5569,-72.7463,-72.9347, -73.1227,-73.4044,-73.8692,-74.0561, -74.336,-74.5227,-74.7083,-74.8973, -75.0842,-75.4523,-75.6368,-75.8226, -76.1883,-76.3769,-76.7394,-77.0135, -77.196,-77.3778,-77.65,-77.831, -78.1479,-78.3624,-78.4694,-78.6124)
FOOTPRINT_POINT_LONGITUDE = (245.284,244.409,243.531,242.648, 241.761,240.872,239.641,239.585,239.291 ,239.742,240.178,240.771,241.275, 242.072,242.376,242.962,243.244,243.518 ,243.785,244.047,244.426,244.671, 244.911,245.146,245.486,245.924,246.238 ,246.44,246.639,246.93,247.21,247.391, 247.571,247.747,247.916,248.08,248.243, 248.481,248.71,248.859,249.007,249.151, 249.362,249.497,249.634,249.765,249.954 ,250.174,250.32,250.383,250.404,251.123 ,251.611,252.213,252.738,254.002, 254.036,254.047,253.879,253.765,253.656 ,253.554,253.451,253.348,253.242, 253.132,253.022,252.851,252.675,252.553 ,252.367,252.239,252.11,251.909,251.772 ,251.632,251.488,251.267,250.877, 250.715,250.466,250.295,250.119,249.942 ,249.759,249.374,249.175,248.972, 248.546,248.329,247.866,247.504,247.255 ,246.998,246.599,246.322,245.817, 245.458,245.274,245.284)
ORBIT_NUMBER = 25439
ORBITAL_ECCENTRICITY = 0.574
ORBITAL_INCLINATION = 87.07
ORBITAL_SEMIMAJOR_AXIS = 8758.12
PERIAPSIS_ALTITUDE = 355.09
PERIAPSIS_ARGUMENT_ANGLE = 283.1
PERIAPSIS_TIME = 2024-02-24T16:59:46.000Z
SPACECRAFT_ORIENTATION = (0.0,1.0,0.0)
^MEX_ORIENTATION_DESC = "MEX_ORIENTATION_DESC.TXT"
SPACECRAFT_POINTING_MODE = ACROSSTRACK
^MEX_POINTING_DESC = "MEX_POINTING_DESC.TXT"
RIGHT_ASCENSION = -1e+32
DECLINATION = -1e+32
OFFSET_ANGLE = 1.603
SPACECRAFT_SOLAR_DISTANCE = 2.12188e+08
TARGET_NAME = MARS
/* CAMERA DATA ELEMENTS */
DETECTOR_TEMPERATURE = 17.351
FOCAL_PLANE_TEMPERATURE = 9.195
INST_CMPRS_NAME = "DISCRETE COSINE TRANSFORMATION (DCT)"
INST_CMPRS_RATIO = 12.4417
INST_CMPRS_QUALITY = 0
INST_CMPRS_QUANTZ_TBL_ID = 0
INSTRUMENT_TEMPERATURE = 11.234
LENS_TEMPERATURE = 9.195
MACROPIXEL_SIZE = 2
MISSING_FRAMES = 0
PIXEL_SUBSAMPLING_FLAG = N
SIGNAL_CHAIN_ID = 1
/* RADIOMETRIC DATA ELEMENTS */
BANDWIDTH = 178.0
CENTER_FILTER_WAVELENGTH = 679.0
RADIANCE_OFFSET = 6.71245
RADIANCE_SCALING_FACTOR = 0.0236112
REFLECTANCE_SCALING_FACTOR = 0.000562979
MEX:REFLECTANCE_OFFSET = 0.16005
/* IMAGE OBJECT DEFINITIONS */
OBJECT = IMAGE
  INTERCHANGE_FORMAT = BINARY
  LINES = 23302
  LINE_SAMPLES = 9145
  SAMPLE_TYPE = UNSIGNED_INTEGER
  SAMPLE_BITS = 8
  BANDS = 1
  BAND_STORAGE_TYPE = BAND_SEQUENTIAL
  MAXIMUM = 255
  MEAN = 188.881
  MINIMUM = 1
  STANDARD_DEVIATION = 54.268
END_OBJECT = IMAGE
/* MAP OBJECT DEFINITIONS */
OBJECT = IMAGE_MAP_PROJECTION
  ^DATA_SET_MAP_PROJECTION_CATALOG= "DSMAP.CAT"
  A_AXIS_RADIUS = 3396.0
  B_AXIS_RADIUS = 3396.0
  C_AXIS_RADIUS = 3396.0
  CENTER_LATITUDE = 0.0
  CENTER_LONGITUDE = 249.0
  COORDINATE_SYSTEM_NAME = PLANETOGRAPHIC
  COORDINATE_SYSTEM_TYPE = "BODY-FIXED ROTATING"
  EASTERNMOST_LONGITUDE = 254.047
  FIRST_STANDARD_PARALLEL = "N/A"
  LINE_FIRST_PIXEL = 1
  LINE_LAST_PIXEL = 23302
  LINE_PROJECTION_OFFSET = -162651.25
  MAP_PROJECTION_ROTATION = 0.0
  MAP_PROJECTION_TYPE = SINUSOIDAL
  MAP_RESOLUTION = 2370.85521546667
  MAP_SCALE = 0.025
  MAXIMUM_LATITUDE = -68.51220000000001
  MINIMUM_LATITUDE = -78.61239999999999
  POSITIVE_LONGITUDE_DIRECTION = EAST
  REFERENCE_LATITUDE = "N/A"
  REFERENCE_LONGITUDE = "N/A"
  SAMPLE_FIRST_PIXEL = 1
  SAMPLE_LAST_PIXEL = 9145
  SAMPLE_PROJECTION_OFFSET = 4561.75
  SECOND_STANDARD_PARALLEL = "N/A"
  WESTERNMOST_LONGITUDE = 239.291
END_OBJECT = IMAGE_MAP_PROJECTION
END
