PDS_VERSION_ID = PDS3
/* FILE DATA ELEMENTS */
RECORD_TYPE = UNDEFINED
/* POINTERS TO DATA OBJECTS */
^IMAGE = ("HP436_0000_P14.TIF")
/* IDENTIFICATION DATA ELEMENTS */
DATA_SET_ID = "MEX-M-HRSC-4-REFDR-MAPPROJECT-EXT9-V4.0"
DATA_SET_NAME = "MARS EXPRESS HRSC MAP PROJECTED REFDR EXTENSION9 V4.0"
DETECTOR_ID = MEX_HRSC_P1
EVENT_TYPE = "MARS-REGIONAL-MAPPING-Im-Gl-Ts"
INSTRUMENT_HOST_ID = MEX
INSTRUMENT_HOST_NAME = "MARS EXPRESS"
INSTRUMENT_ID = HRSC
INSTRUMENT_NAME = "HIGH RESOLUTION STEREO CAMERA"
MISSION_NAME = "MARS EXPRESS"
MISSION_PHASE_NAME = ME_Phase_50
PROCESSING_LEVEL_ID = 4
PRODUCT_CREATION_TIME = 2024-08-19T12:52:58.000Z
PRODUCT_ID = "HP436_0000_P14.TIF"
RELEASE_ID = 0012
REVISION_ID = 0000
/* QUALITY DATA ELEMENTS */
DATA_QUALITY_ID = 1
DATA_QUALITY_DESC = "Data calculated based on original SPICE kernels"
/* TIME DATA ELEMENTS */
SPACECRAFT_CLOCK_START_COUNT = "1/0656798393.00337"
SPACECRAFT_CLOCK_STOP_COUNT = "1/0656798611.14558"
START_TIME = 2024-02-23T20:01:35.583Z
STOP_TIME = 2024-02-23T20:04:04.676Z
/* ORBITAL DATA ELEMENTS */
ASCENDING_NODE_LONGITUDE = 102.28
MAXIMUM_RESOLUTION = 0.029
FOOTPRINT_POINT_LATITUDE = (-80.6215,-80.4982,-80.3582,-80.2819, -80.1695,-80.1641,-80.1773,-80.0071, -79.8361,-79.6642,-79.4917,-79.2316, -79.0573,-78.8824,-78.7069,-78.5307, -78.0888,-77.8211,-77.6421,-77.3735, -77.1939,-77.0139,-76.7408,-76.5599, -76.288,-76.1064,-75.9246,-75.742, -75.4688,-75.2863,-75.1034,-74.7392, -74.5553,-74.3722,-74.1869,-74.0025, -73.8184,-73.5428,-73.2665,-72.8981, -72.623,-72.4383,-72.2525,-71.9753, -71.6983,-71.5132,-71.2361,-71.1434, -71.1294,-71.1721,-71.2089,-71.2468, -71.303,-71.328,-71.3295,-71.3304, -71.6119,-71.7997,-72.1751,-72.4562, -72.7384,-72.9266,-73.114,-73.3019, -73.4892,-73.6772,-73.961,-74.1501, -74.5233,-74.7117,-74.9,-75.1826, -75.3701,-75.5574,-75.7453,-75.9332, -76.1204,-76.3075,-76.5881,-76.8681, -77.0549,-77.2418,-77.4322,-77.6186, -77.8043,-78.0831,-78.2688,-78.4542, -78.6387,-78.8236,-79.0082,-79.1925, -79.3765,-79.5603,-79.8351,-80.1095, -80.2918,-80.5633,-80.6539,-80.6215)
FOOTPRINT_POINT_LONGITUDE = (190.242,188.099,185.95,184.875,183.396 ,183.329,182.695,183.234,183.753, 184.252,184.734,185.422,185.864,186.293 ,186.705,187.109,188.043,188.592, 188.942,189.437,189.755,190.065,190.507 ,190.796,191.214,191.482,191.743, 192.004,192.367,192.603,192.834,193.256 ,193.474,193.678,193.897,194.101, 194.295,194.57,194.839,195.18,195.414, 195.575,195.741,195.97,196.189,196.334, 196.541,196.61,196.62,197.348,198.031, 198.782,200.025,200.635,200.672,200.686 ,200.529,200.422,200.201,200.029, 199.849,199.726,199.601,199.473,199.342 ,199.207,198.993,198.846,198.555, 198.398,198.238,197.988,197.819,197.645 ,197.464,197.279,197.09,196.895,196.593 ,196.278,196.059,195.832,195.594, 195.354,195.108,194.722,194.455,194.178 ,193.895,193.6,193.295,192.979,192.652, 192.312,191.781,191.216,190.822,190.209 ,189.995,190.242)
ORBIT_NUMBER = 25436
ORBITAL_ECCENTRICITY = 0.574
ORBITAL_INCLINATION = 87.08
ORBITAL_SEMIMAJOR_AXIS = 8758.17
PERIAPSIS_ALTITUDE = 354.99
PERIAPSIS_ARGUMENT_ANGLE = 283.61
PERIAPSIS_TIME = 2024-02-23T20:02:31.000Z
SPACECRAFT_ORIENTATION = (0.0,1.0,0.0)
^MEX_ORIENTATION_DESC = "MEX_ORIENTATION_DESC.TXT"
SPACECRAFT_POINTING_MODE = ACROSSTRACK
^MEX_POINTING_DESC = "MEX_POINTING_DESC.TXT"
RIGHT_ASCENSION = -1e+32
DECLINATION = -1e+32
OFFSET_ANGLE = 1.15
SPACECRAFT_SOLAR_DISTANCE = 2.12312e+08
TARGET_NAME = MARS
/* CAMERA DATA ELEMENTS */
DETECTOR_TEMPERATURE = 17.5549
FOCAL_PLANE_TEMPERATURE = 9.6028
INST_CMPRS_NAME = "DISCRETE COSINE TRANSFORMATION (DCT)"
INST_CMPRS_RATIO = 5.76879
INST_CMPRS_QUALITY = 0
INST_CMPRS_QUANTZ_TBL_ID = 0
INSTRUMENT_TEMPERATURE = 11.8457
LENS_TEMPERATURE = 8.3794
MACROPIXEL_SIZE = 2
MISSING_FRAMES = 1
PIXEL_SUBSAMPLING_FLAG = N
SIGNAL_CHAIN_ID = 3
/* RADIOMETRIC DATA ELEMENTS */
BANDWIDTH = 174.0
CENTER_FILTER_WAVELENGTH = 675.0
RADIANCE_OFFSET = 3.14229
RADIANCE_SCALING_FACTOR = 0.0292865
REFLECTANCE_SCALING_FACTOR = 0.000710069
MEX:REFLECTANCE_OFFSET = 0.0761869
/* IMAGE OBJECT DEFINITIONS */
OBJECT = IMAGE
  INTERCHANGE_FORMAT = BINARY
  LINES = 22791
  LINE_SAMPLES = 9247
  SAMPLE_TYPE = UNSIGNED_INTEGER
  SAMPLE_BITS = 8
  BANDS = 1
  BAND_STORAGE_TYPE = BAND_SEQUENTIAL
  MAXIMUM = 255
  MEAN = 127.581
  MINIMUM = 1
  STANDARD_DEVIATION = 74.501
END_OBJECT = IMAGE
/* MAP OBJECT DEFINITIONS */
OBJECT = IMAGE_MAP_PROJECTION
  ^DATA_SET_MAP_PROJECTION_CATALOG= "DSMAP.CAT"
  A_AXIS_RADIUS = 3396.0
  B_AXIS_RADIUS = 3396.0
  C_AXIS_RADIUS = 3396.0
  CENTER_LATITUDE = 0.0
  CENTER_LONGITUDE = 195.0
  COORDINATE_SYSTEM_NAME = PLANETOGRAPHIC
  COORDINATE_SYSTEM_TYPE = "BODY-FIXED ROTATING"
  EASTERNMOST_LONGITUDE = 200.686
  FIRST_STANDARD_PARALLEL = "N/A"
  LINE_FIRST_PIXEL = 1
  LINE_LAST_PIXEL = 22791
  LINE_PROJECTION_OFFSET = -168557.25
  MAP_PROJECTION_ROTATION = 0.0
  MAP_PROJECTION_TYPE = SINUSOIDAL
  MAP_RESOLUTION = 2370.85521546667
  MAP_SCALE = 0.025
  MAXIMUM_LATITUDE = -71.1294
  MINIMUM_LATITUDE = -80.65389999999999
  POSITIVE_LONGITUDE_DIRECTION = EAST
  REFERENCE_LATITUDE = "N/A"
  REFERENCE_LONGITUDE = "N/A"
  SAMPLE_FIRST_PIXEL = 1
  SAMPLE_LAST_PIXEL = 9247
  SAMPLE_PROJECTION_OFFSET = 4965.25
  SECOND_STANDARD_PARALLEL = "N/A"
  WESTERNMOST_LONGITUDE = 182.695
END_OBJECT = IMAGE_MAP_PROJECTION
END
