PDS_VERSION_ID = PDS3
/* FILE DATA ELEMENTS */
RECORD_TYPE = UNDEFINED
/* POINTERS TO DATA OBJECTS */
^IMAGE = ("HP435_0000_P14.TIF")
/* IDENTIFICATION DATA ELEMENTS */
DATA_SET_ID = "MEX-M-HRSC-4-REFDR-MAPPROJECT-EXT9-V4.0"
DATA_SET_NAME = "MARS EXPRESS HRSC MAP PROJECTED REFDR EXTENSION9 V4.0"
DETECTOR_ID = MEX_HRSC_P1
EVENT_TYPE = "MARS-REGIONAL-MAPPING-Gl-Pf-La"
INSTRUMENT_HOST_ID = MEX
INSTRUMENT_HOST_NAME = "MARS EXPRESS"
INSTRUMENT_ID = HRSC
INSTRUMENT_NAME = "HIGH RESOLUTION STEREO CAMERA"
MISSION_NAME = "MARS EXPRESS"
MISSION_PHASE_NAME = ME_Phase_50
PROCESSING_LEVEL_ID = 4
PRODUCT_CREATION_TIME = 2024-08-19T12:52:58.000Z
PRODUCT_ID = "HP435_0000_P14.TIF"
RELEASE_ID = 0012
REVISION_ID = 0000
/* QUALITY DATA ELEMENTS */
DATA_QUALITY_ID = 1
DATA_QUALITY_DESC = "Data calculated based on original SPICE kernels"
/* TIME DATA ELEMENTS */
SPACECRAFT_CLOCK_START_COUNT = "1/0656773210.65140"
SPACECRAFT_CLOCK_STOP_COUNT = "1/0656773433.48703"
START_TIME = 2024-02-23T13:01:54.236Z
STOP_TIME = 2024-02-23T13:04:27.720Z
/* ORBITAL DATA ELEMENTS */
ASCENDING_NODE_LONGITUDE = 102.3
MAXIMUM_RESOLUTION = 0.0289
FOOTPRINT_POINT_LATITUDE = (-83.1903,-83.0421,-82.8763,-82.6574, -82.6513,-82.6771,-82.508,-82.3387, -82.1664,-81.9054,-81.7295,-81.465, -81.2871,-81.0193,-80.8391,-80.6576, -80.4764,-80.2922,-80.0181,-79.8337, -79.6489,-79.4625,-79.2772,-79.091, -78.904,-78.6213,-78.4322,-78.0574, -77.8668,-77.5824,-77.3923,-77.2025, -77.0132,-76.7286,-76.5376,-76.25, -75.9639,-75.7719,-75.5803,-75.2924, -75.0043,-74.716,-74.5238,-74.3312, -74.0423,-73.8496,-73.657,-73.4641, -73.3676,-73.3652,-73.4901,-73.5723, -73.5739,-73.5749,-73.7708,-73.9668, -74.2606,-74.5549,-74.7509,-74.9467, -75.1428,-75.4369,-75.6325,-75.8279, -76.0242,-76.2204,-76.4164,-76.7097, -76.9051,-77.1005,-77.2961,-77.5892, -77.8813,-78.1742,-78.3708,-78.5654, -78.7594,-78.951,-79.2462,-79.5389, -79.7343,-79.9288,-80.1202,-80.3136, -80.5074,-80.699,-80.9852,-81.177, -81.3665,-81.6532,-81.844,-82.0346, -82.2216,-82.4102,-82.5981,-82.7854, -82.9717,-83.1574,-83.2499,-83.1903)
FOOTPRINT_POINT_LONGITUDE = (290.679,287.834,285.086,281.953, 281.872,281.245,282.074,282.84,283.601, 284.682,285.37,286.324,286.93,287.784, 288.332,288.862,289.361,289.864,290.548 ,290.992,291.416,291.835,292.225, 292.605,292.973,293.514,293.86,294.485, 294.8,295.241,295.524,295.794,296.051, 296.424,296.669,297.028,297.359,297.578 ,297.788,298.093,298.385,298.664, 298.844,299.019,299.274,299.438,299.598 ,299.754,299.831,299.832,302.196, 304.129,304.171,304.186,304.077,303.965 ,303.792,303.612,303.488,303.361,303.23 ,303.027,302.887,302.742,302.593,302.44 ,302.283,302.037,301.867,301.692, 301.511,301.228,300.932,300.62,300.403, 300.178,299.946,299.707,299.327,298.927 ,298.646,298.355,298.055,297.74,297.412 ,297.072,296.534,296.155,295.76,295.131 ,294.686,294.219,293.733,293.22,292.681 ,292.113,291.515,290.884,290.555, 290.679)
ORBIT_NUMBER = 25435
ORBITAL_ECCENTRICITY = 0.574
ORBITAL_INCLINATION = 87.07
ORBITAL_SEMIMAJOR_AXIS = 8758.12
PERIAPSIS_ALTITUDE = 355.57
PERIAPSIS_ARGUMENT_ANGLE = 283.8
PERIAPSIS_TIME = 2024-02-23T13:03:30.000Z
SPACECRAFT_ORIENTATION = (0.0,1.0,0.0)
^MEX_ORIENTATION_DESC = "MEX_ORIENTATION_DESC.TXT"
SPACECRAFT_POINTING_MODE = ACROSSTRACK
^MEX_POINTING_DESC = "MEX_POINTING_DESC.TXT"
RIGHT_ASCENSION = -1e+32
DECLINATION = -1e+32
OFFSET_ANGLE = 0.4
SPACECRAFT_SOLAR_DISTANCE = 2.12353e+08
TARGET_NAME = MARS
/* CAMERA DATA ELEMENTS */
DETECTOR_TEMPERATURE = 17.7588
FOCAL_PLANE_TEMPERATURE = 10.2145
INST_CMPRS_NAME = "DISCRETE COSINE TRANSFORMATION (DCT)"
INST_CMPRS_RATIO = 6.73691
INST_CMPRS_QUALITY = 0
INST_CMPRS_QUANTZ_TBL_ID = 0
INSTRUMENT_TEMPERATURE = 11.4379
LENS_TEMPERATURE = 9.3989
MACROPIXEL_SIZE = 2
MISSING_FRAMES = 0
PIXEL_SUBSAMPLING_FLAG = N
SIGNAL_CHAIN_ID = 3
/* RADIOMETRIC DATA ELEMENTS */
BANDWIDTH = 174.0
CENTER_FILTER_WAVELENGTH = 675.0
RADIANCE_OFFSET = 3.99928
RADIANCE_SCALING_FACTOR = 0.0262458
REFLECTANCE_SCALING_FACTOR = 0.000636594
MEX:REFLECTANCE_OFFSET = 0.097003
/* IMAGE OBJECT DEFINITIONS */
OBJECT = IMAGE
  INTERCHANGE_FORMAT = BINARY
  LINES = 23514
  LINE_SAMPLES = 9573
  SAMPLE_TYPE = UNSIGNED_INTEGER
  SAMPLE_BITS = 8
  BANDS = 1
  BAND_STORAGE_TYPE = BAND_SEQUENTIAL
  MAXIMUM = 255
  MEAN = 133.867
  MINIMUM = 1
  STANDARD_DEVIATION = 45.4672
END_OBJECT = IMAGE
/* MAP OBJECT DEFINITIONS */
OBJECT = IMAGE_MAP_PROJECTION
  ^DATA_SET_MAP_PROJECTION_CATALOG= "DSMAP.CAT"
  A_AXIS_RADIUS = 3396.0
  B_AXIS_RADIUS = 3396.0
  C_AXIS_RADIUS = 3396.0
  CENTER_LATITUDE = 0.0
  CENTER_LONGITUDE = 297.0
  COORDINATE_SYSTEM_NAME = PLANETOGRAPHIC
  COORDINATE_SYSTEM_TYPE = "BODY-FIXED ROTATING"
  EASTERNMOST_LONGITUDE = 304.186
  FIRST_STANDARD_PARALLEL = "N/A"
  LINE_FIRST_PIXEL = 1
  LINE_LAST_PIXEL = 23514
  LINE_PROJECTION_OFFSET = -173931.25
  MAP_PROJECTION_ROTATION = 0.0
  MAP_PROJECTION_TYPE = SINUSOIDAL
  MAP_RESOLUTION = 2370.85521546667
  MAP_SCALE = 0.025
  MAXIMUM_LATITUDE = -73.3652
  MINIMUM_LATITUDE = -83.2499
  POSITIVE_LONGITUDE_DIRECTION = EAST
  REFERENCE_LATITUDE = "N/A"
  REFERENCE_LONGITUDE = "N/A"
  SAMPLE_FIRST_PIXEL = 1
  SAMPLE_LAST_PIXEL = 9573
  SAMPLE_PROJECTION_OFFSET = 4781.25
  SECOND_STANDARD_PARALLEL = "N/A"
  WESTERNMOST_LONGITUDE = 281.245
END_OBJECT = IMAGE_MAP_PROJECTION
END
