PDS_VERSION_ID = PDS3
/* FILE DATA ELEMENTS */
RECORD_TYPE = UNDEFINED
/* POINTERS TO DATA OBJECTS */
^IMAGE = ("HP435_0000_GR4.TIF")
/* IDENTIFICATION DATA ELEMENTS */
DATA_SET_ID = "MEX-M-HRSC-4-REFDR-MAPPROJECT-EXT9-V4.0"
DATA_SET_NAME = "MARS EXPRESS HRSC MAP PROJECTED REFDR EXTENSION9 V4.0"
DETECTOR_ID = MEX_HRSC_GREEN
EVENT_TYPE = "MARS-REGIONAL-MAPPING-Gl-Pf-La"
INSTRUMENT_HOST_ID = MEX
INSTRUMENT_HOST_NAME = "MARS EXPRESS"
INSTRUMENT_ID = HRSC
INSTRUMENT_NAME = "HIGH RESOLUTION STEREO CAMERA"
MISSION_NAME = "MARS EXPRESS"
MISSION_PHASE_NAME = ME_Phase_50
PROCESSING_LEVEL_ID = 4
PRODUCT_CREATION_TIME = 2024-08-19T12:52:58.000Z
PRODUCT_ID = "HP435_0000_GR4.TIF"
RELEASE_ID = 0012
REVISION_ID = 0000
/* QUALITY DATA ELEMENTS */
DATA_QUALITY_ID = 1
DATA_QUALITY_DESC = "Data calculated based on original SPICE kernels"
/* TIME DATA ELEMENTS */
SPACECRAFT_CLOCK_START_COUNT = "1/0656773210.65140"
SPACECRAFT_CLOCK_STOP_COUNT = "1/0656773433.48703"
START_TIME = 2024-02-23T13:01:38.102Z
STOP_TIME = 2024-02-23T13:04:11.844Z
/* ORBITAL DATA ELEMENTS */
ASCENDING_NODE_LONGITUDE = 102.3
MAXIMUM_RESOLUTION = 0.0564
FOOTPRINT_POINT_LATITUDE = (-83.2576,-83.1475,-83.0124,-82.8375, -82.7018,-82.6957,-82.6798,-82.1719, -81.9136,-81.4767,-81.0328,-80.8536, -80.6737,-80.4021,-80.2204,-79.8541, -79.6701,-79.4855,-79.2075,-79.0215, -78.7416,-78.5545,-78.2728,-78.0846, -77.896,-77.6123,-77.4227,-77.2329, -76.9475,-76.566,-76.2792,-75.9919, -75.8,-75.6079,-75.4157,-75.2233, -75.0306,-74.8379,-74.6449,-74.4518, -74.2586,-74.0652,-73.8717,-73.6781, -73.4843,-73.3874,-73.369,-73.4601, -73.5356,-73.5938,-73.5955,-73.5969, -73.7938,-73.9908,-74.1876,-74.4828, -74.6796,-74.8763,-75.1713,-75.3679, -75.5643,-75.7605,-75.9569,-76.1533, -76.3495,-76.5455,-76.7414,-76.9372, -77.1329,-77.3285,-77.6216,-77.8168, -78.0116,-78.2071,-78.4019,-78.5963, -78.8869,-79.1784,-79.3728,-79.5665, -79.7601,-79.9532,-80.1453,-80.3378, -80.53,-80.7214,-81.0077,-81.1982, -81.388,-81.5777,-81.7672,-81.9562, -82.1438,-82.3313,-82.5182,-82.7043, -82.8897,-83.1662,-83.258,-83.2576)
FOOTPRINT_POINT_LONGITUDE = (290.46,288.388,286.121,283.529,281.726 ,281.649,281.238,283.587,284.661, 286.296,287.757,288.304,288.832,289.579 ,290.071,290.962,291.387,291.8,292.389, 292.764,293.302,293.659,294.146,294.463 ,294.776,295.219,295.503,295.775, 296.167,296.66,297.016,297.352,297.572, 297.784,297.991,298.191,298.385,298.575 ,298.758,298.937,299.112,299.282, 299.448,299.609,299.766,299.844,299.858 ,301.381,302.824,304.103,304.143, 304.156,304.047,303.934,303.819,303.641 ,303.518,303.392,303.196,303.061, 302.922,302.779,302.632,302.481,302.325 ,302.165,301.999,301.829,301.653, 301.471,301.188,300.991,300.788,300.579 ,300.362,300.137,299.783,299.413, 299.155,298.886,298.608,298.318,298.016 ,297.702,297.376,297.036,296.497, 296.119,295.723,295.31,294.878,294.426, 293.951,293.453,292.931,292.381,291.803 ,290.876,290.55,290.46)
ORBIT_NUMBER = 25435
ORBITAL_ECCENTRICITY = 0.574
ORBITAL_INCLINATION = 87.07
ORBITAL_SEMIMAJOR_AXIS = 8758.12
PERIAPSIS_ALTITUDE = 355.57
PERIAPSIS_ARGUMENT_ANGLE = 283.8
PERIAPSIS_TIME = 2024-02-23T13:03:30.000Z
SPACECRAFT_ORIENTATION = (0.0,1.0,0.0)
^MEX_ORIENTATION_DESC = "MEX_ORIENTATION_DESC.TXT"
SPACECRAFT_POINTING_MODE = ACROSSTRACK
^MEX_POINTING_DESC = "MEX_POINTING_DESC.TXT"
RIGHT_ASCENSION = -1e+32
DECLINATION = -1e+32
OFFSET_ANGLE = 0.4
SPACECRAFT_SOLAR_DISTANCE = 2.12353e+08
TARGET_NAME = MARS
/* CAMERA DATA ELEMENTS */
DETECTOR_TEMPERATURE = 18.3705
FOCAL_PLANE_TEMPERATURE = 10.2145
INST_CMPRS_NAME = "DISCRETE COSINE TRANSFORMATION (DCT)"
INST_CMPRS_RATIO = 7.23149
INST_CMPRS_QUALITY = 0
INST_CMPRS_QUANTZ_TBL_ID = 0
INSTRUMENT_TEMPERATURE = 11.4379
LENS_TEMPERATURE = 9.3989
MACROPIXEL_SIZE = 4
MISSING_FRAMES = 0
PIXEL_SUBSAMPLING_FLAG = N
SIGNAL_CHAIN_ID = 2
/* RADIOMETRIC DATA ELEMENTS */
BANDWIDTH = 88.0
CENTER_FILTER_WAVELENGTH = 538.0
RADIANCE_OFFSET = 1.56076
RADIANCE_SCALING_FACTOR = 0.0147711
REFLECTANCE_SCALING_FACTOR = 0.000573481
MEX:REFLECTANCE_OFFSET = 0.0605957
/* IMAGE OBJECT DEFINITIONS */
OBJECT = IMAGE
  INTERCHANGE_FORMAT = BINARY
  LINES = 11757
  LINE_SAMPLES = 4787
  SAMPLE_TYPE = UNSIGNED_INTEGER
  SAMPLE_BITS = 8
  BANDS = 1
  BAND_STORAGE_TYPE = BAND_SEQUENTIAL
  MAXIMUM = 255
  MEAN = 92.0769
  MINIMUM = 1
  STANDARD_DEVIATION = 37.751
END_OBJECT = IMAGE
/* MAP OBJECT DEFINITIONS */
OBJECT = IMAGE_MAP_PROJECTION
  ^DATA_SET_MAP_PROJECTION_CATALOG= "DSMAP.CAT"
  A_AXIS_RADIUS = 3396.0
  B_AXIS_RADIUS = 3396.0
  C_AXIS_RADIUS = 3396.0
  CENTER_LATITUDE = 0.0
  CENTER_LONGITUDE = 297.0
  COORDINATE_SYSTEM_NAME = PLANETOGRAPHIC
  COORDINATE_SYSTEM_TYPE = "BODY-FIXED ROTATING"
  EASTERNMOST_LONGITUDE = 304.156
  FIRST_STANDARD_PARALLEL = "N/A"
  LINE_FIRST_PIXEL = 1
  LINE_LAST_PIXEL = 11757
  LINE_PROJECTION_OFFSET = -86965.875
  MAP_PROJECTION_ROTATION = 0.0
  MAP_PROJECTION_TYPE = SINUSOIDAL
  MAP_RESOLUTION = 1185.42760773333
  MAP_SCALE = 0.05
  MAXIMUM_LATITUDE = -73.369
  MINIMUM_LATITUDE = -83.258
  POSITIVE_LONGITUDE_DIRECTION = EAST
  REFERENCE_LATITUDE = "N/A"
  REFERENCE_LONGITUDE = "N/A"
  SAMPLE_FIRST_PIXEL = 1
  SAMPLE_LAST_PIXEL = 4787
  SAMPLE_PROJECTION_OFFSET = 2390.375
  SECOND_STANDARD_PARALLEL = "N/A"
  WESTERNMOST_LONGITUDE = 281.238
END_OBJECT = IMAGE_MAP_PROJECTION
END
