PDS_VERSION_ID = PDS3
/* FILE DATA ELEMENTS */
RECORD_TYPE = UNDEFINED
/* POINTERS TO DATA OBJECTS */
^IMAGE = ("HP435_0000_BL4.TIF")
/* IDENTIFICATION DATA ELEMENTS */
DATA_SET_ID = "MEX-M-HRSC-4-REFDR-MAPPROJECT-EXT9-V4.0"
DATA_SET_NAME = "MARS EXPRESS HRSC MAP PROJECTED REFDR EXTENSION9 V4.0"
DETECTOR_ID = MEX_HRSC_BLUE
EVENT_TYPE = "MARS-REGIONAL-MAPPING-Gl-Pf-La"
INSTRUMENT_HOST_ID = MEX
INSTRUMENT_HOST_NAME = "MARS EXPRESS"
INSTRUMENT_ID = HRSC
INSTRUMENT_NAME = "HIGH RESOLUTION STEREO CAMERA"
MISSION_NAME = "MARS EXPRESS"
MISSION_PHASE_NAME = ME_Phase_50
PROCESSING_LEVEL_ID = 4
PRODUCT_CREATION_TIME = 2024-08-19T12:52:58.000Z
PRODUCT_ID = "HP435_0000_BL4.TIF"
RELEASE_ID = 0012
REVISION_ID = 0000
/* QUALITY DATA ELEMENTS */
DATA_QUALITY_ID = 1
DATA_QUALITY_DESC = "Data calculated based on original SPICE kernels"
/* TIME DATA ELEMENTS */
SPACECRAFT_CLOCK_START_COUNT = "1/0656773210.65140"
SPACECRAFT_CLOCK_STOP_COUNT = "1/0656773433.48703"
START_TIME = 2024-02-23T13:01:26.673Z
STOP_TIME = 2024-02-23T13:04:00.945Z
/* ORBITAL DATA ELEMENTS */
ASCENDING_NODE_LONGITUDE = 102.3
MAXIMUM_RESOLUTION = 0.0564
FOOTPRINT_POINT_LATITUDE = (-83.3077,-83.1792,-83.0112,-82.7349, -82.7286,-82.6838,-82.4333,-82.0944, -81.8388,-81.5769,-81.4015,-81.1369, -80.9587,-80.7803,-80.6014,-80.2412, -80.0583,-79.8761,-79.693,-79.4178, -79.2328,-79.0477,-78.8619,-78.4911, -78.3029,-78.0206,-77.8342,-77.6437, -77.3616,-77.0768,-76.8863,-76.6949, -76.5047,-76.3137,-76.0264,-75.8348, -75.6429,-75.4507,-75.162,-74.9693, -74.6797,-74.4864,-74.2931,-74.0995, -73.9058,-73.7118,-73.5178,-73.4207, -73.3688,-73.4451,-73.5456,-73.6051, -73.6069,-73.6084,-73.8057,-74.0029, -74.2001,-74.4957,-74.7911,-74.988, -75.1847,-75.3814,-75.578,-75.7746, -75.9709,-76.167,-76.461,-76.6569, -76.8527,-77.0484,-77.3414,-77.5366, -77.7316,-77.9266,-78.218,-78.4123, -78.7033,-78.898,-79.0915,-79.284, -79.4766,-79.7648,-80.053,-80.2449, -80.4359,-80.6269,-80.8179,-81.1031, -81.2928,-81.5762,-81.7643,-81.9517, -82.1391,-82.4185,-82.6038,-82.7884, -82.9722,-83.1551,-83.2463,-83.3077)
FOOTPRINT_POINT_LONGITUDE = (290.317,287.971,285.285,281.535, 281.458,281.192,282.405,283.902,284.956 ,285.924,286.54,287.42,287.974,288.51, 289.028,290.007,290.459,290.903,291.329 ,291.945,292.333,292.709,293.072, 293.776,294.098,294.567,294.88,295.162, 295.593,295.995,296.251,296.496,296.742 ,296.978,297.318,297.538,297.751, 297.959,298.259,298.452,298.732,298.912 ,299.088,299.26,299.427,299.589,299.748 ,299.825,299.866,301.063,302.859, 304.094,304.134,304.147,304.037,303.925 ,303.81,303.632,303.447,303.319,303.187 ,303.052,302.913,302.77,302.623,302.473 ,302.238,302.075,301.907,301.734, 301.465,301.278,301.085,300.885,300.575 ,300.359,300.02,299.78,299.535,299.286, 299.025,298.616,298.179,297.872,297.556 ,297.225,296.878,296.332,295.947, 295.339,294.912,294.466,293.993,293.246 ,292.716,292.16,291.573,290.956,290.635 ,290.317)
ORBIT_NUMBER = 25435
ORBITAL_ECCENTRICITY = 0.574
ORBITAL_INCLINATION = 87.07
ORBITAL_SEMIMAJOR_AXIS = 8758.12
PERIAPSIS_ALTITUDE = 355.57
PERIAPSIS_ARGUMENT_ANGLE = 283.8
PERIAPSIS_TIME = 2024-02-23T13:03:30.000Z
SPACECRAFT_ORIENTATION = (0.0,1.0,0.0)
^MEX_ORIENTATION_DESC = "MEX_ORIENTATION_DESC.TXT"
SPACECRAFT_POINTING_MODE = ACROSSTRACK
^MEX_POINTING_DESC = "MEX_POINTING_DESC.TXT"
RIGHT_ASCENSION = -1e+32
DECLINATION = -1e+32
OFFSET_ANGLE = 0.4
SPACECRAFT_SOLAR_DISTANCE = 2.12353e+08
TARGET_NAME = MARS
/* CAMERA DATA ELEMENTS */
DETECTOR_TEMPERATURE = 18.3705
FOCAL_PLANE_TEMPERATURE = 10.2145
INST_CMPRS_NAME = "DISCRETE COSINE TRANSFORMATION (DCT)"
INST_CMPRS_RATIO = 7.90986
INST_CMPRS_QUALITY = 0
INST_CMPRS_QUANTZ_TBL_ID = 0
INSTRUMENT_TEMPERATURE = 11.4379
LENS_TEMPERATURE = 9.3989
MACROPIXEL_SIZE = 4
MISSING_FRAMES = 0
PIXEL_SUBSAMPLING_FLAG = N
SIGNAL_CHAIN_ID = 2
/* RADIOMETRIC DATA ELEMENTS */
BANDWIDTH = 76.0
CENTER_FILTER_WAVELENGTH = 444.0
RADIANCE_OFFSET = 0.723125
RADIANCE_SCALING_FACTOR = 0.0102928
REFLECTANCE_SCALING_FACTOR = 0.00047688
MEX:REFLECTANCE_OFFSET = 0.0335032
/* IMAGE OBJECT DEFINITIONS */
OBJECT = IMAGE
  INTERCHANGE_FORMAT = BINARY
  LINES = 11757
  LINE_SAMPLES = 4787
  SAMPLE_TYPE = UNSIGNED_INTEGER
  SAMPLE_BITS = 8
  BANDS = 1
  BAND_STORAGE_TYPE = BAND_SEQUENTIAL
  MAXIMUM = 255
  MEAN = 68.6961
  MINIMUM = 1
  STANDARD_DEVIATION = 34.9718
END_OBJECT = IMAGE
/* MAP OBJECT DEFINITIONS */
OBJECT = IMAGE_MAP_PROJECTION
  ^DATA_SET_MAP_PROJECTION_CATALOG= "DSMAP.CAT"
  A_AXIS_RADIUS = 3396.0
  B_AXIS_RADIUS = 3396.0
  C_AXIS_RADIUS = 3396.0
  CENTER_LATITUDE = 0.0
  CENTER_LONGITUDE = 297.0
  COORDINATE_SYSTEM_NAME = PLANETOGRAPHIC
  COORDINATE_SYSTEM_TYPE = "BODY-FIXED ROTATING"
  EASTERNMOST_LONGITUDE = 304.147
  FIRST_STANDARD_PARALLEL = "N/A"
  LINE_FIRST_PIXEL = 1
  LINE_LAST_PIXEL = 11757
  LINE_PROJECTION_OFFSET = -86965.875
  MAP_PROJECTION_ROTATION = 0.0
  MAP_PROJECTION_TYPE = SINUSOIDAL
  MAP_RESOLUTION = 1185.42760773333
  MAP_SCALE = 0.05
  MAXIMUM_LATITUDE = -73.36879999999999
  MINIMUM_LATITUDE = -83.3077
  POSITIVE_LONGITUDE_DIRECTION = EAST
  REFERENCE_LATITUDE = "N/A"
  REFERENCE_LONGITUDE = "N/A"
  SAMPLE_FIRST_PIXEL = 1
  SAMPLE_LAST_PIXEL = 4787
  SAMPLE_PROJECTION_OFFSET = 2390.375
  SECOND_STANDARD_PARALLEL = "N/A"
  WESTERNMOST_LONGITUDE = 281.192
END_OBJECT = IMAGE_MAP_PROJECTION
END
