PDS_VERSION_ID = PDS3
/* FILE DATA ELEMENTS */
RECORD_TYPE = UNDEFINED
/* POINTERS TO DATA OBJECTS */
^IMAGE = ("HP433_0000_S24.TIF")
/* IDENTIFICATION DATA ELEMENTS */
DATA_SET_ID = "MEX-M-HRSC-4-REFDR-MAPPROJECT-EXT9-V4.0"
DATA_SET_NAME = "MARS EXPRESS HRSC MAP PROJECTED REFDR EXTENSION9 V4.0"
DETECTOR_ID = MEX_HRSC_S2
EVENT_TYPE = "MARS-REGIONAL-MAPPING-Gl-Eo-La"
INSTRUMENT_HOST_ID = MEX
INSTRUMENT_HOST_NAME = "MARS EXPRESS"
INSTRUMENT_ID = HRSC
INSTRUMENT_NAME = "HIGH RESOLUTION STEREO CAMERA"
MISSION_NAME = "MARS EXPRESS"
MISSION_PHASE_NAME = ME_Phase_50
PROCESSING_LEVEL_ID = 4
PRODUCT_CREATION_TIME = 2024-08-19T12:52:58.000Z
PRODUCT_ID = "HP433_0000_S24.TIF"
RELEASE_ID = 0012
REVISION_ID = 0000
/* QUALITY DATA ELEMENTS */
DATA_QUALITY_ID = 1
DATA_QUALITY_DESC = "Data calculated based on original SPICE kernels"
/* TIME DATA ELEMENTS */
SPACECRAFT_CLOCK_START_COUNT = "1/0656722926.65121"
SPACECRAFT_CLOCK_STOP_COUNT = "1/0656723193.07532"
START_TIME = 2024-02-22T23:03:11.798Z
STOP_TIME = 2024-02-22T23:06:12.795Z
/* ORBITAL DATA ELEMENTS */
ASCENDING_NODE_LONGITUDE = 102.33
MAXIMUM_RESOLUTION = 0.03
FOOTPRINT_POINT_LATITUDE = (-81.8018,-81.6609,-81.5445,-81.3817, -81.3768,-81.2683,-80.9587,-80.746, -80.3242,-80.0066,-79.5771,-79.3606, -79.1432,-78.9246,-78.7053,-78.4871, -78.2673,-78.0464,-77.825,-77.6036, -77.3801,-77.159,-76.826,-76.6024, -76.3781,-76.1533,-75.9278,-75.7018, -75.4741,-75.2476,-75.0192,-74.7912, -74.5658,-74.3378,-74.1087,-73.8796, -73.5313,-73.2991,-73.0657,-72.8325, -72.6023,-72.2604,-72.0303,-71.7989, -71.5663,-71.3346,-71.1009,-70.868, -70.6358,-70.4027,-70.1705,-70.0538, -70.0256,-70.0836,-70.143,-70.1916, -70.1928,-70.1937,-70.4291,-70.7807, -71.0154,-71.2507,-71.6032,-71.8375, -72.0725,-72.4232,-72.6642,-72.898, -73.1326,-73.4832,-73.8317,-74.0662, -74.2993,-74.5311,-74.8733,-75.1072, -75.3407,-75.5714,-75.9169,-76.149, -76.3808,-76.7245,-77.1793,-77.4085, -77.6376,-77.8655,-78.3182,-78.667, -79.0065,-79.2327,-79.4584,-79.6834, -79.9077,-80.4664,-80.9066,-81.1302, -81.3588,-81.5809,-81.6916,-81.8018)
FOOTPRINT_POINT_LONGITUDE = (142.1,138.996,136.839,134.229,134.156, 134.226,135.106,135.663,136.699,137.417 ,138.307,138.724,139.125,139.51,139.879 ,140.234,140.575,140.904,141.22,141.525 ,141.819,142.102,142.509,142.768, 143.018,143.26,143.494,143.72,143.938, 144.15,144.354,144.553,144.745,144.932, 145.112,145.287,145.539,145.7,145.857, 146.009,146.157,146.374,146.512,146.647 ,146.777,146.904,147.027,147.148, 147.265,147.379,147.49,147.544,147.557, 148.611,149.883,151.164,151.199,151.212 ,151.14,151.031,150.955,150.877,150.755 ,150.671,150.585,150.452,150.35,150.255 ,150.156,150.003,149.847,149.735, 149.621,149.505,149.334,149.205,149.072 ,148.939,148.732,148.584,148.431, 148.198,147.874,147.698,147.515,147.327 ,146.935,146.593,146.253,146.014, 145.764,145.504,145.234,144.503,143.871 ,143.515,143.117,142.723,142.519,142.1)
ORBIT_NUMBER = 25433
ORBITAL_ECCENTRICITY = 0.574
ORBITAL_INCLINATION = 87.06
ORBITAL_SEMIMAJOR_AXIS = 8760.55
PERIAPSIS_ALTITUDE = 356.21
PERIAPSIS_ARGUMENT_ANGLE = 284.12
PERIAPSIS_TIME = 2024-02-22T23:05:20.000Z
SPACECRAFT_ORIENTATION = (0.0,1.0,0.0)
^MEX_ORIENTATION_DESC = "MEX_ORIENTATION_DESC.TXT"
SPACECRAFT_POINTING_MODE = NADIR
^MEX_POINTING_DESC = "MEX_POINTING_DESC.TXT"
RIGHT_ASCENSION = -1e+32
DECLINATION = -1e+32
OFFSET_ANGLE = -1e+32
SPACECRAFT_SOLAR_DISTANCE = 2.12436e+08
TARGET_NAME = MARS
/* CAMERA DATA ELEMENTS */
DETECTOR_TEMPERATURE = 18.3705
FOCAL_PLANE_TEMPERATURE = 8.7872
INST_CMPRS_NAME = "DISCRETE COSINE TRANSFORMATION (DCT)"
INST_CMPRS_RATIO = 7.59925
INST_CMPRS_QUALITY = 0
INST_CMPRS_QUANTZ_TBL_ID = 0
INSTRUMENT_TEMPERATURE = 11.0301
LENS_TEMPERATURE = 7.7677
MACROPIXEL_SIZE = 2
MISSING_FRAMES = 0
PIXEL_SUBSAMPLING_FLAG = N
SIGNAL_CHAIN_ID = 1
/* RADIOMETRIC DATA ELEMENTS */
BANDWIDTH = 178.0
CENTER_FILTER_WAVELENGTH = 679.0
RADIANCE_OFFSET = 3.49592
RADIANCE_SCALING_FACTOR = 0.0287518
REFLECTANCE_SCALING_FACTOR = 0.000687151
MEX:REFLECTANCE_OFFSET = 0.0835502
/* IMAGE OBJECT DEFINITIONS */
OBJECT = IMAGE
  INTERCHANGE_FORMAT = BINARY
  LINES = 30232
  LINE_SAMPLES = 8985
  SAMPLE_TYPE = UNSIGNED_INTEGER
  SAMPLE_BITS = 8
  BANDS = 1
  BAND_STORAGE_TYPE = BAND_SEQUENTIAL
  MAXIMUM = 255
  MEAN = 107.571
  MINIMUM = 1
  STANDARD_DEVIATION = 38.3885
END_OBJECT = IMAGE
/* MAP OBJECT DEFINITIONS */
OBJECT = IMAGE_MAP_PROJECTION
  ^DATA_SET_MAP_PROJECTION_CATALOG= "DSMAP.CAT"
  A_AXIS_RADIUS = 3396.0
  B_AXIS_RADIUS = 3396.0
  C_AXIS_RADIUS = 3396.0
  CENTER_LATITUDE = 0.0
  CENTER_LONGITUDE = 146.0
  COORDINATE_SYSTEM_NAME = PLANETOGRAPHIC
  COORDINATE_SYSTEM_TYPE = "BODY-FIXED ROTATING"
  EASTERNMOST_LONGITUDE = 151.212
  FIRST_STANDARD_PARALLEL = "N/A"
  LINE_FIRST_PIXEL = 1
  LINE_LAST_PIXEL = 30232
  LINE_PROJECTION_OFFSET = -165995.25
  MAP_PROJECTION_ROTATION = 0.0
  MAP_PROJECTION_TYPE = SINUSOIDAL
  MAP_RESOLUTION = 2370.85521546667
  MAP_SCALE = 0.025
  MAXIMUM_LATITUDE = -70.0256
  MINIMUM_LATITUDE = -81.8018
  POSITIVE_LONGITUDE_DIRECTION = EAST
  REFERENCE_LATITUDE = "N/A"
  REFERENCE_LONGITUDE = "N/A"
  SAMPLE_FIRST_PIXEL = 1
  SAMPLE_LAST_PIXEL = 8985
  SAMPLE_PROJECTION_OFFSET = 4792.75
  SECOND_STANDARD_PARALLEL = "N/A"
  WESTERNMOST_LONGITUDE = 134.156
END_OBJECT = IMAGE_MAP_PROJECTION
END
