PDS_VERSION_ID = PDS3
/* FILE DATA ELEMENTS */
RECORD_TYPE = UNDEFINED
/* POINTERS TO DATA OBJECTS */
^IMAGE = ("HP432_0000_ND4.TIF")
/* IDENTIFICATION DATA ELEMENTS */
DATA_SET_ID = "MEX-M-HRSC-4-REFDR-MAPPROJECT-EXT9-V4.0"
DATA_SET_NAME = "MARS EXPRESS HRSC MAP PROJECTED REFDR EXTENSION9 V4.0"
DETECTOR_ID = MEX_HRSC_NADIR
EVENT_TYPE = "MARS-REGIONAL-MAPPING-Gl-Ot-Ts"
INSTRUMENT_HOST_ID = MEX
INSTRUMENT_HOST_NAME = "MARS EXPRESS"
INSTRUMENT_ID = HRSC
INSTRUMENT_NAME = "HIGH RESOLUTION STEREO CAMERA"
MISSION_NAME = "MARS EXPRESS"
MISSION_PHASE_NAME = ME_Phase_50
PROCESSING_LEVEL_ID = 4
PRODUCT_CREATION_TIME = 2024-08-19T12:52:58.000Z
PRODUCT_ID = "HP432_0000_ND4.TIF"
RELEASE_ID = 0012
REVISION_ID = 0000
/* QUALITY DATA ELEMENTS */
DATA_QUALITY_ID = 1
DATA_QUALITY_DESC = "Data calculated based on original SPICE kernels"
/* TIME DATA ELEMENTS */
SPACECRAFT_CLOCK_START_COUNT = "1/0656697846.65086"
SPACECRAFT_CLOCK_STOP_COUNT = "1/0656698073.64512"
START_TIME = 2024-02-22T16:05:27.947Z
STOP_TIME = 2024-02-22T16:08:02.830Z
/* ORBITAL DATA ELEMENTS */
ASCENDING_NODE_LONGITUDE = 102.35
MAXIMUM_RESOLUTION = 0.0143
FOOTPRINT_POINT_LATITUDE = (-78.0999,-78.0369,-77.9699,-77.8985, -77.8227,-77.7421,-77.6343,-77.6287, -77.5752,-77.2263,-76.8742,-76.5192, -76.163,-75.8051,-75.4458,-75.2655, -75.0849,-74.9041,-74.7228,-74.5412, -74.3594,-74.0861,-73.8123,-73.6293, -73.2627,-72.8033,-72.4355,-72.2489, -71.7886,-71.4183,-71.0479,-70.6767, -70.3043,-69.9769,-69.7547,-69.5324, -69.3099,-69.0873,-68.8646,-68.6422, -68.4088,-68.1855,-68.074,-68.0567, -68.1127,-68.1577,-68.2333,-68.2736, -68.3193,-68.3213,-68.3226,-68.5486, -68.7828,-69.009,-69.235,-69.4611, -69.6871,-69.9131,-70.1391,-70.365, -70.5879,-70.7771,-71.0609,-71.25, -71.439,-71.7226,-71.9114,-72.1002, -72.2889,-72.4774,-72.6661,-72.8545, -73.0428,-73.2311,-73.5135,-73.7953, -74.0769,-74.2645,-74.452,-74.6393, -74.8265,-75.0135,-75.2003,-75.387, -75.5735,-75.7598,-75.9459,-76.1317, -76.3174,-76.5028,-76.688,-76.873, -77.0576,-77.242,-77.4262,-77.6099, -77.7934,-77.9766,-78.068,-78.0999)
FOOTPRINT_POINT_LONGITUDE = (241.108,240.227,239.337,238.439, 237.532,236.617,235.459,235.401,234.876 ,235.614,236.303,236.946,237.561, 238.144,238.697,238.963,239.222,239.477 ,239.723,239.963,240.197,240.539, 240.868,241.081,241.492,241.979,242.355 ,242.511,242.96,243.287,243.605,243.908 ,244.189,244.435,244.597,244.755, 244.907,245.057,245.204,245.351,245.467 ,245.599,245.667,245.677,246.358, 246.933,247.973,248.571,249.293,249.326 ,249.343,249.236,249.127,249.018, 248.905,248.79,248.672,248.552,248.429, 248.304,248.176,248.065,247.896,247.779 ,247.66,247.479,247.353,247.225,247.093 ,246.957,246.821,246.681,246.536, 246.389,246.164,245.928,245.684,245.516 ,245.344,245.168,244.988,244.803, 244.613,244.419,244.219,244.014,243.803 ,243.587,243.364,243.136,242.901, 242.659,242.41,242.155,241.891,241.62, 241.34,241.051,240.904,241.108)
ORBIT_NUMBER = 25432
ORBITAL_ECCENTRICITY = 0.574
ORBITAL_INCLINATION = 87.07
ORBITAL_SEMIMAJOR_AXIS = 8758.91
PERIAPSIS_ALTITUDE = 354.92
PERIAPSIS_ARGUMENT_ANGLE = 284.27
PERIAPSIS_TIME = 2024-02-22T16:06:15.000Z
SPACECRAFT_ORIENTATION = (0.0,1.0,0.0)
^MEX_ORIENTATION_DESC = "MEX_ORIENTATION_DESC.TXT"
SPACECRAFT_POINTING_MODE = ACROSSTRACK
^MEX_POINTING_DESC = "MEX_POINTING_DESC.TXT"
RIGHT_ASCENSION = -1e+32
DECLINATION = -1e+32
OFFSET_ANGLE = 1.616
SPACECRAFT_SOLAR_DISTANCE = 2.12477e+08
TARGET_NAME = MARS
/* CAMERA DATA ELEMENTS */
DETECTOR_TEMPERATURE = 18.7783
FOCAL_PLANE_TEMPERATURE = 9.3989
INST_CMPRS_NAME = "DISCRETE COSINE TRANSFORMATION (DCT)"
INST_CMPRS_RATIO = 7.04887
INST_CMPRS_QUALITY = 0
INST_CMPRS_QUANTZ_TBL_ID = 0
INSTRUMENT_TEMPERATURE = 11.6418
LENS_TEMPERATURE = 9.8067
MACROPIXEL_SIZE = 1
PIXEL_SUBSAMPLING_FLAG = N
SIGNAL_CHAIN_ID = 0
/* RADIOMETRIC DATA ELEMENTS */
BANDWIDTH = 177.0
CENTER_FILTER_WAVELENGTH = 677.5
RADIANCE_OFFSET = 5.10442
RADIANCE_SCALING_FACTOR = 0.0298672
REFLECTANCE_SCALING_FACTOR = 0.000716316
MEX:REFLECTANCE_OFFSET = 0.122421
/* IMAGE OBJECT DEFINITIONS */
OBJECT = IMAGE
  INTERCHANGE_FORMAT = BINARY
  LINES = 47496
  LINE_SAMPLES = 18345
  SAMPLE_TYPE = UNSIGNED_INTEGER
  SAMPLE_BITS = 8
  BANDS = 1
  BAND_STORAGE_TYPE = BAND_SEQUENTIAL
  MAXIMUM = 255
  MEAN = 166.115
  MINIMUM = 1
  STANDARD_DEVIATION = 55.4572
END_OBJECT = IMAGE
/* MAP OBJECT DEFINITIONS */
OBJECT = IMAGE_MAP_PROJECTION
  ^DATA_SET_MAP_PROJECTION_CATALOG= "DSMAP.CAT"
  A_AXIS_RADIUS = 3396.0
  B_AXIS_RADIUS = 3396.0
  C_AXIS_RADIUS = 3396.0
  CENTER_LATITUDE = 0.0
  CENTER_LONGITUDE = 244.0
  COORDINATE_SYSTEM_NAME = PLANETOGRAPHIC
  COORDINATE_SYSTEM_TYPE = "BODY-FIXED ROTATING"
  EASTERNMOST_LONGITUDE = 249.343
  FIRST_STANDARD_PARALLEL = "N/A"
  LINE_FIRST_PIXEL = 1
  LINE_LAST_PIXEL = 47496
  LINE_PROJECTION_OFFSET = -322834.0
  MAP_PROJECTION_ROTATION = 0.0
  MAP_PROJECTION_TYPE = SINUSOIDAL
  MAP_RESOLUTION = 4741.71043093333
  MAP_SCALE = 0.0125
  MAXIMUM_LATITUDE = -68.05670000000001
  MINIMUM_LATITUDE = -78.09990000000001
  POSITIVE_LONGITUDE_DIRECTION = EAST
  REFERENCE_LATITUDE = "N/A"
  REFERENCE_LONGITUDE = "N/A"
  SAMPLE_FIRST_PIXEL = 1
  SAMPLE_LAST_PIXEL = 18345
  SAMPLE_PROJECTION_OFFSET = 8759.0
  SECOND_STANDARD_PARALLEL = "N/A"
  WESTERNMOST_LONGITUDE = 234.876
END_OBJECT = IMAGE_MAP_PROJECTION
END
