PDS_VERSION_ID = PDS3
/* FILE DATA ELEMENTS */
RECORD_TYPE = UNDEFINED
/* POINTERS TO DATA OBJECTS */
^IMAGE = ("HP430_0000_P24.TIF")
/* IDENTIFICATION DATA ELEMENTS */
DATA_SET_ID = "MEX-M-HRSC-4-REFDR-MAPPROJECT-EXT9-V4.0"
DATA_SET_NAME = "MARS EXPRESS HRSC MAP PROJECTED REFDR EXTENSION9 V4.0"
DETECTOR_ID = MEX_HRSC_P2
EVENT_TYPE = "MARS-REGIONAL-MAPPING-Gl-Pf-La"
INSTRUMENT_HOST_ID = MEX
INSTRUMENT_HOST_NAME = "MARS EXPRESS"
INSTRUMENT_ID = HRSC
INSTRUMENT_NAME = "HIGH RESOLUTION STEREO CAMERA"
MISSION_NAME = "MARS EXPRESS"
MISSION_PHASE_NAME = ME_Phase_50
PROCESSING_LEVEL_ID = 4
PRODUCT_CREATION_TIME = 2024-08-19T12:52:58.000Z
PRODUCT_ID = "HP430_0000_P24.TIF"
RELEASE_ID = 0012
REVISION_ID = 0000
/* QUALITY DATA ELEMENTS */
DATA_QUALITY_ID = 1
DATA_QUALITY_DESC = "Data calculated based on original SPICE kernels"
/* TIME DATA ELEMENTS */
SPACECRAFT_CLOCK_START_COUNT = "1/0656647445.00335"
SPACECRAFT_CLOCK_STOP_COUNT = "1/0656647677.16920"
START_TIME = 2024-02-22T02:05:04.722Z
STOP_TIME = 2024-02-22T02:07:48.827Z
/* ORBITAL DATA ELEMENTS */
ASCENDING_NODE_LONGITUDE = 102.38
MAXIMUM_RESOLUTION = 0.029
FOOTPRINT_POINT_LATITUDE = (-85.5157,-85.4341,-85.3653,-85.2891, -85.2062,-85.1172,-85.0226,-85.0165, -84.9666,-84.7693,-84.569,-84.3661, -84.0571,-83.7435,-83.5325,-83.3198, -83.1055,-82.8897,-82.6724,-82.3441, -82.0135,-81.792,-81.5684,-81.3455, -81.1328,-80.7568,-80.2837,-80.0934, -79.7133,-79.5222,-79.3309,-79.1392, -78.9473,-78.755,-78.4661,-78.2731, -78.0798,-77.8861,-77.6923,-77.4983, -77.3037,-77.1098,-76.9148,-76.5269, -76.2338,-76.0384,-75.8415,-75.5505, -75.3539,-75.0599,-74.961,-74.9517, -74.9871,-75.0146,-75.0284,-75.0533, -75.0535,-75.0541,-75.353,-75.7425, -75.9454,-76.1423,-76.3407,-76.5391, -76.74,-76.9369,-77.2302,-77.4279, -77.6265,-77.824,-78.0216,-78.2189, -78.5148,-78.7119,-78.9089,-79.1058, -79.3025,-79.5977,-79.9872,-80.2837, -80.4813,-80.7765,-80.9714,-81.3599, -81.5777,-81.924,-82.1553,-82.3865, -82.617,-82.9622,-83.3063,-83.6499, -83.8797,-84.2228,-84.4501,-84.7899, -85.0149,-85.3509,-85.4624,-85.5157)
FOOTPRINT_POINT_LONGITUDE = (87.9279,84.4177,81.9854,79.6542, 77.4287,75.3048,73.2797,73.1564,73.6182 ,74.9407,76.1673,77.3071,78.8715, 80.2795,81.1402,81.9465,82.7035,83.4146 ,84.0848,85.0181,85.8735,86.4047, 86.9121,87.3869,87.8159,88.5212,89.3258 ,89.6266,90.1887,90.4553,90.7116, 90.9589,91.1968,91.4264,91.7558,91.966, 92.1691,92.3658,92.5555,92.7389,92.9171 ,93.0879,93.255,93.5684,93.794,93.9385, 94.0809,94.2786,94.4096,94.5973,94.6593 ,94.6651,95.8551,97.027,97.794,99.4917, 99.5421,99.5599,99.4707,99.3928,99.3067 ,99.2505,99.184,99.1144,99.027,98.9608, 98.8683,98.7893,98.7015,98.6168,98.5283 ,98.4374,98.294,98.1935,98.0892,97.9808 ,97.8687,97.6892,97.4617,97.2375,97.079 ,96.8359,96.6801,96.3536,96.1646, 95.8337,95.5871,95.3222,95.0451,94.593, 94.0959,93.537,93.109,92.41,91.9071, 91.0691,90.4587,89.4324,89.057,87.9279)
ORBIT_NUMBER = 25430
ORBITAL_ECCENTRICITY = 0.574
ORBITAL_INCLINATION = 87.07
ORBITAL_SEMIMAJOR_AXIS = 8760.69
PERIAPSIS_ALTITUDE = 354.6
PERIAPSIS_ARGUMENT_ANGLE = 284.61
PERIAPSIS_TIME = 2024-02-22T02:08:06.000Z
SPACECRAFT_ORIENTATION = (0.0,1.0,0.0)
^MEX_ORIENTATION_DESC = "MEX_ORIENTATION_DESC.TXT"
SPACECRAFT_POINTING_MODE = ACROSSTRACK
^MEX_POINTING_DESC = "MEX_POINTING_DESC.TXT"
RIGHT_ASCENSION = -1e+32
DECLINATION = -1e+32
OFFSET_ANGLE = -0.916
SPACECRAFT_SOLAR_DISTANCE = 2.12561e+08
TARGET_NAME = MARS
/* CAMERA DATA ELEMENTS */
DETECTOR_TEMPERATURE = 18.7783
FOCAL_PLANE_TEMPERATURE = 9.3989
INST_CMPRS_NAME = "DISCRETE COSINE TRANSFORMATION (DCT)"
INST_CMPRS_RATIO = 4.98504
INST_CMPRS_QUALITY = 0
INST_CMPRS_QUANTZ_TBL_ID = 0
INSTRUMENT_TEMPERATURE = 10.6223
LENS_TEMPERATURE = 9.6028
MACROPIXEL_SIZE = 2
MISSING_FRAMES = 0
PIXEL_SUBSAMPLING_FLAG = N
SIGNAL_CHAIN_ID = 3
/* RADIOMETRIC DATA ELEMENTS */
BANDWIDTH = 177.0
CENTER_FILTER_WAVELENGTH = 676.5
RADIANCE_OFFSET = 2.31456
RADIANCE_SCALING_FACTOR = 0.0318342
REFLECTANCE_SCALING_FACTOR = 0.00076264
MEX:REFLECTANCE_OFFSET = 0.0554489
/* IMAGE OBJECT DEFINITIONS */
OBJECT = IMAGE
  INTERCHANGE_FORMAT = BINARY
  LINES = 25035
  LINE_SAMPLES = 7573
  SAMPLE_TYPE = UNSIGNED_INTEGER
  SAMPLE_BITS = 8
  BANDS = 1
  BAND_STORAGE_TYPE = BAND_SEQUENTIAL
  MAXIMUM = 255
  MEAN = 99.0867
  MINIMUM = 1
  STANDARD_DEVIATION = 49.4219
END_OBJECT = IMAGE
/* MAP OBJECT DEFINITIONS */
OBJECT = IMAGE_MAP_PROJECTION
  ^DATA_SET_MAP_PROJECTION_CATALOG= "DSMAP.CAT"
  A_AXIS_RADIUS = 3396.0
  B_AXIS_RADIUS = 3396.0
  C_AXIS_RADIUS = 3396.0
  CENTER_LATITUDE = 0.0
  CENTER_LONGITUDE = 94.0
  COORDINATE_SYSTEM_NAME = PLANETOGRAPHIC
  COORDINATE_SYSTEM_TYPE = "BODY-FIXED ROTATING"
  EASTERNMOST_LONGITUDE = 99.5599
  FIRST_STANDARD_PARALLEL = "N/A"
  LINE_FIRST_PIXEL = 1
  LINE_LAST_PIXEL = 25035
  LINE_PROJECTION_OFFSET = -177626.75
  MAP_PROJECTION_ROTATION = 0.0
  MAP_PROJECTION_TYPE = SINUSOIDAL
  MAP_RESOLUTION = 2370.85521546667
  MAP_SCALE = 0.025
  MAXIMUM_LATITUDE = -74.9517
  MINIMUM_LATITUDE = -85.5157
  POSITIVE_LONGITUDE_DIRECTION = EAST
  REFERENCE_LATITUDE = "N/A"
  REFERENCE_LONGITUDE = "N/A"
  SAMPLE_FIRST_PIXEL = 1
  SAMPLE_LAST_PIXEL = 7573
  SAMPLE_PROJECTION_OFFSET = 4194.75
  SECOND_STANDARD_PARALLEL = "N/A"
  WESTERNMOST_LONGITUDE = 73.1564
END_OBJECT = IMAGE_MAP_PROJECTION
END
