PDS_VERSION_ID = PDS3
/* FILE DATA ELEMENTS */
RECORD_TYPE = UNDEFINED
/* POINTERS TO DATA OBJECTS */
^IMAGE = ("HP418_0000_S14.TIF")
/* IDENTIFICATION DATA ELEMENTS */
DATA_SET_ID = "MEX-M-HRSC-4-REFDR-MAPPROJECT-EXT9-V4.0"
DATA_SET_NAME = "MARS EXPRESS HRSC MAP PROJECTED REFDR EXTENSION9 V4.0"
DETECTOR_ID = MEX_HRSC_S1
EVENT_TYPE = "MARS-REGIONAL-MAPPING-Gl-Tc-Ot"
INSTRUMENT_HOST_ID = MEX
INSTRUMENT_HOST_NAME = "MARS EXPRESS"
INSTRUMENT_ID = HRSC
INSTRUMENT_NAME = "HIGH RESOLUTION STEREO CAMERA"
MISSION_NAME = "MARS EXPRESS"
MISSION_PHASE_NAME = ME_Phase_50
PROCESSING_LEVEL_ID = 4
PRODUCT_CREATION_TIME = 2024-08-19T12:52:58.000Z
PRODUCT_ID = "HP418_0000_S14.TIF"
RELEASE_ID = 0012
REVISION_ID = 0000
/* QUALITY DATA ELEMENTS */
DATA_QUALITY_ID = 1
DATA_QUALITY_DESC = "Data calculated based on original SPICE kernels"
/* TIME DATA ELEMENTS */
SPACECRAFT_CLOCK_START_COUNT = "1/0656345794.65162"
SPACECRAFT_CLOCK_STOP_COUNT = "1/0656346023.08432"
START_TIME = 2024-02-18T14:18:28.990Z
STOP_TIME = 2024-02-18T14:21:07.952Z
/* ORBITAL DATA ELEMENTS */
ASCENDING_NODE_LONGITUDE = 102.6
MAXIMUM_RESOLUTION = 0.0302
FOOTPRINT_POINT_LATITUDE = (-77.3069,-77.2295,-77.139,-77.0885, -77.0129,-77.0093,-77.0651,-76.783, -76.5939,-76.3103,-76.1206,-75.8361, -75.5508,-75.3599,-75.0733,-74.8816, -74.5941,-74.402,-74.2096,-73.9201, -73.7276,-73.4384,-73.2453,-72.9555, -72.7617,-72.5685,-72.2785,-71.9881, -71.7939,-71.5999,-71.3098,-71.0185, -70.8245,-70.6303,-70.4361,-70.2416, -69.9539,-69.7553,-69.3678,-69.1734, -68.9796,-68.6889,-68.4948,-68.3005, -68.0771,-67.8457,-67.6136,-67.3816, -67.266,-67.2474,-67.2997,-67.3179, -67.3426,-67.3562,-67.3569,-67.3576, -67.7089,-67.9434,-68.1775,-68.4055, -68.6023,-68.897,-69.2888,-69.4863, -69.7813,-69.9803,-70.2766,-70.5723, -70.7693,-70.9666,-71.2624,-71.4608, -71.6599,-71.8573,-72.0549,-72.2524, -72.4476,-72.6457,-72.8437,-73.0415, -73.3376,-73.5353,-73.7325,-73.9303, -74.1275,-74.3255,-74.5226,-74.8191, -75.0165,-75.3123,-75.6077,-75.9031, -76.0997,-76.3943,-76.5912,-76.7874, -77.0807,-77.276,-77.3736,-77.3069)
FOOTPRINT_POINT_LONGITUDE = (233.47,231.792,230.073,229.199,227.98, 227.925,227.32,227.823,228.15,228.616, 228.917,229.347,229.761,230.03,230.417, 230.669,231.031,231.266,231.496,231.832 ,232.044,232.355,232.556,232.847, 233.038,233.22,233.486,233.743,233.913, 234.077,234.311,234.542,234.691,234.837 ,234.979,235.121,235.308,235.46,235.711 ,235.836,235.956,236.131,236.246, 236.359,236.489,236.617,236.745,236.87, 236.93,236.939,238.345,238.925,239.828, 240.416,240.448,240.46,240.321,240.225, 240.128,240.031,239.945,239.814,239.636 ,239.541,239.398,239.296,239.143, 238.987,238.88,238.77,238.601,238.483, 238.361,238.24,238.115,237.988,237.863, 237.728,237.59,237.45,237.234,237.084, 236.932,236.775,236.614,236.448,236.279 ,236.014,235.832,235.55,235.257,234.95, 234.739,234.41,234.18,233.945,233.581, 233.328,233.199,233.47)
ORBIT_NUMBER = 25418
ORBITAL_ECCENTRICITY = 0.574
ORBITAL_INCLINATION = 87.07
ORBITAL_SEMIMAJOR_AXIS = 8760.61
PERIAPSIS_ALTITUDE = 354.54
PERIAPSIS_ARGUMENT_ANGLE = 286.61
PERIAPSIS_TIME = 2024-02-18T14:19:07.000Z
SPACECRAFT_ORIENTATION = (0.0,1.0,0.0)
^MEX_ORIENTATION_DESC = "MEX_ORIENTATION_DESC.TXT"
SPACECRAFT_POINTING_MODE = ACROSSTRACK
^MEX_POINTING_DESC = "MEX_POINTING_DESC.TXT"
RIGHT_ASCENSION = -1e+32
DECLINATION = -1e+32
OFFSET_ANGLE = 1.374
SPACECRAFT_SOLAR_DISTANCE = 2.13072e+08
TARGET_NAME = MARS
/* CAMERA DATA ELEMENTS */
DETECTOR_TEMPERATURE = 17.7588
FOCAL_PLANE_TEMPERATURE = 9.6028
INST_CMPRS_NAME = "DISCRETE COSINE TRANSFORMATION (DCT)"
INST_CMPRS_RATIO = 9.07901
INST_CMPRS_QUALITY = 0
INST_CMPRS_QUANTZ_TBL_ID = 0
INSTRUMENT_TEMPERATURE = 11.4379
LENS_TEMPERATURE = 8.7872
MACROPIXEL_SIZE = 2
MISSING_FRAMES = 0
PIXEL_SUBSAMPLING_FLAG = N
SIGNAL_CHAIN_ID = 1
/* RADIOMETRIC DATA ELEMENTS */
BANDWIDTH = 180.0
CENTER_FILTER_WAVELENGTH = 677.0
RADIANCE_OFFSET = 5.7645
RADIANCE_SCALING_FACTOR = 0.0261671
REFLECTANCE_SCALING_FACTOR = 0.000619801
MEX:REFLECTANCE_OFFSET = 0.13654
/* IMAGE OBJECT DEFINITIONS */
OBJECT = IMAGE
  INTERCHANGE_FORMAT = BINARY
  LINES = 24298
  LINE_SAMPLES = 8422
  SAMPLE_TYPE = UNSIGNED_INTEGER
  SAMPLE_BITS = 8
  BANDS = 1
  BAND_STORAGE_TYPE = BAND_SEQUENTIAL
  MAXIMUM = 255
  MEAN = 153.976
  MINIMUM = 1
  STANDARD_DEVIATION = 53.6281
END_OBJECT = IMAGE
/* MAP OBJECT DEFINITIONS */
OBJECT = IMAGE_MAP_PROJECTION
  ^DATA_SET_MAP_PROJECTION_CATALOG= "DSMAP.CAT"
  A_AXIS_RADIUS = 3396.0
  B_AXIS_RADIUS = 3396.0
  C_AXIS_RADIUS = 3396.0
  CENTER_LATITUDE = 0.0
  CENTER_LONGITUDE = 236.0
  COORDINATE_SYSTEM_NAME = PLANETOGRAPHIC
  COORDINATE_SYSTEM_TYPE = "BODY-FIXED ROTATING"
  EASTERNMOST_LONGITUDE = 240.46
  FIRST_STANDARD_PARALLEL = "N/A"
  LINE_FIRST_PIXEL = 1
  LINE_LAST_PIXEL = 24298
  LINE_PROJECTION_OFFSET = -159369.75
  MAP_PROJECTION_ROTATION = 0.0
  MAP_PROJECTION_TYPE = SINUSOIDAL
  MAP_RESOLUTION = 2370.85521546667
  MAP_SCALE = 0.025
  MAXIMUM_LATITUDE = -67.2474
  MINIMUM_LATITUDE = -77.3736
  POSITIVE_LONGITUDE_DIRECTION = EAST
  REFERENCE_LATITUDE = "N/A"
  REFERENCE_LONGITUDE = "N/A"
  SAMPLE_FIRST_PIXEL = 1
  SAMPLE_LAST_PIXEL = 8422
  SAMPLE_PROJECTION_OFFSET = 4331.75
  SECOND_STANDARD_PARALLEL = "N/A"
  WESTERNMOST_LONGITUDE = 227.32
END_OBJECT = IMAGE_MAP_PROJECTION
END
