PDS_VERSION_ID = PDS3
/* FILE DATA ELEMENTS */
RECORD_TYPE = UNDEFINED
/* POINTERS TO DATA OBJECTS */
^IMAGE = ("HP411_0000_RE4.TIF")
/* IDENTIFICATION DATA ELEMENTS */
DATA_SET_ID = "MEX-M-HRSC-4-REFDR-MAPPROJECT-EXT9-V4.0"
DATA_SET_NAME = "MARS EXPRESS HRSC MAP PROJECTED REFDR EXTENSION9 V4.0"
DETECTOR_ID = MEX_HRSC_RED
EVENT_TYPE = "MARS-TERMINATOR-CALIBRATION-Tc"
INSTRUMENT_HOST_ID = MEX
INSTRUMENT_HOST_NAME = "MARS EXPRESS"
INSTRUMENT_ID = HRSC
INSTRUMENT_NAME = "HIGH RESOLUTION STEREO CAMERA"
MISSION_NAME = "MARS EXPRESS"
MISSION_PHASE_NAME = ME_Phase_50
PROCESSING_LEVEL_ID = 4
PRODUCT_CREATION_TIME = 2024-08-19T12:52:58.000Z
PRODUCT_ID = "HP411_0000_RE4.TIF"
RELEASE_ID = 0012
REVISION_ID = 0000
/* QUALITY DATA ELEMENTS */
DATA_QUALITY_ID = 1
DATA_QUALITY_DESC = "Data calculated based on original SPICE kernels"
/* TIME DATA ELEMENTS */
SPACECRAFT_CLOCK_START_COUNT = "1/0656174438.65120"
SPACECRAFT_CLOCK_STOP_COUNT = "1/0656174954.60888"
START_TIME = 2024-02-16T14:45:11.857Z
STOP_TIME = 2024-02-16T14:49:59.777Z
/* ORBITAL DATA ELEMENTS */
ASCENDING_NODE_LONGITUDE = 102.72
MAXIMUM_RESOLUTION = 0.527
FOOTPRINT_POINT_LATITUDE = (35.7196,35.4433,35.7549,33.3202, 30.8196,31.181,29.8888,28.4468,25.1218, 25.4511,22.7143,21.5244,21.858,19.3419, 20.4396,18.0796,20.5515,24.3165,27.0191 ,28.7223,31.2738,34.257,35.7202,36.8029 ,37.2955,37.4223,37.2375,36.4376, 35.6698,34.1294,31.4209,29.9521,28.2207 ,26.2427,23.0945,20.1318,17.6656, 14.1284,11.4366,8.19423,3.88855, -1.05602,-3.63471,-6.04359,-3.78128, -6.10618,-3.66519,-6.05288,-4.20893, -5.78866,-3.87441,-5.1281,-2.25492, -1.80395,-4.09228,-2.10914,-4.73416, -2.59753,-3.04201,-2.09829,0.859927, 1.24409,1.61203,5.40479,7.71731,10.9946 ,15.4997,18.6319,21.8626,24.1813, 27.5396,32.2565,35.4581,37.9528,41.9471 ,44.8037,47.387,51.1292,53.7922,57.3211 ,59.4886,61.6671,63.7562,64.4734,64.189 ,63.6217,62.7305,61.601,59.8194,57.8313 ,55.216,53.1861,49.5622,47.2094,45.0133 ,41.9558,39.5982,37.0507,35.5087, 35.7196)
FOOTPRINT_POINT_LONGITUDE = (117.386,117.22,117.809,122.438,126.491 ,130.499,133.214,135.864,137.648, 141.617,142.16,145.26,148.732,148.812, 151.103,151.575,153.25,156.347,159.154, 161.266,165.055,171.152,175.542,180.466 ,184.565,189.474,192.661,197.971, 201.044,205.44,210.752,212.977,215.232, 217.373,220.17,222.505,224.081,225.603, 226.569,227.605,228.652,229.346,229.526 ,229.769,231.015,231.66,232.285,233.854 ,235.512,239.711,241.645,245.466, 246.925,247.311,248.118,249.57,250.013, 252.599,256.202,259.728,264.584,264.613 ,264.633,263.5,262.779,261.709,260.129, 258.936,257.614,256.597,255.006,252.487 ,250.537,248.853,245.756,243.158, 240.462,235.786,231.675,224.646,218.87, 210.938,198.029,184.504,175.044,168.685 ,162.393,156.713,150.101,144.52,138.824 ,135.236,130.025,127.229,124.929, 122.118,120.202,118.34,117.295,117.386)
ORBIT_NUMBER = 25411
ORBITAL_ECCENTRICITY = 0.574
ORBITAL_INCLINATION = 87.07
ORBITAL_SEMIMAJOR_AXIS = 8761.47
PERIAPSIS_ALTITUDE = 354.34
PERIAPSIS_ARGUMENT_ANGLE = 287.78
PERIAPSIS_TIME = 2024-02-16T13:25:34.000Z
SPACECRAFT_ORIENTATION = (0.0,1.0,0.0)
^MEX_ORIENTATION_DESC = "MEX_ORIENTATION_DESC.TXT"
SPACECRAFT_POINTING_MODE = FIXED
^MEX_POINTING_DESC = "MEX_POINTING_DESC.TXT"
RIGHT_ASCENSION = -1e+32
DECLINATION = -1e+32
OFFSET_ANGLE = -1e+32
SPACECRAFT_SOLAR_DISTANCE = 2.13378e+08
TARGET_NAME = MARS
/* CAMERA DATA ELEMENTS */
DETECTOR_TEMPERATURE = 18.7783
FOCAL_PLANE_TEMPERATURE = 9.6028
INST_CMPRS_NAME = "DISCRETE COSINE TRANSFORMATION (DCT)"
INST_CMPRS_RATIO = 10.9942
INST_CMPRS_QUALITY = 0
INST_CMPRS_QUANTZ_TBL_ID = 0
INSTRUMENT_TEMPERATURE = 11.4379
LENS_TEMPERATURE = 9.8067
MACROPIXEL_SIZE = 2
MISSING_FRAMES = 0
PIXEL_SUBSAMPLING_FLAG = N
SIGNAL_CHAIN_ID = 3
/* RADIOMETRIC DATA ELEMENTS */
BANDWIDTH = 48.0
CENTER_FILTER_WAVELENGTH = 748.0
RADIANCE_OFFSET = 0.0
RADIANCE_SCALING_FACTOR = 0.015853
REFLECTANCE_SCALING_FACTOR = 0.00164705
MEX:REFLECTANCE_OFFSET = 0.0
/* IMAGE OBJECT DEFINITIONS */
OBJECT = IMAGE
  INTERCHANGE_FORMAT = BINARY
  LINES = 9891
  LINE_SAMPLES = 14165
  SAMPLE_TYPE = UNSIGNED_INTEGER
  SAMPLE_BITS = 8
  BANDS = 1
  BAND_STORAGE_TYPE = BAND_SEQUENTIAL
  MAXIMUM = 255
  MEAN = 137.741
  MINIMUM = 41
  STANDARD_DEVIATION = 38.4762
END_OBJECT = IMAGE
/* MAP OBJECT DEFINITIONS */
OBJECT = IMAGE_MAP_PROJECTION
  ^DATA_SET_MAP_PROJECTION_CATALOG= "DSMAP.CAT"
  A_AXIS_RADIUS = 3396.0
  B_AXIS_RADIUS = 3396.0
  C_AXIS_RADIUS = 3396.0
  CENTER_LATITUDE = 46.6654
  CENTER_LONGITUDE = 209.816
  COORDINATE_SYSTEM_NAME = PLANETOGRAPHIC
  COORDINATE_SYSTEM_TYPE = "BODY-FIXED ROTATING"
  EASTERNMOST_LONGITUDE = 264.633
  FIRST_STANDARD_PARALLEL = "N/A"
  LINE_FIRST_PIXEL = 1
  LINE_LAST_PIXEL = 9891
  LINE_PROJECTION_OFFSET = 3497.25
  MAP_PROJECTION_ROTATION = 0.0
  MAP_PROJECTION_TYPE = ORTHOGRAPHIC
  MAP_RESOLUTION = 148.178450966667
  MAP_SCALE = 0.4
  MAXIMUM_LATITUDE = 64.4734
  MINIMUM_LATITUDE = -6.10618
  POSITIVE_LONGITUDE_DIRECTION = EAST
  REFERENCE_LATITUDE = "N/A"
  REFERENCE_LONGITUDE = "N/A"
  SAMPLE_FIRST_PIXEL = 1
  SAMPLE_LAST_PIXEL = 14165
  SAMPLE_PROJECTION_OFFSET = 7298.25
  SECOND_STANDARD_PARALLEL = "N/A"
  WESTERNMOST_LONGITUDE = 117.22
END_OBJECT = IMAGE_MAP_PROJECTION
END
