PDS_VERSION_ID = PDS3
/* FILE DATA ELEMENTS */
RECORD_TYPE = UNDEFINED
/* POINTERS TO DATA OBJECTS */
^IMAGE = ("HP401_0000_GR4.TIF")
/* IDENTIFICATION DATA ELEMENTS */
DATA_SET_ID = "MEX-M-HRSC-4-REFDR-MAPPROJECT-EXT9-V4.0"
DATA_SET_NAME = "MARS EXPRESS HRSC MAP PROJECTED REFDR EXTENSION9 V4.0"
DETECTOR_ID = MEX_HRSC_GREEN
EVENT_TYPE = "MARS-TERMINATOR-CALIBRATION-Tc"
INSTRUMENT_HOST_ID = MEX
INSTRUMENT_HOST_NAME = "MARS EXPRESS"
INSTRUMENT_ID = HRSC
INSTRUMENT_NAME = "HIGH RESOLUTION STEREO CAMERA"
MISSION_NAME = "MARS EXPRESS"
MISSION_PHASE_NAME = ME_Phase_50
PROCESSING_LEVEL_ID = 4
PRODUCT_CREATION_TIME = 2024-08-19T12:52:58.000Z
PRODUCT_ID = "HP401_0000_GR4.TIF"
RELEASE_ID = 0012
REVISION_ID = 0000
/* QUALITY DATA ELEMENTS */
DATA_QUALITY_ID = 1
DATA_QUALITY_DESC = "Data calculated based on original SPICE kernels"
/* TIME DATA ELEMENTS */
SPACECRAFT_CLOCK_START_COUNT = "1/0655922530.65076"
SPACECRAFT_CLOCK_STOP_COUNT = "1/0655923070.62603"
START_TIME = 2024-02-13T16:44:27.763Z
STOP_TIME = 2024-02-13T16:49:43.756Z
/* ORBITAL DATA ELEMENTS */
ASCENDING_NODE_LONGITUDE = 102.89
MAXIMUM_RESOLUTION = 0.4696
FOOTPRINT_POINT_LATITUDE = (42.2809,42.001,42.6129,41.5632,39.9788 ,38.2937,35.8473,35.4573,33.0338,31.573 ,31.5846,29.2246,27.8122,28.5774,25.253 ,26.8675,29.3758,31.7896,33.4523, 35.8158,37.2014,38.4881,40.5615,41.6095 ,42.3598,42.6215,42.5735,42.1959, 41.7575,40.7546,38.6253,36.7333,35.0282 ,31.8577,29.2787,26.8819,24.9724, 22.8061,19.7764,17.6052,15.1943,12.4745 ,9.87371,6.32438,4.08701,-0.254008, -2.96192,-5.282,-8.07588,-6.27381, -7.98587,-5.65078,-7.19093,-5.61941, -6.2425,-5.20836,-4.29198,-3.85727, -2.95927,-1.87873,-1.89384,-0.534794, 5.18845,9.25105,12.1031,14.4042,18.1134 ,21.1232,23.7045,27.4833,32.0814, 34.8164,37.7925,40.1774,43.0495,45.0312 ,49.3554,52.1419,54.0074,56.6051, 58.2238,60.4946,61.9756,63.4286,64.8514 ,65.5894,66.1327,66.2768,66.1028, 65.4853,64.2133,62.8691,60.6327,58.9231 ,57.3374,54.5767,52.7372,48.6848, 46.1038,42.2809)
FOOTPRINT_POINT_LONGITUDE = (57.0296,56.8122,57.4975,60.935,64.6582 ,67.2842,69.8217,73.6101,74.2085, 76.2816,80.066,80.0005,82.2024,84.6874, 86.3731,90.2902,92.8022,95.6555,97.9271 ,101.733,104.411,107.322,113.484, 118.082,123.489,128.61,131.723,136.419, 139.405,144.005,150.336,154.345,157.267 ,161.6,164.347,166.531,168.048,169.574, 171.419,172.566,173.69,174.8,175.717, 176.774,177.333,178.216,178.627,178.906 ,179.456,181.802,183.837,187.42,189.719 ,191.76,194.17,196.348,198.933,202.011, 204.499,209.478,210.851,210.905,208.843 ,207.325,206.221,205.301,203.751,202.42 ,201.215,199.324,196.766,195.077, 193.062,191.287,188.919,187.108,182.505 ,178.908,176.122,171.559,168.176, 162.406,157.685,151.836,143.889,137.739 ,129.953,124.089,115.773,107.62,98.5603 ,92.1616,84.4667,79.9493,76.4259, 71.3486,68.5072,63.3039,60.545,57.0296)
ORBIT_NUMBER = 25401
ORBITAL_ECCENTRICITY = 0.574
ORBITAL_INCLINATION = 87.07
ORBITAL_SEMIMAJOR_AXIS = 8763.91
PERIAPSIS_ALTITUDE = 355.38
PERIAPSIS_ARGUMENT_ANGLE = 289.48
PERIAPSIS_TIME = 2024-02-13T15:34:55.000Z
SPACECRAFT_ORIENTATION = (0.0,1.0,0.0)
^MEX_ORIENTATION_DESC = "MEX_ORIENTATION_DESC.TXT"
SPACECRAFT_POINTING_MODE = FIXED
^MEX_POINTING_DESC = "MEX_POINTING_DESC.TXT"
RIGHT_ASCENSION = -1e+32
DECLINATION = -1e+32
OFFSET_ANGLE = -1e+32
SPACECRAFT_SOLAR_DISTANCE = 2.13824e+08
TARGET_NAME = MARS
/* CAMERA DATA ELEMENTS */
DETECTOR_TEMPERATURE = 18.7783
FOCAL_PLANE_TEMPERATURE = 9.3989
INST_CMPRS_NAME = "DISCRETE COSINE TRANSFORMATION (DCT)"
INST_CMPRS_RATIO = 9.69058
INST_CMPRS_QUALITY = 0
INST_CMPRS_QUANTZ_TBL_ID = 0
INSTRUMENT_TEMPERATURE = 11.234
LENS_TEMPERATURE = 9.8067
MACROPIXEL_SIZE = 2
MISSING_FRAMES = 1
PIXEL_SUBSAMPLING_FLAG = N
SIGNAL_CHAIN_ID = 2
/* RADIOMETRIC DATA ELEMENTS */
BANDWIDTH = 88.0
CENTER_FILTER_WAVELENGTH = 538.0
RADIANCE_OFFSET = 0.0
RADIANCE_SCALING_FACTOR = 0.0153214
REFLECTANCE_SCALING_FACTOR = 0.000603077
MEX:REFLECTANCE_OFFSET = 0.0
/* IMAGE OBJECT DEFINITIONS */
OBJECT = IMAGE
  INTERCHANGE_FORMAT = BINARY
  LINES = 11342
  LINE_SAMPLES = 14199
  SAMPLE_TYPE = UNSIGNED_INTEGER
  SAMPLE_BITS = 8
  BANDS = 1
  BAND_STORAGE_TYPE = BAND_SEQUENTIAL
  MAXIMUM = 255
  MEAN = 185.716
  MINIMUM = 66
  STANDARD_DEVIATION = 48.5769
END_OBJECT = IMAGE
/* MAP OBJECT DEFINITIONS */
OBJECT = IMAGE_MAP_PROJECTION
  ^DATA_SET_MAP_PROJECTION_CATALOG= "DSMAP.CAT"
  A_AXIS_RADIUS = 3396.0
  B_AXIS_RADIUS = 3396.0
  C_AXIS_RADIUS = 3396.0
  CENTER_LATITUDE = 50.1134
  CENTER_LONGITUDE = 157.809
  COORDINATE_SYSTEM_NAME = PLANETOGRAPHIC
  COORDINATE_SYSTEM_TYPE = "BODY-FIXED ROTATING"
  EASTERNMOST_LONGITUDE = 210.905
  FIRST_STANDARD_PARALLEL = "N/A"
  LINE_FIRST_PIXEL = 1
  LINE_LAST_PIXEL = 11342
  LINE_PROJECTION_OFFSET = 4598.75
  MAP_PROJECTION_ROTATION = 0.0
  MAP_PROJECTION_TYPE = ORTHOGRAPHIC
  MAP_RESOLUTION = 148.178450966667
  MAP_SCALE = 0.4
  MAXIMUM_LATITUDE = 66.27679999999999
  MINIMUM_LATITUDE = -8.07588
  POSITIVE_LONGITUDE_DIRECTION = EAST
  REFERENCE_LATITUDE = "N/A"
  REFERENCE_LONGITUDE = "N/A"
  SAMPLE_FIRST_PIXEL = 1
  SAMPLE_LAST_PIXEL = 14199
  SAMPLE_PROJECTION_OFFSET = 7344.25
  SECOND_STANDARD_PARALLEL = "N/A"
  WESTERNMOST_LONGITUDE = 56.8122
END_OBJECT = IMAGE_MAP_PROJECTION
END
