PDS_VERSION_ID = PDS3
/* FILE DATA ELEMENTS */
RECORD_TYPE = UNDEFINED
/* POINTERS TO DATA OBJECTS */
^IMAGE = ("HP400_0000_BL4.TIF")
/* IDENTIFICATION DATA ELEMENTS */
DATA_SET_ID = "MEX-M-HRSC-4-REFDR-MAPPROJECT-EXT9-V4.0"
DATA_SET_NAME = "MARS EXPRESS HRSC MAP PROJECTED REFDR EXTENSION9 V4.0"
DETECTOR_ID = MEX_HRSC_BLUE
EVENT_TYPE = "MARS-REGIONAL-MAPPING-Im-Gl-Pf"
INSTRUMENT_HOST_ID = MEX
INSTRUMENT_HOST_NAME = "MARS EXPRESS"
INSTRUMENT_ID = HRSC
INSTRUMENT_NAME = "HIGH RESOLUTION STEREO CAMERA"
MISSION_NAME = "MARS EXPRESS"
MISSION_PHASE_NAME = ME_Phase_50
PROCESSING_LEVEL_ID = 4
PRODUCT_CREATION_TIME = 2024-08-19T08:57:25.000Z
PRODUCT_ID = "HP400_0000_BL4.TIF"
RELEASE_ID = 0011
REVISION_ID = 0000
/* QUALITY DATA ELEMENTS */
DATA_QUALITY_ID = 1
DATA_QUALITY_DESC = "Data calculated based on original SPICE kernels"
/* TIME DATA ELEMENTS */
SPACECRAFT_CLOCK_START_COUNT = "1/0655893155.64182"
SPACECRAFT_CLOCK_STOP_COUNT = "1/0655893369.12858"
START_TIME = 2024-02-13T08:33:52.312Z
STOP_TIME = 2024-02-13T08:36:15.624Z
/* ORBITAL DATA ELEMENTS */
ASCENDING_NODE_LONGITUDE = 102.91
MAXIMUM_RESOLUTION = 0.0569
FOOTPRINT_POINT_LATITUDE = (-77.3544,-77.2997,-77.2417,-77.1802, -77.1152,-77.0466,-76.9268,-76.922, -76.8664,-76.5734,-76.2788,-76.082, -75.8846,-75.687,-75.4886,-75.2897, -75.0904,-74.7935,-74.5417,-74.205, -73.8673,-73.5285,-73.2738,-72.9334, -72.5922,-72.4214,-72.2504,-71.908, -71.7359,-71.5644,-71.2215,-71.0486, -70.8761,-70.7038,-70.4451,-70.1862, -69.9255,-69.7523,-69.5788,-69.318, -69.1442,-68.9706,-68.7965,-68.5357, -68.3616,-68.1003,-68.0133,-68.0015, -68.0591,-68.1366,-68.204,-68.2507, -68.2526,-68.2541,-68.4313,-68.6079, -68.8724,-69.0488,-69.2251,-69.4013, -69.5777,-69.754,-69.93,-70.106,-70.282 ,-70.4582,-70.6342,-70.8105,-70.9863, -71.1612,-71.3369,-71.5112,-71.6861, -71.8616,-72.1251,-72.388,-72.5626, -72.7376,-72.9999,-73.174,-73.3484, -73.6092,-73.7831,-73.957,-74.2175, -74.391,-74.5643,-74.8243,-75.17, -75.3709,-75.6797,-75.8855,-76.0906, -76.2953,-76.4994,-76.704,-76.9082, -77.2136,-77.3148,-77.3544)
FOOTPRINT_POINT_LONGITUDE = (272.257,271.457,270.651,269.839, 269.023,268.202,266.856,266.804,266.427 ,266.934,267.417,267.729,268.031, 268.326,268.612,268.889,269.159,269.547 ,269.862,270.267,270.655,271.025, 271.292,271.634,271.964,272.123,272.28, 272.584,272.728,272.874,273.161,273.292 ,273.424,273.556,273.75,273.938,274.112 ,274.229,274.344,274.509,274.618, 274.727,274.831,274.988,275.089,275.238 ,275.287,275.293,275.991,277.002, 277.978,278.695,278.726,278.736,278.665 ,278.591,278.477,278.399,278.32,278.239 ,278.158,278.076,277.99,277.904,277.816 ,277.727,277.637,277.546,277.451, 277.352,277.254,277.149,277.045,276.941 ,276.784,276.62,276.506,276.391,276.215 ,276.092,275.968,275.774,275.643, 275.508,275.302,275.16,275.014,274.791, 274.481,274.292,273.993,273.789,273.576 ,273.356,273.128,272.897,272.658, 272.284,272.154,272.257)
ORBIT_NUMBER = 25400
ORBITAL_ECCENTRICITY = 0.574
ORBITAL_INCLINATION = 87.06
ORBITAL_SEMIMAJOR_AXIS = 8763.79
PERIAPSIS_ALTITUDE = 355.11
PERIAPSIS_ARGUMENT_ANGLE = 289.65
PERIAPSIS_TIME = 2024-02-13T08:35:54.000Z
SPACECRAFT_ORIENTATION = (0.0,1.0,0.0)
^MEX_ORIENTATION_DESC = "MEX_ORIENTATION_DESC.TXT"
SPACECRAFT_POINTING_MODE = ACROSSTRACK
^MEX_POINTING_DESC = "MEX_POINTING_DESC.TXT"
RIGHT_ASCENSION = -1e+32
DECLINATION = -1e+32
OFFSET_ANGLE = 1.333
SPACECRAFT_SOLAR_DISTANCE = 2.13869e+08
TARGET_NAME = MARS
/* CAMERA DATA ELEMENTS */
DETECTOR_TEMPERATURE = 18.5744
FOCAL_PLANE_TEMPERATURE = 9.3989
INST_CMPRS_NAME = "DISCRETE COSINE TRANSFORMATION (DCT)"
INST_CMPRS_RATIO = 10.2814
INST_CMPRS_QUALITY = 0
INST_CMPRS_QUANTZ_TBL_ID = 0
INSTRUMENT_TEMPERATURE = 11.6418
LENS_TEMPERATURE = 9.6028
MACROPIXEL_SIZE = 4
MISSING_FRAMES = 0
PIXEL_SUBSAMPLING_FLAG = N
SIGNAL_CHAIN_ID = 2
/* RADIOMETRIC DATA ELEMENTS */
BANDWIDTH = 76.0
CENTER_FILTER_WAVELENGTH = 444.0
RADIANCE_OFFSET = 0.962478
RADIANCE_SCALING_FACTOR = 0.00553788
REFLECTANCE_SCALING_FACTOR = 0.000260255
MEX:REFLECTANCE_OFFSET = 0.045232
/* IMAGE OBJECT DEFINITIONS */
OBJECT = IMAGE
  INTERCHANGE_FORMAT = BINARY
  LINES = 11017
  LINE_SAMPLES = 4052
  SAMPLE_TYPE = UNSIGNED_INTEGER
  SAMPLE_BITS = 8
  BANDS = 1
  BAND_STORAGE_TYPE = BAND_SEQUENTIAL
  MAXIMUM = 255
  MEAN = 202.981
  MINIMUM = 1
  STANDARD_DEVIATION = 51.9532
END_OBJECT = IMAGE
/* MAP OBJECT DEFINITIONS */
OBJECT = IMAGE_MAP_PROJECTION
  ^DATA_SET_MAP_PROJECTION_CATALOG= "DSMAP.CAT"
  A_AXIS_RADIUS = 3396.0
  B_AXIS_RADIUS = 3396.0
  C_AXIS_RADIUS = 3396.0
  CENTER_LATITUDE = 0.0
  CENTER_LONGITUDE = 274.0
  COORDINATE_SYSTEM_NAME = PLANETOGRAPHIC
  COORDINATE_SYSTEM_TYPE = "BODY-FIXED ROTATING"
  EASTERNMOST_LONGITUDE = 278.736
  FIRST_STANDARD_PARALLEL = "N/A"
  LINE_FIRST_PIXEL = 1
  LINE_LAST_PIXEL = 11017
  LINE_PROJECTION_OFFSET = -80648.375
  MAP_PROJECTION_ROTATION = 0.0
  MAP_PROJECTION_TYPE = SINUSOIDAL
  MAP_RESOLUTION = 1185.42760773333
  MAP_SCALE = 0.05
  MAXIMUM_LATITUDE = -68.00149999999999
  MINIMUM_LATITUDE = -77.3544
  POSITIVE_LONGITUDE_DIRECTION = EAST
  REFERENCE_LATITUDE = "N/A"
  REFERENCE_LONGITUDE = "N/A"
  SAMPLE_FIRST_PIXEL = 1
  SAMPLE_LAST_PIXEL = 4052
  SAMPLE_PROJECTION_OFFSET = 1929.125
  SECOND_STANDARD_PARALLEL = "N/A"
  WESTERNMOST_LONGITUDE = 266.427
END_OBJECT = IMAGE_MAP_PROJECTION
END
