PDS_VERSION_ID = PDS3
/* FILE DATA ELEMENTS */
RECORD_TYPE = UNDEFINED
/* POINTERS TO DATA OBJECTS */
^IMAGE = ("HP393_0000_P24.TIF")
/* IDENTIFICATION DATA ELEMENTS */
DATA_SET_ID = "MEX-M-HRSC-4-REFDR-MAPPROJECT-EXT9-V4.0"
DATA_SET_NAME = "MARS EXPRESS HRSC MAP PROJECTED REFDR EXTENSION9 V4.0"
DETECTOR_ID = MEX_HRSC_P2
EVENT_TYPE = "MARS-REGIONAL-MAPPING-Te-Im-Fl"
INSTRUMENT_HOST_ID = MEX
INSTRUMENT_HOST_NAME = "MARS EXPRESS"
INSTRUMENT_ID = HRSC
INSTRUMENT_NAME = "HIGH RESOLUTION STEREO CAMERA"
MISSION_NAME = "MARS EXPRESS"
MISSION_PHASE_NAME = ME_Phase_50
PROCESSING_LEVEL_ID = 4
PRODUCT_CREATION_TIME = 2024-08-19T08:57:25.000Z
PRODUCT_ID = "HP393_0000_P24.TIF"
RELEASE_ID = 0011
REVISION_ID = 0000
/* QUALITY DATA ELEMENTS */
DATA_QUALITY_ID = 1
DATA_QUALITY_DESC = "Data calculated based on original SPICE kernels"
/* TIME DATA ELEMENTS */
SPACECRAFT_CLOCK_START_COUNT = "1/0655717261.00340"
SPACECRAFT_CLOCK_STOP_COUNT = "1/0655717590.05971"
START_TIME = 2024-02-11T07:41:58.894Z
STOP_TIME = 2024-02-11T07:46:12.008Z
/* ORBITAL DATA ELEMENTS */
ASCENDING_NODE_LONGITUDE = 103.03
MAXIMUM_RESOLUTION = 0.029
FOOTPRINT_POINT_LATITUDE = (-69.5606,-69.5255,-69.4724,-69.3834, -69.3813,-69.3136,-69.0059,-68.5438, -68.2362,-67.9279,-67.6201,-67.3108, -66.8482,-66.538,-66.0726,-65.7632, -65.4528,-64.9875,-64.3664,-64.0553, -63.7409,-63.2758,-62.8083,-62.4967, -62.1845,-61.7155,-61.4028,-61.0903, -60.7775,-60.3086,-59.8392,-59.5262, -59.0567,-58.5879,-58.2751,-57.8058, -57.4461,-57.0744,-56.7001,-56.3265, -55.9536,-55.5801,-55.0204,-54.6475, -54.2746,-53.902,-53.5315,-53.1577, -52.967,-52.939,-52.9574,-52.9821, -53.0108,-53.025,-53.0257,-53.0264, -53.4035,-53.9687,-54.5296,-54.9034, -55.4634,-55.8377,-56.2124,-56.7743, -57.1506,-57.524,-58.0491,-58.5206, -58.8351,-59.1492,-59.4636,-59.7779, -60.092,-60.4065,-60.7211,-61.1927, -61.5078,-61.8221,-62.1364,-62.6075, -62.9212,-63.2358,-63.7051,-64.1746, -64.4876,-64.9567,-65.2702,-65.7392, -66.0518,-66.3643,-66.6761,-66.9883, -67.4568,-67.7684,-68.2354,-68.7013, -69.0116,-69.3219,-69.4772,-69.5606)
FOOTPRINT_POINT_LONGITUDE = (276.302,275.524,274.486,272.99,272.957 ,272.865,273.009,273.215,273.348, 273.477,273.602,273.723,273.898,274.009 ,274.169,274.273,274.373,274.518, 274.702,274.79,274.871,274.997,275.114, 275.19,275.263,275.369,275.436,275.503, 275.567,275.66,275.749,275.806,275.889, 275.969,276.02,276.094,276.151,276.208, 276.26,276.311,276.36,276.408,276.476, 276.52,276.562,276.603,276.644,276.68, 276.695,276.697,277.142,277.701,278.457 ,278.968,278.99,278.998,278.966,278.918 ,278.87,278.837,278.787,278.752,278.715 ,278.659,278.619,278.58,278.522,278.468 ,278.431,278.393,278.354,278.314, 278.273,278.231,278.187,278.121,278.074 ,278.027,277.979,277.904,277.853, 277.799,277.719,277.634,277.576,277.485 ,277.422,277.325,277.258,277.188, 277.118,277.044,276.93,276.851,276.728, 276.6,276.511,276.419,276.372,276.302)
ORBIT_NUMBER = 25393
ORBITAL_ECCENTRICITY = 0.574
ORBITAL_INCLINATION = 87.06
ORBITAL_SEMIMAJOR_AXIS = 8765.05
PERIAPSIS_ALTITUDE = 355.0
PERIAPSIS_ARGUMENT_ANGLE = 290.82
PERIAPSIS_TIME = 2024-02-11T07:42:27.000Z
SPACECRAFT_ORIENTATION = (0.0,1.0,0.0)
^MEX_ORIENTATION_DESC = "MEX_ORIENTATION_DESC.TXT"
SPACECRAFT_POINTING_MODE = ACROSSTRACK
^MEX_POINTING_DESC = "MEX_POINTING_DESC.TXT"
RIGHT_ASCENSION = -1e+32
DECLINATION = -1e+32
OFFSET_ANGLE = 0.269
SPACECRAFT_SOLAR_DISTANCE = 2.14189e+08
TARGET_NAME = MARS
/* CAMERA DATA ELEMENTS */
DETECTOR_TEMPERATURE = 18.3705
FOCAL_PLANE_TEMPERATURE = 8.7872
INST_CMPRS_NAME = "DISCRETE COSINE TRANSFORMATION (DCT)"
INST_CMPRS_RATIO = 8.20213
INST_CMPRS_QUALITY = 0
INST_CMPRS_QUANTZ_TBL_ID = 0
INSTRUMENT_TEMPERATURE = 11.0301
LENS_TEMPERATURE = 9.3989
MACROPIXEL_SIZE = 2
MISSING_FRAMES = 0
PIXEL_SUBSAMPLING_FLAG = N
SIGNAL_CHAIN_ID = 3
/* RADIOMETRIC DATA ELEMENTS */
BANDWIDTH = 177.0
CENTER_FILTER_WAVELENGTH = 676.5
RADIANCE_OFFSET = 3.38797
RADIANCE_SCALING_FACTOR = 0.0282824
REFLECTANCE_SCALING_FACTOR = 0.000687966
MEX:REFLECTANCE_OFFSET = 0.082412
/* IMAGE OBJECT DEFINITIONS */
OBJECT = IMAGE
  INTERCHANGE_FORMAT = BINARY
  LINES = 39205
  LINE_SAMPLES = 6214
  SAMPLE_TYPE = UNSIGNED_INTEGER
  SAMPLE_BITS = 8
  BANDS = 1
  BAND_STORAGE_TYPE = BAND_SEQUENTIAL
  MAXIMUM = 255
  MEAN = 159.066
  MINIMUM = 1
  STANDARD_DEVIATION = 90.053
END_OBJECT = IMAGE
/* MAP OBJECT DEFINITIONS */
OBJECT = IMAGE_MAP_PROJECTION
  ^DATA_SET_MAP_PROJECTION_CATALOG= "DSMAP.CAT"
  A_AXIS_RADIUS = 3396.0
  B_AXIS_RADIUS = 3396.0
  C_AXIS_RADIUS = 3396.0
  CENTER_LATITUDE = 0.0
  CENTER_LONGITUDE = 277.0
  COORDINATE_SYSTEM_NAME = PLANETOGRAPHIC
  COORDINATE_SYSTEM_TYPE = "BODY-FIXED ROTATING"
  EASTERNMOST_LONGITUDE = 278.998
  FIRST_STANDARD_PARALLEL = "N/A"
  LINE_FIRST_PIXEL = 1
  LINE_LAST_PIXEL = 39205
  LINE_PROJECTION_OFFSET = -125560.75
  MAP_PROJECTION_ROTATION = 0.0
  MAP_PROJECTION_TYPE = SINUSOIDAL
  MAP_RESOLUTION = 2370.85521546667
  MAP_SCALE = 0.025
  MAXIMUM_LATITUDE = -52.939
  MINIMUM_LATITUDE = -69.56059999999999
  POSITIVE_LONGITUDE_DIRECTION = EAST
  REFERENCE_LATITUDE = "N/A"
  REFERENCE_LONGITUDE = "N/A"
  SAMPLE_FIRST_PIXEL = 1
  SAMPLE_LAST_PIXEL = 6214
  SAMPLE_PROJECTION_OFFSET = 3360.75
  SECOND_STANDARD_PARALLEL = "N/A"
  WESTERNMOST_LONGITUDE = 272.865
END_OBJECT = IMAGE_MAP_PROJECTION
END
