PDS_VERSION_ID = PDS3
/* FILE DATA ELEMENTS */
RECORD_TYPE = UNDEFINED
/* POINTERS TO DATA OBJECTS */
^IMAGE = ("HP385_0000_ND4.TIF")
/* IDENTIFICATION DATA ELEMENTS */
DATA_SET_ID = "MEX-M-HRSC-4-REFDR-MAPPROJECT-EXT9-V4.0"
DATA_SET_NAME = "MARS EXPRESS HRSC MAP PROJECTED REFDR EXTENSION9 V4.0"
DETECTOR_ID = MEX_HRSC_NADIR
EVENT_TYPE = "MARS-REGIONAL-MAPPING-Gl-Pf-Mw"
INSTRUMENT_HOST_ID = MEX
INSTRUMENT_HOST_NAME = "MARS EXPRESS"
INSTRUMENT_ID = HRSC
INSTRUMENT_NAME = "HIGH RESOLUTION STEREO CAMERA"
MISSION_NAME = "MARS EXPRESS"
MISSION_PHASE_NAME = ME_Phase_50
PROCESSING_LEVEL_ID = 4
PRODUCT_CREATION_TIME = 2024-08-19T08:57:25.000Z
PRODUCT_ID = "HP385_0000_ND4.TIF"
RELEASE_ID = 0011
REVISION_ID = 0000
/* QUALITY DATA ELEMENTS */
DATA_QUALITY_ID = 1
DATA_QUALITY_DESC = "Data calculated based on original SPICE kernels"
/* TIME DATA ELEMENTS */
SPACECRAFT_CLOCK_START_COUNT = "1/0655516113.00352"
SPACECRAFT_CLOCK_STOP_COUNT = "1/0655516413.58318"
START_TIME = 2024-02-08T23:49:51.826Z
STOP_TIME = 2024-02-08T23:53:40.833Z
/* ORBITAL DATA ELEMENTS */
ASCENDING_NODE_LONGITUDE = 103.17
MAXIMUM_RESOLUTION = 0.0141
FOOTPRINT_POINT_LATITUDE = (-67.8646,-67.8265,-67.7886,-67.7208, -67.719,-67.7105,-67.4331,-67.0167, -66.739,-66.4612,-66.1833,-65.9054, -65.6273,-65.3493,-65.0712,-64.793, -64.5148,-64.2365,-63.9583,-63.6801, -63.4018,-63.1236,-62.8453,-62.5671, -62.0107,-61.4545,-60.8984,-60.3426, -59.7871,-59.2319,-58.6773,-58.1231, -57.8154,-57.485,-57.1548,-56.8249, -56.495,-56.1655,-55.8362,-55.5069, -55.1778,-54.8492,-54.5209,-54.193, -53.8656,-53.5382,-53.211,-53.0475, -53.04,-53.0769,-53.0983,-53.113, -53.1135,-53.114,-53.4421,-53.7705, -54.0992,-54.4282,-54.7576,-55.0872, -55.4171,-55.7473,-56.0777,-56.4085, -56.7394,-57.0706,-57.4021,-57.7337, -58.2097,-58.7665,-59.3237,-59.8815, -60.4397,-60.9984,-61.2778,-61.5574, -61.837,-62.1167,-62.3965,-62.6763, -62.9562,-63.2362,-63.5162,-63.7962, -64.0763,-64.3564,-64.6365,-64.9167, -65.1969,-65.4771,-65.7572,-66.0374, -66.3176,-66.5978,-66.8779,-67.158, -67.4381,-67.7181,-67.8581,-67.8646)
FOOTPRINT_POINT_LONGITUDE = (13.9459,12.9984,12.1704,10.8781, 10.8473,10.7298,10.8394,10.9979,11.0998 ,11.1991,11.2959,11.3898,11.4806, 11.5696,11.6561,11.7397,11.822,11.9004, 11.9777,12.0541,12.1276,12.1997,12.269, 12.3371,12.4665,12.5902,12.7065,12.8186 ,12.9232,13.0231,13.1199,13.2108, 13.2587,13.3091,13.3575,13.4045,13.4492 ,13.4937,13.5369,13.5747,13.6114, 13.6501,13.688,13.7268,13.767,13.8021, 13.834,13.8501,13.8508,14.829,15.5291, 16.1135,16.136,16.1469,16.1206,16.0936, 16.0661,16.0379,16.0089,15.9791,15.9486 ,15.9174,15.8854,15.8526,15.8191, 15.7841,15.7485,15.7128,15.6598,15.5945 ,15.5272,15.4567,15.3826,15.3051, 15.2653,15.2244,15.1827,15.1397,15.0938 ,15.0511,15.005,14.9579,14.9099,14.8605 ,14.8102,14.7584,14.7051,14.6507,14.595 ,14.538,14.4792,14.4189,14.3571,14.2933 ,14.2282,14.1611,14.0928,14.0228, 13.9868,13.9459)
ORBIT_NUMBER = 25385
ORBITAL_ECCENTRICITY = 0.574
ORBITAL_INCLINATION = 87.07
ORBITAL_SEMIMAJOR_AXIS = 8767.57
PERIAPSIS_ALTITUDE = 355.38
PERIAPSIS_ARGUMENT_ANGLE = 292.15
PERIAPSIS_TIME = 2024-02-08T23:49:55.000Z
SPACECRAFT_ORIENTATION = (0.0,1.0,0.0)
^MEX_ORIENTATION_DESC = "MEX_ORIENTATION_DESC.TXT"
SPACECRAFT_POINTING_MODE = ACROSSTRACK
^MEX_POINTING_DESC = "MEX_POINTING_DESC.TXT"
RIGHT_ASCENSION = -1e+32
DECLINATION = -1e+32
OFFSET_ANGLE = 0.269
SPACECRAFT_SOLAR_DISTANCE = 2.14559e+08
TARGET_NAME = MARS
/* CAMERA DATA ELEMENTS */
DETECTOR_TEMPERATURE = 18.1666
FOCAL_PLANE_TEMPERATURE = 9.3989
INST_CMPRS_NAME = "DISCRETE COSINE TRANSFORMATION (DCT)"
INST_CMPRS_RATIO = 8.37651
INST_CMPRS_QUALITY = 0
INST_CMPRS_QUANTZ_TBL_ID = 0
INSTRUMENT_TEMPERATURE = 11.234
LENS_TEMPERATURE = 9.3989
MACROPIXEL_SIZE = 1
MISSING_FRAMES = 0
PIXEL_SUBSAMPLING_FLAG = N
SIGNAL_CHAIN_ID = 0
/* RADIOMETRIC DATA ELEMENTS */
BANDWIDTH = 177.0
CENTER_FILTER_WAVELENGTH = 677.5
RADIANCE_OFFSET = 3.25417
RADIANCE_SCALING_FACTOR = 0.0219235
REFLECTANCE_SCALING_FACTOR = 0.000536154
MEX:REFLECTANCE_OFFSET = 0.0795828
/* IMAGE OBJECT DEFINITIONS */
OBJECT = IMAGE
  INTERCHANGE_FORMAT = BINARY
  LINES = 70284
  LINE_SAMPLES = 11783
  SAMPLE_TYPE = UNSIGNED_INTEGER
  SAMPLE_BITS = 8
  BANDS = 1
  BAND_STORAGE_TYPE = BAND_SEQUENTIAL
  MAXIMUM = 255
  MEAN = 159.743
  MINIMUM = 1
  STANDARD_DEVIATION = 96.6514
END_OBJECT = IMAGE
/* MAP OBJECT DEFINITIONS */
OBJECT = IMAGE_MAP_PROJECTION
  ^DATA_SET_MAP_PROJECTION_CATALOG= "DSMAP.CAT"
  A_AXIS_RADIUS = 3396.0
  B_AXIS_RADIUS = 3396.0
  C_AXIS_RADIUS = 3396.0
  CENTER_LATITUDE = 0.0
  CENTER_LONGITUDE = 14.0
  COORDINATE_SYSTEM_NAME = PLANETOGRAPHIC
  COORDINATE_SYSTEM_TYPE = "BODY-FIXED ROTATING"
  EASTERNMOST_LONGITUDE = 16.1469
  FIRST_STANDARD_PARALLEL = "N/A"
  LINE_FIRST_PIXEL = 1
  LINE_LAST_PIXEL = 70284
  LINE_PROJECTION_OFFSET = -251512.0
  MAP_PROJECTION_ROTATION = 0.0
  MAP_PROJECTION_TYPE = SINUSOIDAL
  MAP_RESOLUTION = 4741.71043093333
  MAP_SCALE = 0.0125
  MAXIMUM_LATITUDE = -53.04
  MINIMUM_LATITUDE = -67.8646
  POSITIVE_LONGITUDE_DIRECTION = EAST
  REFERENCE_LATITUDE = "N/A"
  REFERENCE_LONGITUDE = "N/A"
  SAMPLE_FIRST_PIXEL = 1
  SAMPLE_LAST_PIXEL = 11783
  SAMPLE_PROJECTION_OFFSET = 5707.0
  SECOND_STANDARD_PARALLEL = "N/A"
  WESTERNMOST_LONGITUDE = 10.7298
END_OBJECT = IMAGE_MAP_PROJECTION
END
