PDS_VERSION_ID = PDS3
/* FILE DATA ELEMENTS */
RECORD_TYPE = UNDEFINED
/* POINTERS TO DATA OBJECTS */
^IMAGE = ("HP381_0000_P24.TIF")
/* IDENTIFICATION DATA ELEMENTS */
DATA_SET_ID = "MEX-M-HRSC-4-REFDR-MAPPROJECT-EXT9-V4.0"
DATA_SET_NAME = "MARS EXPRESS HRSC MAP PROJECTED REFDR EXTENSION9 V4.0"
DETECTOR_ID = MEX_HRSC_P2
EVENT_TYPE = "MARS-REGIONAL-MAPPING-Vo-Im"
INSTRUMENT_HOST_ID = MEX
INSTRUMENT_HOST_NAME = "MARS EXPRESS"
INSTRUMENT_ID = HRSC
INSTRUMENT_NAME = "HIGH RESOLUTION STEREO CAMERA"
MISSION_NAME = "MARS EXPRESS"
MISSION_PHASE_NAME = ME_Phase_50
PROCESSING_LEVEL_ID = 4
PRODUCT_CREATION_TIME = 2024-08-19T08:57:25.000Z
PRODUCT_ID = "HP381_0000_P24.TIF"
RELEASE_ID = 0011
REVISION_ID = 0000
/* QUALITY DATA ELEMENTS */
DATA_QUALITY_ID = 1
DATA_QUALITY_DESC = "Data calculated based on original SPICE kernels"
/* TIME DATA ELEMENTS */
SPACECRAFT_CLOCK_START_COUNT = "1/0655415357.00364"
SPACECRAFT_CLOCK_STOP_COUNT = "1/0655415705.64980"
START_TIME = 2024-02-07T19:50:16.910Z
STOP_TIME = 2024-02-07T19:54:55.529Z
/* ORBITAL DATA ELEMENTS */
ASCENDING_NODE_LONGITUDE = 103.23
MAXIMUM_RESOLUTION = 0.0291
FOOTPRINT_POINT_LATITUDE = (-78.5664,-78.4258,-78.2678,-78.182, -78.0562,-78.0502,-77.9525,-77.4157, -76.8683,-76.3207,-75.9544,-75.4022, -75.033,-74.6597,-74.0931,-73.7132, -73.1416,-72.7594,-72.3758,-71.8245, -71.3395,-71.0146,-70.6895,-70.2015, -69.878,-69.5475,-69.0522,-68.3923, -67.8967,-67.4003,-67.0684,-66.736, -66.4042,-66.0725,-65.7388,-65.4051, -65.0708,-64.7355,-64.2332,-63.7273, -63.2258,-62.8895,-62.3858,-62.0484, -61.544,-61.2072,-60.8701,-60.7022, -60.6758,-60.7257,-60.7629,-60.823, -60.8757,-60.8774,-60.8784,-61.3884, -61.7283,-62.0716,-62.5825,-62.9218, -63.4304,-63.7696,-64.1085,-64.4467, -64.7856,-65.2921,-65.6298,-65.9668, -66.4722,-66.8083,-67.1441,-67.4799, -67.8155,-68.3188,-68.6531,-69.1544, -69.489,-69.9907,-70.4903,-70.8207, -71.1527,-71.6484,-71.9785,-72.3084, -72.7019,-73.0966,-73.4852,-73.8766, -74.265,-74.6562,-75.2353,-75.6204, -76.0047,-76.3861,-76.9576,-77.3373, -77.7148,-78.2798,-78.4674,-78.5664)
FOOTPRINT_POINT_LONGITUDE = (52.6631,50.7269,48.7912,47.825,46.4965 ,46.4361,46.1849,47.2388,48.1932, 49.0821,49.639,50.4233,50.9165,51.3797, 52.0236,52.4264,52.9975,53.3578,53.7011 ,54.1664,54.553,54.7976,55.0346,55.3769 ,55.6016,55.8037,56.0977,56.4722, 56.7388,56.993,57.1551,57.3116,57.4659, 57.6161,57.7584,57.8971,58.031,58.1595, 58.3478,58.5214,58.6978,58.8078,58.9694 ,59.0705,59.221,59.3171,59.4103,59.4574 ,59.4643,60.085,60.5493,61.315,62.0629, 62.0877,62.0965,61.995,61.9252,61.8556, 61.7453,61.6685,61.5495,61.4675,61.3833 ,61.2963,61.2074,61.0682,60.9722, 60.8732,60.7192,60.6123,60.5022,60.3888 ,60.2719,60.0899,59.9631,59.7655, 59.6287,59.4152,59.1896,59.0313,58.8686 ,58.6126,58.4341,58.249,58.0191,57.7795 ,57.5256,57.2614,56.9829,56.6921, 56.2244,55.892,55.5415,55.1709,54.5752, 54.1486,53.6959,52.963,52.703,52.6631)
ORBIT_NUMBER = 25381
ORBITAL_ECCENTRICITY = 0.574
ORBITAL_INCLINATION = 87.08
ORBITAL_SEMIMAJOR_AXIS = 8768.93
PERIAPSIS_ALTITUDE = 354.6
PERIAPSIS_ARGUMENT_ANGLE = 292.84
PERIAPSIS_TIME = 2024-02-07T19:53:43.000Z
SPACECRAFT_ORIENTATION = (0.0,1.0,0.0)
^MEX_ORIENTATION_DESC = "MEX_ORIENTATION_DESC.TXT"
SPACECRAFT_POINTING_MODE = ACROSSTRACK
^MEX_POINTING_DESC = "MEX_POINTING_DESC.TXT"
RIGHT_ASCENSION = -1e+32
DECLINATION = -1e+32
OFFSET_ANGLE = 1.105
SPACECRAFT_SOLAR_DISTANCE = 2.14747e+08
TARGET_NAME = MARS
/* CAMERA DATA ELEMENTS */
DETECTOR_TEMPERATURE = 18.7783
FOCAL_PLANE_TEMPERATURE = 8.5833
INST_CMPRS_NAME = "DISCRETE COSINE TRANSFORMATION (DCT)"
INST_CMPRS_RATIO = 6.89061
INST_CMPRS_QUALITY = 0
INST_CMPRS_QUANTZ_TBL_ID = 0
INSTRUMENT_TEMPERATURE = 11.8457
LENS_TEMPERATURE = 8.7872
MACROPIXEL_SIZE = 2
MISSING_FRAMES = 0
PIXEL_SUBSAMPLING_FLAG = N
SIGNAL_CHAIN_ID = 3
/* RADIOMETRIC DATA ELEMENTS */
BANDWIDTH = 177.0
CENTER_FILTER_WAVELENGTH = 676.5
RADIANCE_OFFSET = 3.62278
RADIANCE_SCALING_FACTOR = 0.0274932
REFLECTANCE_SCALING_FACTOR = 0.000672261
MEX:REFLECTANCE_OFFSET = 0.0885841
/* IMAGE OBJECT DEFINITIONS */
OBJECT = IMAGE
  INTERCHANGE_FORMAT = BINARY
  LINES = 42068
  LINE_SAMPLES = 10424
  SAMPLE_TYPE = UNSIGNED_INTEGER
  SAMPLE_BITS = 8
  BANDS = 1
  BAND_STORAGE_TYPE = BAND_SEQUENTIAL
  MAXIMUM = 255
  MEAN = 160.068
  MINIMUM = 1
  STANDARD_DEVIATION = 58.256
END_OBJECT = IMAGE
/* MAP OBJECT DEFINITIONS */
OBJECT = IMAGE_MAP_PROJECTION
  ^DATA_SET_MAP_PROJECTION_CATALOG= "DSMAP.CAT"
  A_AXIS_RADIUS = 3396.0
  B_AXIS_RADIUS = 3396.0
  C_AXIS_RADIUS = 3396.0
  CENTER_LATITUDE = 0.0
  CENTER_LONGITUDE = 58.0
  COORDINATE_SYSTEM_NAME = PLANETOGRAPHIC
  COORDINATE_SYSTEM_TYPE = "BODY-FIXED ROTATING"
  EASTERNMOST_LONGITUDE = 62.0965
  FIRST_STANDARD_PARALLEL = "N/A"
  LINE_FIRST_PIXEL = 1
  LINE_LAST_PIXEL = 42068
  LINE_PROJECTION_OFFSET = -143956.25
  MAP_PROJECTION_ROTATION = 0.0
  MAP_PROJECTION_TYPE = SINUSOIDAL
  MAP_RESOLUTION = 2370.85521546667
  MAP_SCALE = 0.025
  MAXIMUM_LATITUDE = -60.6758
  MINIMUM_LATITUDE = -78.5664
  POSITIVE_LONGITUDE_DIRECTION = EAST
  REFERENCE_LATITUDE = "N/A"
  REFERENCE_LONGITUDE = "N/A"
  SAMPLE_FIRST_PIXEL = 1
  SAMPLE_LAST_PIXEL = 10424
  SAMPLE_PROJECTION_OFFSET = 5621.25
  SECOND_STANDARD_PARALLEL = "N/A"
  WESTERNMOST_LONGITUDE = 46.1849
END_OBJECT = IMAGE_MAP_PROJECTION
END
