PDS_VERSION_ID = PDS3
/* FILE DATA ELEMENTS */
RECORD_TYPE = UNDEFINED
/* POINTERS TO DATA OBJECTS */
^IMAGE = ("HP380_0000_P24.TIF")
/* IDENTIFICATION DATA ELEMENTS */
DATA_SET_ID = "MEX-M-HRSC-4-REFDR-MAPPROJECT-EXT9-V4.0"
DATA_SET_NAME = "MARS EXPRESS HRSC MAP PROJECTED REFDR EXTENSION9 V4.0"
DETECTOR_ID = MEX_HRSC_P2
EVENT_TYPE = "MARS-REGIONAL-MAPPING-Im-Eo-At"
INSTRUMENT_HOST_ID = MEX
INSTRUMENT_HOST_NAME = "MARS EXPRESS"
INSTRUMENT_ID = HRSC
INSTRUMENT_NAME = "HIGH RESOLUTION STEREO CAMERA"
MISSION_NAME = "MARS EXPRESS"
MISSION_PHASE_NAME = ME_Phase_50
PROCESSING_LEVEL_ID = 4
PRODUCT_CREATION_TIME = 2024-08-19T08:57:25.000Z
PRODUCT_ID = "HP380_0000_P24.TIF"
RELEASE_ID = 0011
REVISION_ID = 0000
/* QUALITY DATA ELEMENTS */
DATA_QUALITY_ID = 1
DATA_QUALITY_DESC = "Data calculated based on original SPICE kernels"
/* TIME DATA ELEMENTS */
SPACECRAFT_CLOCK_START_COUNT = "1/0655390318.65116"
SPACECRAFT_CLOCK_STOP_COUNT = "1/0655390604.22880"
START_TIME = 2024-02-07T12:52:57.638Z
STOP_TIME = 2024-02-07T12:56:31.877Z
/* ORBITAL DATA ELEMENTS */
ASCENDING_NODE_LONGITUDE = 103.25
MAXIMUM_RESOLUTION = 0.0292
FOOTPRINT_POINT_LATITUDE = (-72.0064,-71.9147,-71.8117,-71.6735, -71.6696,-71.5814,-71.2679,-70.957, -70.4239,-70.0309,-69.5034,-69.2382, -68.8377,-68.5706,-68.3029,-67.9009, -67.4999,-67.2316,-66.8291,-66.562, -66.2925,-66.0217,-65.7522,-65.48, -65.0751,-64.805,-64.5338,-64.2624, -63.855,-63.447,-63.0404,-62.7693, -62.4944,-62.2248,-61.9527,-61.5444, -61.2715,-60.9992,-60.7261,-60.4504, -60.043,-59.7698,-59.4977,-59.2165, -58.9408,-58.6675,-58.1292,-57.9912, -57.9801,-58.0643,-58.1233,-58.1798, -58.1814,-58.1824,-58.4583,-58.8722, -59.1434,-59.4228,-59.698,-59.9729, -60.248,-60.6601,-60.9351,-61.2092, -61.484,-61.8965,-62.3086,-62.5834, -62.8578,-63.1327,-63.4073,-63.8191, -64.2308,-64.5059,-64.7794,-65.0531, -65.3261,-65.7356,-66.0087,-66.2815, -66.5541,-66.8255,-67.0977,-67.3689, -67.6404,-68.0476,-68.3193,-68.5889, -68.8618,-69.1321,-69.4018,-69.8049, -70.2081,-70.4771,-70.8798,-71.1483, -71.4467,-71.7669,-71.9258,-72.0064)
FOOTPRINT_POINT_LONGITUDE = (160.31,159.104,157.875,156.383,156.344 ,156.116,156.363,156.611,157.003, 157.286,157.64,157.808,158.046,158.201, 158.351,158.569,158.782,158.918,159.118 ,159.249,159.374,159.492,159.612, 159.722,159.892,160.002,160.107,160.21, 160.359,160.503,160.646,160.739,160.822 ,160.914,161.0,161.124,161.204,161.283, 161.36,161.429,161.543,161.614,161.685, 161.737,161.799,161.865,162.007,162.035 ,162.037,163.02,163.721,164.493,164.516 ,164.524,164.479,164.408,164.357,164.31 ,164.26,164.208,164.155,164.074,164.019 ,163.962,163.904,163.815,163.724, 163.661,163.597,163.531,163.465,163.362 ,163.255,163.183,163.108,163.031, 162.953,162.831,162.748,162.663,162.576 ,162.485,162.394,162.299,162.202, 162.053,161.951,161.845,161.738,161.627 ,161.513,161.334,161.149,161.022, 160.824,160.688,160.53,160.357,160.268, 160.31)
ORBIT_NUMBER = 25380
ORBITAL_ECCENTRICITY = 0.574
ORBITAL_INCLINATION = 87.07
ORBITAL_SEMIMAJOR_AXIS = 8768.37
PERIAPSIS_ALTITUDE = 355.79
PERIAPSIS_ARGUMENT_ANGLE = 293.02
PERIAPSIS_TIME = 2024-02-07T12:54:41.000Z
SPACECRAFT_ORIENTATION = (0.0,1.0,0.0)
^MEX_ORIENTATION_DESC = "MEX_ORIENTATION_DESC.TXT"
SPACECRAFT_POINTING_MODE = ACROSSTRACK
^MEX_POINTING_DESC = "MEX_POINTING_DESC.TXT"
RIGHT_ASCENSION = -1e+32
DECLINATION = -1e+32
OFFSET_ANGLE = 1.2
SPACECRAFT_SOLAR_DISTANCE = 2.14794e+08
TARGET_NAME = MARS
/* CAMERA DATA ELEMENTS */
DETECTOR_TEMPERATURE = 18.9822
FOCAL_PLANE_TEMPERATURE = 9.195
INST_CMPRS_NAME = "DISCRETE COSINE TRANSFORMATION (DCT)"
INST_CMPRS_RATIO = 6.89287
INST_CMPRS_QUALITY = 0
INST_CMPRS_QUANTZ_TBL_ID = 0
INSTRUMENT_TEMPERATURE = 11.4379
LENS_TEMPERATURE = 9.3989
MACROPIXEL_SIZE = 2
MISSING_FRAMES = 0
PIXEL_SUBSAMPLING_FLAG = N
SIGNAL_CHAIN_ID = 3
/* RADIOMETRIC DATA ELEMENTS */
BANDWIDTH = 177.0
CENTER_FILTER_WAVELENGTH = 676.5
RADIANCE_OFFSET = 3.68987
RADIANCE_SCALING_FACTOR = 0.0268354
REFLECTANCE_SCALING_FACTOR = 0.000656466
MEX:REFLECTANCE_OFFSET = 0.090264
/* IMAGE OBJECT DEFINITIONS */
OBJECT = IMAGE
  INTERCHANGE_FORMAT = BINARY
  LINES = 32914
  LINE_SAMPLES = 7458
  SAMPLE_TYPE = UNSIGNED_INTEGER
  SAMPLE_BITS = 8
  BANDS = 1
  BAND_STORAGE_TYPE = BAND_SEQUENTIAL
  MAXIMUM = 255
  MEAN = 140.987
  MINIMUM = 1
  STANDARD_DEVIATION = 54.7559
END_OBJECT = IMAGE
/* MAP OBJECT DEFINITIONS */
OBJECT = IMAGE_MAP_PROJECTION
  ^DATA_SET_MAP_PROJECTION_CATALOG= "DSMAP.CAT"
  A_AXIS_RADIUS = 3396.0
  B_AXIS_RADIUS = 3396.0
  C_AXIS_RADIUS = 3396.0
  CENTER_LATITUDE = 0.0
  CENTER_LONGITUDE = 162.0
  COORDINATE_SYSTEM_NAME = PLANETOGRAPHIC
  COORDINATE_SYSTEM_TYPE = "BODY-FIXED ROTATING"
  EASTERNMOST_LONGITUDE = 164.524
  FIRST_STANDARD_PARALLEL = "N/A"
  LINE_FIRST_PIXEL = 1
  LINE_LAST_PIXEL = 32914
  LINE_PROJECTION_OFFSET = -137536.25
  MAP_PROJECTION_ROTATION = 0.0
  MAP_PROJECTION_TYPE = SINUSOIDAL
  MAP_RESOLUTION = 2370.85521546667
  MAP_SCALE = 0.025
  MAXIMUM_LATITUDE = -57.9801
  MINIMUM_LATITUDE = -72.0064
  POSITIVE_LONGITUDE_DIRECTION = EAST
  REFERENCE_LATITUDE = "N/A"
  REFERENCE_LONGITUDE = "N/A"
  SAMPLE_FIRST_PIXEL = 1
  SAMPLE_LAST_PIXEL = 7458
  SAMPLE_PROJECTION_OFFSET = 4229.25
  SECOND_STANDARD_PARALLEL = "N/A"
  WESTERNMOST_LONGITUDE = 156.116
END_OBJECT = IMAGE_MAP_PROJECTION
END
