PDS_VERSION_ID = PDS3
/* FILE DATA ELEMENTS */
RECORD_TYPE = UNDEFINED
/* POINTERS TO DATA OBJECTS */
^IMAGE = ("HP378_0000_P24.TIF")
/* IDENTIFICATION DATA ELEMENTS */
DATA_SET_ID = "MEX-M-HRSC-4-REFDR-MAPPROJECT-EXT9-V4.0"
DATA_SET_NAME = "MARS EXPRESS HRSC MAP PROJECTED REFDR EXTENSION9 V4.0"
DETECTOR_ID = MEX_HRSC_P2
EVENT_TYPE = "MARS-REGIONAL-MAPPING-Gl-Pf-La"
INSTRUMENT_HOST_ID = MEX
INSTRUMENT_HOST_NAME = "MARS EXPRESS"
INSTRUMENT_ID = HRSC
INSTRUMENT_NAME = "HIGH RESOLUTION STEREO CAMERA"
MISSION_NAME = "MARS EXPRESS"
MISSION_PHASE_NAME = ME_Phase_50
PROCESSING_LEVEL_ID = 4
PRODUCT_CREATION_TIME = 2024-08-19T08:57:25.000Z
PRODUCT_ID = "HP378_0000_P24.TIF"
RELEASE_ID = 0011
REVISION_ID = 0000
/* QUALITY DATA ELEMENTS */
DATA_QUALITY_ID = 1
DATA_QUALITY_DESC = "Data calculated based on original SPICE kernels"
/* TIME DATA ELEMENTS */
SPACECRAFT_CLOCK_START_COUNT = "1/0655339957.00371"
SPACECRAFT_CLOCK_STOP_COUNT = "1/0655340178.48806"
START_TIME = 2024-02-06T22:53:36.310Z
STOP_TIME = 2024-02-06T22:56:09.283Z
/* ORBITAL DATA ELEMENTS */
ASCENDING_NODE_LONGITUDE = 103.29
MAXIMUM_RESOLUTION = 0.0293
FOOTPRINT_POINT_LATITUDE = (-76.4143,-76.41,-76.4028,-76.3922, -76.3784,-76.3617,-76.3422,-76.3409, -76.2786,-76.0745,-75.869,-75.5602, -75.3542,-75.0452,-74.8389,-74.6319, -74.3206,-74.113,-73.9052,-73.5932, -73.2807,-73.0722,-72.7596,-72.549, -72.3403,-72.1305,-71.9205,-71.6059, -71.2903,-71.0797,-70.869,-70.6674, -70.3139,-69.8715,-69.6057,-69.2509, -68.9845,-68.718,-68.3622,-68.1842, -68.0061,-67.8278,-67.6496,-67.4713, -67.2931,-67.1146,-66.9358,-66.6679, -66.5788,-66.5508,-66.5537,-66.5549, -66.5545,-66.55,-66.5408,-66.5403, -66.5405,-66.7203,-66.8997,-67.0794, -67.3475,-67.5267,-67.7956,-67.9746, -68.2431,-68.4224,-68.6014,-68.7802, -69.0481,-69.2267,-69.4053,-69.7622, -70.1183,-70.4741,-70.6536,-70.8513, -71.0638,-71.3807,-71.5922,-71.9096, -72.2266,-72.5436,-72.7546,-72.9656, -73.2815,-73.597,-73.8075,-74.0177, -74.2275,-74.4373,-74.6468,-74.8562, -75.0652,-75.275,-75.4839,-75.6927, -75.9013,-76.2139,-76.318,-76.4143)
FOOTPRINT_POINT_LONGITUDE = (12.271,10.9932,10.0837,9.18964,8.31221 ,7.45006,6.6024,6.54992,6.70397,6.83867 ,6.97222,7.16495,7.28806,7.46492, 7.57813,7.6895,7.85105,7.95424,8.05466, 8.19966,8.33855,8.42774,8.55595,8.64252 ,8.72251,8.80225,8.87974,8.99078, 9.09878,9.16836,9.2359,9.29887,9.40534, 9.53185,9.60473,9.6984,9.7662,9.83164, 9.91595,9.95682,9.9969,10.0363,10.0745, 10.112,10.1486,10.1847,10.2204,10.2719, 10.2883,10.2934,10.9092,11.3789,11.92, 12.7656,13.5684,13.6026,13.6148,13.6057 ,13.5979,13.588,13.5786,13.5696,13.555, 13.546,13.5313,13.5194,13.5086,13.4979, 13.4817,13.4702,13.4586,13.4338,13.4101 ,13.3851,13.3642,13.3482,13.3293, 13.3071,13.2899,13.2612,13.232,13.1995, 13.1777,13.1547,13.1201,13.0842,13.0577 ,13.031,13.005,12.9768,12.9487,12.9194, 12.8907,12.855,12.8226,12.7886,12.7536, 12.6983,12.6796,12.271)
ORBIT_NUMBER = 25378
ORBITAL_ECCENTRICITY = 0.574
ORBITAL_INCLINATION = 87.07
ORBITAL_SEMIMAJOR_AXIS = 8768.74
PERIAPSIS_ALTITUDE = 355.39
PERIAPSIS_ARGUMENT_ANGLE = 293.33
PERIAPSIS_TIME = 2024-02-06T22:56:30.000Z
SPACECRAFT_ORIENTATION = (0.0,1.0,0.0)
^MEX_ORIENTATION_DESC = "MEX_ORIENTATION_DESC.TXT"
SPACECRAFT_POINTING_MODE = ACROSSTRACK
^MEX_POINTING_DESC = "MEX_POINTING_DESC.TXT"
RIGHT_ASCENSION = -1e+32
DECLINATION = -1e+32
OFFSET_ANGLE = -1.3
SPACECRAFT_SOLAR_DISTANCE = 2.14889e+08
TARGET_NAME = MARS
/* CAMERA DATA ELEMENTS */
DETECTOR_TEMPERATURE = 19.1861
FOCAL_PLANE_TEMPERATURE = 9.195
INST_CMPRS_NAME = "DISCRETE COSINE TRANSFORMATION (DCT)"
INST_CMPRS_RATIO = 6.43524
INST_CMPRS_QUALITY = 0
INST_CMPRS_QUANTZ_TBL_ID = 0
INSTRUMENT_TEMPERATURE = 11.4379
LENS_TEMPERATURE = 9.6028
MACROPIXEL_SIZE = 2
MISSING_FRAMES = 0
PIXEL_SUBSAMPLING_FLAG = N
SIGNAL_CHAIN_ID = 3
/* RADIOMETRIC DATA ELEMENTS */
BANDWIDTH = 177.0
CENTER_FILTER_WAVELENGTH = 676.5
RADIANCE_OFFSET = 3.92468
RADIANCE_SCALING_FACTOR = 0.0248623
REFLECTANCE_SCALING_FACTOR = 0.000608733
MEX:REFLECTANCE_OFFSET = 0.0960928
/* IMAGE OBJECT DEFINITIONS */
OBJECT = IMAGE
  INTERCHANGE_FORMAT = BINARY
  LINES = 23383
  LINE_SAMPLES = 4747
  SAMPLE_TYPE = UNSIGNED_INTEGER
  SAMPLE_BITS = 8
  BANDS = 1
  BAND_STORAGE_TYPE = BAND_SEQUENTIAL
  MAXIMUM = 255
  MEAN = 112.574
  MINIMUM = 1
  STANDARD_DEVIATION = 36.9247
END_OBJECT = IMAGE
/* MAP OBJECT DEFINITIONS */
OBJECT = IMAGE_MAP_PROJECTION
  ^DATA_SET_MAP_PROJECTION_CATALOG= "DSMAP.CAT"
  A_AXIS_RADIUS = 3396.0
  B_AXIS_RADIUS = 3396.0
  C_AXIS_RADIUS = 3396.0
  CENTER_LATITUDE = 0.0
  CENTER_LONGITUDE = 11.0
  COORDINATE_SYSTEM_NAME = PLANETOGRAPHIC
  COORDINATE_SYSTEM_TYPE = "BODY-FIXED ROTATING"
  EASTERNMOST_LONGITUDE = 13.6148
  FIRST_STANDARD_PARALLEL = "N/A"
  LINE_FIRST_PIXEL = 1
  LINE_LAST_PIXEL = 23383
  LINE_PROJECTION_OFFSET = -157690.25
  MAP_PROJECTION_ROTATION = 0.0
  MAP_PROJECTION_TYPE = SINUSOIDAL
  MAP_RESOLUTION = 2370.85521546667
  MAP_SCALE = 0.025
  MAXIMUM_LATITUDE = -66.5403
  MINIMUM_LATITUDE = -76.4143
  POSITIVE_LONGITUDE_DIRECTION = EAST
  REFERENCE_LATITUDE = "N/A"
  REFERENCE_LONGITUDE = "N/A"
  SAMPLE_FIRST_PIXEL = 1
  SAMPLE_LAST_PIXEL = 4747
  SAMPLE_PROJECTION_OFFSET = 2458.75
  SECOND_STANDARD_PARALLEL = "N/A"
  WESTERNMOST_LONGITUDE = 6.54992
END_OBJECT = IMAGE_MAP_PROJECTION
END
