PDS_VERSION_ID = PDS3
/* FILE DATA ELEMENTS */
RECORD_TYPE = UNDEFINED
/* POINTERS TO DATA OBJECTS */
^IMAGE = ("HP376_0000_S14.TIF")
/* IDENTIFICATION DATA ELEMENTS */
DATA_SET_ID = "MEX-M-HRSC-4-REFDR-MAPPROJECT-EXT9-V4.0"
DATA_SET_NAME = "MARS EXPRESS HRSC MAP PROJECTED REFDR EXTENSION9 V4.0"
DETECTOR_ID = MEX_HRSC_S1
EVENT_TYPE = "MARS-REGIONAL-MAPPING-Te-Im-Fl"
INSTRUMENT_HOST_ID = MEX
INSTRUMENT_HOST_NAME = "MARS EXPRESS"
INSTRUMENT_ID = HRSC
INSTRUMENT_NAME = "HIGH RESOLUTION STEREO CAMERA"
MISSION_NAME = "MARS EXPRESS"
MISSION_PHASE_NAME = ME_Phase_50
PROCESSING_LEVEL_ID = 4
PRODUCT_CREATION_TIME = 2024-08-19T08:57:25.000Z
PRODUCT_ID = "HP376_0000_S14.TIF"
RELEASE_ID = 0011
REVISION_ID = 0000
/* QUALITY DATA ELEMENTS */
DATA_QUALITY_ID = 1
DATA_QUALITY_DESC = "Data calculated based on original SPICE kernels"
/* TIME DATA ELEMENTS */
SPACECRAFT_CLOCK_START_COUNT = "1/0655289742.65096"
SPACECRAFT_CLOCK_STOP_COUNT = "1/0655290063.37651"
START_TIME = 2024-02-06T08:57:36.133Z
STOP_TIME = 2024-02-06T09:01:48.228Z
/* ORBITAL DATA ELEMENTS */
ASCENDING_NODE_LONGITUDE = 103.32
MAXIMUM_RESOLUTION = 0.0299
FOOTPRINT_POINT_LATITUDE = (-70.9921,-70.9551,-70.9106,-70.8476, -70.8457,-70.9214,-70.4606,-70.1553, -69.8494,-69.3967,-69.0858,-68.628, -68.3225,-68.0217,-67.7122,-67.4068, -66.9491,-66.6437,-66.3372,-65.8801, -65.4236,-65.1186,-64.8141,-64.5092, -64.2044,-63.7478,-63.4435,-63.1383, -62.8327,-62.5294,-62.2231,-61.7751, -61.472,-61.1624,-60.8576,-60.4066, -59.8145,-59.5088,-59.149,-58.7768, -58.4194,-58.0628,-57.7073,-57.3501, -56.9935,-56.6403,-56.1109,-55.7588, -55.2305,-55.0548,-55.0383,-55.0573, -55.0637,-55.0637,-55.0632,-55.4146, -55.9455,-56.2988,-56.6566,-57.0139, -57.3719,-57.7301,-58.268,-58.8071, -59.1665,-59.5267,-59.8434,-60.446, -60.7495,-61.0532,-61.358,-61.8155, -62.1219,-62.4278,-62.7347,-63.0408, -63.3464,-63.659,-63.959,-64.2669, -64.5738,-65.0351,-65.4966,-65.8041, -66.2649,-66.5731,-67.0369,-67.3461, -67.6545,-67.9634,-68.2713,-68.5815, -69.0527,-69.3559,-69.8191,-70.1291, -70.4375,-70.9025,-71.0576,-70.9921)
FOOTPRINT_POINT_LONGITUDE = (210.083,208.948,207.788,206.377, 206.339,206.035,206.359,206.559,206.753 ,207.011,207.206,207.458,207.621, 207.763,207.928,208.075,208.286,208.423 ,208.558,208.747,208.927,209.044, 209.157,209.268,209.377,209.532,209.633 ,209.733,209.832,209.923,210.019, 210.134,210.218,210.314,210.398,210.509 ,210.632,210.698,210.781,210.886, 210.961,211.033,211.102,211.172,211.24, 211.301,211.39,211.447,211.532,211.559, 211.561,212.667,213.973,213.996,214.004 ,213.96,213.891,213.843,213.793,213.742 ,213.69,213.637,213.554,213.468,213.408 ,213.347,213.291,213.184,213.127,213.07 ,213.01,212.918,212.854,212.788,212.721 ,212.653,212.583,212.507,212.438, 212.362,212.284,212.163,212.037,211.951 ,211.817,211.724,211.579,211.478, 211.375,211.269,211.161,211.047,210.863 ,210.747,210.558,210.424,210.289, 210.074,209.999,210.083)
ORBIT_NUMBER = 25376
ORBITAL_ECCENTRICITY = 0.574
ORBITAL_INCLINATION = 87.08
ORBITAL_SEMIMAJOR_AXIS = 8767.26
PERIAPSIS_ALTITUDE = 354.55
PERIAPSIS_ARGUMENT_ANGLE = 293.67
PERIAPSIS_TIME = 2024-02-06T08:58:22.000Z
SPACECRAFT_ORIENTATION = (0.0,1.0,0.0)
^MEX_ORIENTATION_DESC = "MEX_ORIENTATION_DESC.TXT"
SPACECRAFT_POINTING_MODE = ACROSSTRACK
^MEX_POINTING_DESC = "MEX_POINTING_DESC.TXT"
RIGHT_ASCENSION = -1e+32
DECLINATION = -1e+32
OFFSET_ANGLE = 0.989
SPACECRAFT_SOLAR_DISTANCE = 2.14984e+08
TARGET_NAME = MARS
/* CAMERA DATA ELEMENTS */
DETECTOR_TEMPERATURE = 17.5549
FOCAL_PLANE_TEMPERATURE = 8.1755
INST_CMPRS_NAME = "DISCRETE COSINE TRANSFORMATION (DCT)"
INST_CMPRS_RATIO = 10.3901
INST_CMPRS_QUALITY = 0
INST_CMPRS_QUANTZ_TBL_ID = 0
INSTRUMENT_TEMPERATURE = 11.0301
LENS_TEMPERATURE = 8.7872
MACROPIXEL_SIZE = 2
MISSING_FRAMES = 0
PIXEL_SUBSAMPLING_FLAG = N
SIGNAL_CHAIN_ID = 1
/* RADIOMETRIC DATA ELEMENTS */
BANDWIDTH = 180.0
CENTER_FILTER_WAVELENGTH = 677.0
RADIANCE_OFFSET = 3.63243
RADIANCE_SCALING_FACTOR = 0.0317412
REFLECTANCE_SCALING_FACTOR = 0.00076538
MEX:REFLECTANCE_OFFSET = 0.0875893
/* IMAGE OBJECT DEFINITIONS */
OBJECT = IMAGE
  INTERCHANGE_FORMAT = BINARY
  LINES = 38256
  LINE_SAMPLES = 7745
  SAMPLE_TYPE = UNSIGNED_INTEGER
  SAMPLE_BITS = 8
  BANDS = 1
  BAND_STORAGE_TYPE = BAND_SEQUENTIAL
  MAXIMUM = 255
  MEAN = 141.271
  MINIMUM = 1
  STANDARD_DEVIATION = 70.531
END_OBJECT = IMAGE
/* MAP OBJECT DEFINITIONS */
OBJECT = IMAGE_MAP_PROJECTION
  ^DATA_SET_MAP_PROJECTION_CATALOG= "DSMAP.CAT"
  A_AXIS_RADIUS = 3396.0
  B_AXIS_RADIUS = 3396.0
  C_AXIS_RADIUS = 3396.0
  CENTER_LATITUDE = 0.0
  CENTER_LONGITUDE = 211.0
  COORDINATE_SYSTEM_NAME = PLANETOGRAPHIC
  COORDINATE_SYSTEM_TYPE = "BODY-FIXED ROTATING"
  EASTERNMOST_LONGITUDE = 214.004
  FIRST_STANDARD_PARALLEL = "N/A"
  LINE_FIRST_PIXEL = 1
  LINE_LAST_PIXEL = 38256
  LINE_PROJECTION_OFFSET = -130393.75
  MAP_PROJECTION_ROTATION = 0.0
  MAP_PROJECTION_TYPE = SINUSOIDAL
  MAP_RESOLUTION = 2370.85521546667
  MAP_SCALE = 0.025
  MAXIMUM_LATITUDE = -55.0383
  MINIMUM_LATITUDE = -71.05759999999999
  POSITIVE_LONGITUDE_DIRECTION = EAST
  REFERENCE_LATITUDE = "N/A"
  REFERENCE_LONGITUDE = "N/A"
  SAMPLE_FIRST_PIXEL = 1
  SAMPLE_LAST_PIXEL = 7745
  SAMPLE_PROJECTION_OFFSET = 3705.25
  SECOND_STANDARD_PARALLEL = "N/A"
  WESTERNMOST_LONGITUDE = 206.035
END_OBJECT = IMAGE_MAP_PROJECTION
END
