PDS_VERSION_ID = PDS3
/* FILE DATA ELEMENTS */
RECORD_TYPE = UNDEFINED
/* POINTERS TO DATA OBJECTS */
^IMAGE = ("HP376_0000_IR4.TIF")
/* IDENTIFICATION DATA ELEMENTS */
DATA_SET_ID = "MEX-M-HRSC-4-REFDR-MAPPROJECT-EXT9-V4.0"
DATA_SET_NAME = "MARS EXPRESS HRSC MAP PROJECTED REFDR EXTENSION9 V4.0"
DETECTOR_ID = MEX_HRSC_IR
EVENT_TYPE = "MARS-REGIONAL-MAPPING-Te-Im-Fl"
INSTRUMENT_HOST_ID = MEX
INSTRUMENT_HOST_NAME = "MARS EXPRESS"
INSTRUMENT_ID = HRSC
INSTRUMENT_NAME = "HIGH RESOLUTION STEREO CAMERA"
MISSION_NAME = "MARS EXPRESS"
MISSION_PHASE_NAME = ME_Phase_50
PROCESSING_LEVEL_ID = 4
PRODUCT_CREATION_TIME = 2024-08-19T08:57:25.000Z
PRODUCT_ID = "HP376_0000_IR4.TIF"
RELEASE_ID = 0011
REVISION_ID = 0000
/* QUALITY DATA ELEMENTS */
DATA_QUALITY_ID = 1
DATA_QUALITY_DESC = "Data calculated based on original SPICE kernels"
/* TIME DATA ELEMENTS */
SPACECRAFT_CLOCK_START_COUNT = "1/0655289742.65096"
SPACECRAFT_CLOCK_STOP_COUNT = "1/0655290063.37651"
START_TIME = 2024-02-06T08:57:30.475Z
STOP_TIME = 2024-02-06T09:01:41.846Z
/* ORBITAL DATA ELEMENTS */
ASCENDING_NODE_LONGITUDE = 103.32
MAXIMUM_RESOLUTION = 0.0589
FOOTPRINT_POINT_LATITUDE = (-71.0258,-70.9861,-70.9394,-70.8668, -70.8649,-70.9238,-70.4655,-70.161, -69.8564,-69.4038,-69.0953,-68.7906, -68.3332,-67.8796,-67.5716,-67.2671, -66.9622,-66.5047,-66.0473,-65.5906, -65.1337,-64.6769,-64.3722,-63.9157, -63.6112,-63.1541,-62.8488,-62.5453, -62.2393,-61.7888,-61.4863,-61.179, -60.8731,-60.4211,-60.1189,-59.5268, -58.8624,-58.3253,-57.9677,-57.6109, -57.2528,-56.8953,-56.5409,-56.1864, -55.8326,-55.3018,-55.1251,-55.0373, -55.0537,-55.072,-55.0766,-55.0768, -55.0778,-55.4304,-55.7849,-56.1406, -56.4989,-56.8566,-57.2159,-57.5751, -57.9345,-58.2943,-58.6542,-59.015, -59.3523,-59.8095,-60.2616,-60.5657, -60.8696,-61.1743,-61.4798,-61.7847, -62.0911,-62.3971,-62.7038,-63.01, -63.3161,-63.6284,-64.2359,-64.6965, -65.0038,-65.3112,-65.6188,-65.926, -66.3865,-66.6948,-67.0034,-67.4664, -67.7742,-68.0827,-68.3903,-68.7058, -69.0151,-69.3177,-69.7798,-70.0889, -70.3968,-70.86,-71.0146,-71.0258)
FOOTPRINT_POINT_LONGITUDE = (210.069,208.979,207.867,206.372, 206.336,206.048,206.37,206.57,206.763, 207.021,207.213,207.383,207.63,207.849, 208.01,208.154,208.294,208.498,208.692, 208.876,209.052,209.222,209.332,209.49, 209.592,209.742,209.841,209.933,210.029 ,210.147,210.229,210.322,210.409,210.52 ,210.594,210.709,210.884,210.995, 211.067,211.136,211.206,211.274,211.334 ,211.394,211.452,211.537,211.564, 211.578,212.432,213.349,213.965,213.987 ,213.994,213.95,213.905,213.858,213.808 ,213.758,213.707,213.654,213.599, 213.544,213.487,213.428,213.372,213.292 ,213.213,213.157,213.1,213.041,212.981, 212.92,212.856,212.791,212.724,212.656, 212.587,212.511,212.367,212.25,212.169, 212.086,212.001,211.914,211.78,211.685, 211.588,211.438,211.334,211.227,211.118 ,210.996,210.878,210.763,210.575, 210.443,210.308,210.095,210.022, 210.069)
ORBIT_NUMBER = 25376
ORBITAL_ECCENTRICITY = 0.574
ORBITAL_INCLINATION = 87.08
ORBITAL_SEMIMAJOR_AXIS = 8767.26
PERIAPSIS_ALTITUDE = 354.55
PERIAPSIS_ARGUMENT_ANGLE = 293.67
PERIAPSIS_TIME = 2024-02-06T08:58:22.000Z
SPACECRAFT_ORIENTATION = (0.0,1.0,0.0)
^MEX_ORIENTATION_DESC = "MEX_ORIENTATION_DESC.TXT"
SPACECRAFT_POINTING_MODE = ACROSSTRACK
^MEX_POINTING_DESC = "MEX_POINTING_DESC.TXT"
RIGHT_ASCENSION = -1e+32
DECLINATION = -1e+32
OFFSET_ANGLE = 0.989
SPACECRAFT_SOLAR_DISTANCE = 2.14984e+08
TARGET_NAME = MARS
/* CAMERA DATA ELEMENTS */
DETECTOR_TEMPERATURE = 17.5549
FOCAL_PLANE_TEMPERATURE = 8.1755
INST_CMPRS_NAME = "DISCRETE COSINE TRANSFORMATION (DCT)"
INST_CMPRS_RATIO = 9.54969
INST_CMPRS_QUALITY = 0
INST_CMPRS_QUANTZ_TBL_ID = 0
INSTRUMENT_TEMPERATURE = 11.0301
LENS_TEMPERATURE = 8.7872
MACROPIXEL_SIZE = 4
MISSING_FRAMES = 0
PIXEL_SUBSAMPLING_FLAG = N
SIGNAL_CHAIN_ID = 2
/* RADIOMETRIC DATA ELEMENTS */
BANDWIDTH = 81.0
CENTER_FILTER_WAVELENGTH = 955.5
RADIANCE_OFFSET = 0.731416
RADIANCE_SCALING_FACTOR = 0.00799026
REFLECTANCE_SCALING_FACTOR = 0.000796709
MEX:REFLECTANCE_OFFSET = 0.0729295
/* IMAGE OBJECT DEFINITIONS */
OBJECT = IMAGE
  INTERCHANGE_FORMAT = BINARY
  LINES = 19128
  LINE_SAMPLES = 3873
  SAMPLE_TYPE = UNSIGNED_INTEGER
  SAMPLE_BITS = 8
  BANDS = 1
  BAND_STORAGE_TYPE = BAND_SEQUENTIAL
  MAXIMUM = 255
  MEAN = 134.799
  MINIMUM = 1
  STANDARD_DEVIATION = 65.9355
END_OBJECT = IMAGE
/* MAP OBJECT DEFINITIONS */
OBJECT = IMAGE_MAP_PROJECTION
  ^DATA_SET_MAP_PROJECTION_CATALOG= "DSMAP.CAT"
  A_AXIS_RADIUS = 3396.0
  B_AXIS_RADIUS = 3396.0
  C_AXIS_RADIUS = 3396.0
  CENTER_LATITUDE = 0.0
  CENTER_LONGITUDE = 211.0
  COORDINATE_SYSTEM_NAME = PLANETOGRAPHIC
  COORDINATE_SYSTEM_TYPE = "BODY-FIXED ROTATING"
  EASTERNMOST_LONGITUDE = 213.994
  FIRST_STANDARD_PARALLEL = "N/A"
  LINE_FIRST_PIXEL = 1
  LINE_LAST_PIXEL = 19128
  LINE_PROJECTION_OFFSET = -65197.125
  MAP_PROJECTION_ROTATION = 0.0
  MAP_PROJECTION_TYPE = SINUSOIDAL
  MAP_RESOLUTION = 1185.42760773333
  MAP_SCALE = 0.05
  MAXIMUM_LATITUDE = -55.0373
  MINIMUM_LATITUDE = -71.0258
  POSITIVE_LONGITUDE_DIRECTION = EAST
  REFERENCE_LATITUDE = "N/A"
  REFERENCE_LONGITUDE = "N/A"
  SAMPLE_FIRST_PIXEL = 1
  SAMPLE_LAST_PIXEL = 3873
  SAMPLE_PROJECTION_OFFSET = 1852.375
  SECOND_STANDARD_PARALLEL = "N/A"
  WESTERNMOST_LONGITUDE = 206.048
END_OBJECT = IMAGE_MAP_PROJECTION
END
