PDS_VERSION_ID = PDS3
/* FILE DATA ELEMENTS */
RECORD_TYPE = UNDEFINED
/* POINTERS TO DATA OBJECTS */
^IMAGE = ("HP373_0000_ND4.TIF")
/* IDENTIFICATION DATA ELEMENTS */
DATA_SET_ID = "MEX-M-HRSC-4-REFDR-MAPPROJECT-EXT9-V4.0"
DATA_SET_NAME = "MARS EXPRESS HRSC MAP PROJECTED REFDR EXTENSION9 V4.0"
DETECTOR_ID = MEX_HRSC_NADIR
EVENT_TYPE = "MARS-LOCAL-MAPPING-Im-Eo-At"
INSTRUMENT_HOST_ID = MEX
INSTRUMENT_HOST_NAME = "MARS EXPRESS"
INSTRUMENT_ID = HRSC
INSTRUMENT_NAME = "HIGH RESOLUTION STEREO CAMERA"
MISSION_NAME = "MARS EXPRESS"
MISSION_PHASE_NAME = ME_Phase_50
PROCESSING_LEVEL_ID = 4
PRODUCT_CREATION_TIME = 2024-08-19T08:57:25.000Z
PRODUCT_ID = "HP373_0000_ND4.TIF"
RELEASE_ID = 0011
REVISION_ID = 0000
/* QUALITY DATA ELEMENTS */
DATA_QUALITY_ID = 1
DATA_QUALITY_DESC = "Data calculated based on original SPICE kernels"
/* TIME DATA ELEMENTS */
SPACECRAFT_CLOCK_START_COUNT = "1/0655214303.64157"
SPACECRAFT_CLOCK_STOP_COUNT = "1/0655214587.40534"
START_TIME = 2024-02-05T11:59:44.487Z
STOP_TIME = 2024-02-05T12:03:18.477Z
/* ORBITAL DATA ELEMENTS */
ASCENDING_NODE_LONGITUDE = 103.37
MAXIMUM_RESOLUTION = 0.0141
FOOTPRINT_POINT_LATITUDE = (-71.513,-71.4584,-71.3956,-71.315, -71.3126,-71.2997,-70.7583,-70.2155, -69.5359,-69.2644,-68.9914,-68.7191, -68.446,-68.1728,-67.7625,-67.4891, -67.2153,-66.9413,-66.6672,-66.3931, -66.1188,-65.8444,-65.5699,-65.2953, -64.8833,-64.6085,-64.3336,-64.0586, -63.7836,-63.5086,-63.2335,-62.9584, -62.6833,-62.4081,-62.1329,-61.8577, -61.5825,-61.3073,-61.032,-60.7568, -60.4816,-59.9313,-59.3812,-58.8313, -58.2817,-57.7322,-57.5948,-57.5927, -57.6245,-57.6597,-57.6888,-57.6895, -57.6901,-58.2418,-58.7939,-59.0701, -59.3465,-59.7612,-60.0377,-60.3144, -60.591,-60.8678,-61.1446,-61.4213, -61.6982,-61.9751,-62.252,-62.529, -62.806,-63.2216,-63.4986,-63.7756, -64.0527,-64.3297,-64.6068,-64.8838, -65.1607,-65.5761,-66.1299,-66.4067, -66.6834,-66.9601,-67.2367,-67.5132, -67.7897,-68.066,-68.3423,-68.6185, -68.8945,-69.1705,-69.4463,-69.7219, -69.9975,-70.2729,-70.5481,-70.8232, -71.0982,-71.3729,-71.5102,-71.513)
FOOTPRINT_POINT_LONGITUDE = (157.898,156.714,155.523,154.175, 154.137,153.965,154.303,154.618,154.988 ,155.14,155.27,155.409,155.535,155.66, 155.837,155.956,156.068,156.177,156.284 ,156.388,156.49,156.588,156.685,156.779 ,156.915,157.003,157.088,157.172, 157.253,157.333,157.41,157.485,157.559, 157.63,157.7,157.768,157.834,157.899, 157.962,158.022,158.082,158.196,158.305 ,158.409,158.508,158.599,158.621, 158.621,159.29,160.141,160.979,161.003, 161.014,160.947,160.879,160.843,160.806 ,160.749,160.711,160.67,160.63,160.589, 160.546,160.504,160.46,160.415,160.37, 160.323,160.274,160.199,160.148,160.095 ,160.042,159.987,159.93,159.873,159.814 ,159.722,159.595,159.528,159.46,159.391 ,159.32,159.246,159.171,159.094,159.014 ,158.933,158.848,158.762,158.673, 158.582,158.489,158.392,158.295,158.191 ,158.085,157.976,157.921,157.898)
ORBIT_NUMBER = 25373
ORBITAL_ECCENTRICITY = 0.574
ORBITAL_INCLINATION = 87.06
ORBITAL_SEMIMAJOR_AXIS = 8770.14
PERIAPSIS_ALTITUDE = 355.93
PERIAPSIS_ARGUMENT_ANGLE = 294.19
PERIAPSIS_TIME = 2024-02-05T12:01:16.000Z
SPACECRAFT_ORIENTATION = (0.0,1.0,0.0)
^MEX_ORIENTATION_DESC = "MEX_ORIENTATION_DESC.TXT"
SPACECRAFT_POINTING_MODE = ACROSSTRACK
^MEX_POINTING_DESC = "MEX_POINTING_DESC.TXT"
RIGHT_ASCENSION = -1e+32
DECLINATION = -1e+32
OFFSET_ANGLE = 0.458
SPACECRAFT_SOLAR_DISTANCE = 2.15127e+08
TARGET_NAME = MARS
/* CAMERA DATA ELEMENTS */
DETECTOR_TEMPERATURE = 18.1666
FOCAL_PLANE_TEMPERATURE = 8.5833
INST_CMPRS_NAME = "DISCRETE COSINE TRANSFORMATION (DCT)"
INST_CMPRS_RATIO = 6.39416
INST_CMPRS_QUALITY = 0
INST_CMPRS_QUANTZ_TBL_ID = 0
INSTRUMENT_TEMPERATURE = 11.0301
LENS_TEMPERATURE = 9.3989
MACROPIXEL_SIZE = 1
MISSING_FRAMES = 0
PIXEL_SUBSAMPLING_FLAG = N
SIGNAL_CHAIN_ID = 0
/* RADIOMETRIC DATA ELEMENTS */
BANDWIDTH = 177.0
CENTER_FILTER_WAVELENGTH = 677.5
RADIANCE_OFFSET = 3.68475
RADIANCE_SCALING_FACTOR = 0.0197874
REFLECTANCE_SCALING_FACTOR = 0.000486479
MEX:REFLECTANCE_OFFSET = 0.0905906
/* IMAGE OBJECT DEFINITIONS */
OBJECT = IMAGE
  INTERCHANGE_FORMAT = BINARY
  LINES = 65986
  LINE_SAMPLES = 13564
  SAMPLE_TYPE = UNSIGNED_INTEGER
  SAMPLE_BITS = 8
  BANDS = 1
  BAND_STORAGE_TYPE = BAND_SEQUENTIAL
  MAXIMUM = 255
  MEAN = 145.403
  MINIMUM = 1
  STANDARD_DEVIATION = 58.6181
END_OBJECT = IMAGE
/* MAP OBJECT DEFINITIONS */
OBJECT = IMAGE_MAP_PROJECTION
  ^DATA_SET_MAP_PROJECTION_CATALOG= "DSMAP.CAT"
  A_AXIS_RADIUS = 3396.0
  B_AXIS_RADIUS = 3396.0
  C_AXIS_RADIUS = 3396.0
  CENTER_LATITUDE = 0.0
  CENTER_LONGITUDE = 158.0
  COORDINATE_SYSTEM_NAME = PLANETOGRAPHIC
  COORDINATE_SYSTEM_TYPE = "BODY-FIXED ROTATING"
  EASTERNMOST_LONGITUDE = 161.014
  FIRST_STANDARD_PARALLEL = "N/A"
  LINE_FIRST_PIXEL = 1
  LINE_LAST_PIXEL = 65986
  LINE_PROJECTION_OFFSET = -273109.0
  MAP_PROJECTION_ROTATION = 0.0
  MAP_PROJECTION_TYPE = SINUSOIDAL
  MAP_RESOLUTION = 4741.71043093333
  MAP_SCALE = 0.0125
  MAXIMUM_LATITUDE = -57.5927
  MINIMUM_LATITUDE = -71.51300000000001
  POSITIVE_LONGITUDE_DIRECTION = EAST
  REFERENCE_LATITUDE = "N/A"
  REFERENCE_LONGITUDE = "N/A"
  SAMPLE_FIRST_PIXEL = 1
  SAMPLE_LAST_PIXEL = 13564
  SAMPLE_PROJECTION_OFFSET = 5938.0
  SECOND_STANDARD_PARALLEL = "N/A"
  WESTERNMOST_LONGITUDE = 153.965
END_OBJECT = IMAGE_MAP_PROJECTION
END
