PDS_VERSION_ID = PDS3
/* FILE DATA ELEMENTS */
RECORD_TYPE = UNDEFINED
/* POINTERS TO DATA OBJECTS */
^IMAGE = ("HP370_0000_S24.TIF")
/* IDENTIFICATION DATA ELEMENTS */
DATA_SET_ID = "MEX-M-HRSC-4-REFDR-MAPPROJECT-EXT9-V4.0"
DATA_SET_NAME = "MARS EXPRESS HRSC MAP PROJECTED REFDR EXTENSION9 V4.0"
DETECTOR_ID = MEX_HRSC_S2
EVENT_TYPE = "MARS-REGIONAL-MAPPING-Gl-Pf-Eo"
INSTRUMENT_HOST_ID = MEX
INSTRUMENT_HOST_NAME = "MARS EXPRESS"
INSTRUMENT_ID = HRSC
INSTRUMENT_NAME = "HIGH RESOLUTION STEREO CAMERA"
MISSION_NAME = "MARS EXPRESS"
MISSION_PHASE_NAME = ME_Phase_50
PROCESSING_LEVEL_ID = 4
PRODUCT_CREATION_TIME = 2024-08-19T08:57:25.000Z
PRODUCT_ID = "HP370_0000_S24.TIF"
RELEASE_ID = 0011
REVISION_ID = 0000
/* QUALITY DATA ELEMENTS */
DATA_QUALITY_ID = 1
DATA_QUALITY_DESC = "Data calculated based on original SPICE kernels"
/* TIME DATA ELEMENTS */
SPACECRAFT_CLOCK_START_COUNT = "1/0655138758.65120"
SPACECRAFT_CLOCK_STOP_COUNT = "1/0655139004.53928"
START_TIME = 2024-02-04T15:00:05.622Z
STOP_TIME = 2024-02-04T15:03:03.829Z
/* ORBITAL DATA ELEMENTS */
ASCENDING_NODE_LONGITUDE = 103.43
MAXIMUM_RESOLUTION = 0.0303
FOOTPRINT_POINT_LATITUDE = (-77.8793,-77.7324,-77.6522,-77.5674, -77.4777,-77.3464,-77.3402,-77.2048, -77.0075,-76.8041,-76.4071,-76.2036, -75.8971,-75.6915,-75.3903,-75.185, -74.9778,-74.6645,-74.3497,-74.1397, -73.9308,-73.7204,-73.4042,-73.0847, -72.8738,-72.6602,-72.3403,-72.1263, -71.9088,-71.6962,-71.3784,-71.055, -70.8388,-70.6196,-70.4016,-70.075, -69.8568,-69.5287,-69.3102,-68.9808, -68.7611,-68.4316,-68.2101,-67.8804, -67.6588,-67.4372,-67.1042,-66.8819, -66.6596,-66.5481,-66.5116,-66.6301, -66.7243,-66.8059,-66.8083,-66.8097, -67.1484,-67.3734,-67.7106,-67.9362, -68.273,-68.4976,-68.8326,-69.0566, -69.3917,-69.615,-69.9503,-70.1724, -70.3958,-70.7311,-70.9545,-71.1724, -71.3936,-71.7219,-71.9416,-72.1629, -72.3829,-72.705,-72.9251,-73.1371, -73.3582,-73.5832,-73.798,-74.015, -74.2353,-74.5604,-74.7767,-74.9917, -75.208,-75.6246,-75.8387,-76.1603, -76.3722,-76.5859,-76.904,-77.2165, -77.4241,-77.6335,-77.7382,-77.8793)
FOOTPRINT_POINT_LONGITUDE = (97.2688,95.3757,94.4288,93.4836, 92.5392,91.2409,91.1819,90.9916,91.3549 ,91.699,92.3723,92.6893,93.1475,93.4414 ,93.8784,94.1547,94.4215,94.806,95.1748 ,95.413,95.6473,95.8741,96.2038,96.5177 ,96.7243,96.9224,97.2125,97.3996, 97.5776,97.759,98.026,98.2768,98.439, 98.5935,98.7467,98.9715,99.117,99.3291, 99.4674,99.6677,99.7979,99.9889,100.111 ,100.293,100.409,100.524,100.69,100.799 ,100.905,100.957,100.974,102.149, 103.174,104.148,104.178,104.189,104.08, 104.005,103.891,103.812,103.692,103.609 ,103.481,103.394,103.26,103.168,103.026 ,102.929,102.83,102.677,102.572,102.463 ,102.353,102.182,102.065,101.945, 101.822,101.63,101.5,101.365,101.227, 101.086,100.941,100.792,100.639,100.401 ,100.237,100.068,99.8945,99.5334, 99.3443,99.0497,98.8461,98.6356,98.3078 ,97.9653,97.7279,97.4819,97.3557, 97.2688)
ORBIT_NUMBER = 25370
ORBITAL_ECCENTRICITY = 0.574
ORBITAL_INCLINATION = 87.07
ORBITAL_SEMIMAJOR_AXIS = 8772.09
PERIAPSIS_ALTITUDE = 354.59
PERIAPSIS_ARGUMENT_ANGLE = 294.67
PERIAPSIS_TIME = 2024-02-04T15:04:03.000Z
SPACECRAFT_ORIENTATION = (0.0,1.0,0.0)
^MEX_ORIENTATION_DESC = "MEX_ORIENTATION_DESC.TXT"
SPACECRAFT_POINTING_MODE = ACROSSTRACK
^MEX_POINTING_DESC = "MEX_POINTING_DESC.TXT"
RIGHT_ASCENSION = -1e+32
DECLINATION = -1e+32
OFFSET_ANGLE = 1.105
SPACECRAFT_SOLAR_DISTANCE = 2.15271e+08
TARGET_NAME = MARS
/* CAMERA DATA ELEMENTS */
DETECTOR_TEMPERATURE = 18.9822
FOCAL_PLANE_TEMPERATURE = 9.6028
INST_CMPRS_NAME = "DISCRETE COSINE TRANSFORMATION (DCT)"
INST_CMPRS_RATIO = 15.2346
INST_CMPRS_QUALITY = 0
INST_CMPRS_QUANTZ_TBL_ID = 0
INSTRUMENT_TEMPERATURE = 11.6418
LENS_TEMPERATURE = 10.2145
MACROPIXEL_SIZE = 2
MISSING_FRAMES = 0
PIXEL_SUBSAMPLING_FLAG = N
SIGNAL_CHAIN_ID = 1
/* RADIOMETRIC DATA ELEMENTS */
BANDWIDTH = 178.0
CENTER_FILTER_WAVELENGTH = 679.0
RADIANCE_OFFSET = 3.0932
RADIANCE_SCALING_FACTOR = 0.0179221
REFLECTANCE_SCALING_FACTOR = 0.000439838
MEX:REFLECTANCE_OFFSET = 0.0759122
/* IMAGE OBJECT DEFINITIONS */
OBJECT = IMAGE
  INTERCHANGE_FORMAT = BINARY
  LINES = 26448
  LINE_SAMPLES = 8483
  SAMPLE_TYPE = UNSIGNED_INTEGER
  SAMPLE_BITS = 8
  BANDS = 1
  BAND_STORAGE_TYPE = BAND_SEQUENTIAL
  MAXIMUM = 255
  MEAN = 213.938
  MINIMUM = 1
  STANDARD_DEVIATION = 51.8361
END_OBJECT = IMAGE
/* MAP OBJECT DEFINITIONS */
OBJECT = IMAGE_MAP_PROJECTION
  ^DATA_SET_MAP_PROJECTION_CATALOG= "DSMAP.CAT"
  A_AXIS_RADIUS = 3396.0
  B_AXIS_RADIUS = 3396.0
  C_AXIS_RADIUS = 3396.0
  CENTER_LATITUDE = 0.0
  CENTER_LONGITUDE = 100.0
  COORDINATE_SYSTEM_NAME = PLANETOGRAPHIC
  COORDINATE_SYSTEM_TYPE = "BODY-FIXED ROTATING"
  EASTERNMOST_LONGITUDE = 104.189
  FIRST_STANDARD_PARALLEL = "N/A"
  LINE_FIRST_PIXEL = 1
  LINE_LAST_PIXEL = 26448
  LINE_PROJECTION_OFFSET = -157770.25
  MAP_PROJECTION_ROTATION = 0.0
  MAP_PROJECTION_TYPE = SINUSOIDAL
  MAP_RESOLUTION = 2370.85521546667
  MAP_SCALE = 0.025
  MAXIMUM_LATITUDE = -66.5116
  MINIMUM_LATITUDE = -77.8793
  POSITIVE_LONGITUDE_DIRECTION = EAST
  REFERENCE_LATITUDE = "N/A"
  REFERENCE_LONGITUDE = "N/A"
  SAMPLE_FIRST_PIXEL = 1
  SAMPLE_LAST_PIXEL = 8483
  SAMPLE_PROJECTION_OFFSET = 4505.25
  SECOND_STANDARD_PARALLEL = "N/A"
  WESTERNMOST_LONGITUDE = 90.99160000000001
END_OBJECT = IMAGE_MAP_PROJECTION
END
