PDS_VERSION_ID = PDS3
/* FILE DATA ELEMENTS */
RECORD_TYPE = UNDEFINED
/* POINTERS TO DATA OBJECTS */
^IMAGE = ("HP370_0000_RE4.TIF")
/* IDENTIFICATION DATA ELEMENTS */
DATA_SET_ID = "MEX-M-HRSC-4-REFDR-MAPPROJECT-EXT9-V4.0"
DATA_SET_NAME = "MARS EXPRESS HRSC MAP PROJECTED REFDR EXTENSION9 V4.0"
DETECTOR_ID = MEX_HRSC_RED
EVENT_TYPE = "MARS-REGIONAL-MAPPING-Gl-Pf-Eo"
INSTRUMENT_HOST_ID = MEX
INSTRUMENT_HOST_NAME = "MARS EXPRESS"
INSTRUMENT_ID = HRSC
INSTRUMENT_NAME = "HIGH RESOLUTION STEREO CAMERA"
MISSION_NAME = "MARS EXPRESS"
MISSION_PHASE_NAME = ME_Phase_50
PROCESSING_LEVEL_ID = 4
PRODUCT_CREATION_TIME = 2024-08-19T08:57:25.000Z
PRODUCT_ID = "HP370_0000_RE4.TIF"
RELEASE_ID = 0011
REVISION_ID = 0000
/* QUALITY DATA ELEMENTS */
DATA_QUALITY_ID = 1
DATA_QUALITY_DESC = "Data calculated based on original SPICE kernels"
/* TIME DATA ELEMENTS */
SPACECRAFT_CLOCK_START_COUNT = "1/0655138758.65120"
SPACECRAFT_CLOCK_STOP_COUNT = "1/0655139004.53928"
START_TIME = 2024-02-04T15:00:12.391Z
STOP_TIME = 2024-02-04T15:03:09.698Z
/* ORBITAL DATA ELEMENTS */
ASCENDING_NODE_LONGITUDE = 103.43
MAXIMUM_RESOLUTION = 0.0594
FOOTPRINT_POINT_LATITUDE = (-77.8526,-77.7178,-77.5667,-77.3424, -77.3367,-77.2188,-76.8168,-76.4169, -76.2126,-75.9048,-75.6983,-75.3949, -75.1887,-74.9806,-74.7715,-74.5613, -74.3511,-74.1402,-73.9305,-73.7193, -73.4022,-73.0821,-72.8703,-72.6564, -72.3359,-72.1217,-71.9037,-71.6905, -71.3722,-71.0475,-70.8313,-70.6117, -70.3935,-70.1758,-69.9575,-69.7385, -69.52,-69.3013,-69.0821,-68.8619, -68.6423,-68.3124,-68.0871,-67.8711, -67.6496,-67.4283,-67.2066,-66.9842, -66.651,-66.5396,-66.5099,-66.592, -66.6411,-66.705,-66.7851,-66.7874, -66.7891,-67.0149,-67.24,-67.5771, -67.9146,-68.2509,-68.4754,-68.8104, -69.0345,-69.3692,-69.5926,-69.9278, -70.1499,-70.3729,-70.5963,-70.8193, -71.043,-71.3716,-71.7006,-71.9209, -72.2518,-72.5762,-72.7974,-73.0153, -73.228,-73.4542,-73.7808,-73.9983, -74.2185,-74.5438,-74.761,-74.9767, -75.1933,-75.4083,-75.8281,-76.0452, -76.257,-76.4698,-76.6854,-77.1063, -77.4195,-77.6304,-77.7356,-77.8526)
FOOTPRINT_POINT_LONGITUDE = (97.2706,95.4665,93.6609,91.2923, 91.2358,91.0189,91.7285,92.4052,92.7228 ,93.1817,93.4758,93.9147,94.1916, 94.4583,94.7168,94.9671,95.2116,95.4493 ,95.6836,95.91,96.2396,96.553,96.7593, 96.9573,97.247,97.4342,97.6106,97.7922, 98.0605,98.3094,98.4717,98.6247,98.7773 ,98.9278,99.0743,99.217,99.3578,99.4956 ,99.6301,99.7603,99.8891,100.077,100.19 ,100.318,100.434,100.548,100.659, 100.767,100.927,100.979,100.993,101.847 ,102.388,103.131,104.151,104.18,104.189 ,104.117,104.043,103.93,103.813,103.692 ,103.609,103.481,103.394,103.26,103.168 ,103.026,102.929,102.829,102.728, 102.624,102.518,102.351,102.18,102.062, 101.881,101.691,101.561,101.428,101.29, 101.152,100.935,100.785,100.632,100.393 ,100.228,100.058,99.884,99.7044,99.3288 ,99.1329,98.9308,98.7225,98.5075, 98.0571,97.7002,97.452,97.3247,97.2706)
ORBIT_NUMBER = 25370
ORBITAL_ECCENTRICITY = 0.574
ORBITAL_INCLINATION = 87.07
ORBITAL_SEMIMAJOR_AXIS = 8772.09
PERIAPSIS_ALTITUDE = 354.59
PERIAPSIS_ARGUMENT_ANGLE = 294.67
PERIAPSIS_TIME = 2024-02-04T15:04:03.000Z
SPACECRAFT_ORIENTATION = (0.0,1.0,0.0)
^MEX_ORIENTATION_DESC = "MEX_ORIENTATION_DESC.TXT"
SPACECRAFT_POINTING_MODE = ACROSSTRACK
^MEX_POINTING_DESC = "MEX_POINTING_DESC.TXT"
RIGHT_ASCENSION = -1e+32
DECLINATION = -1e+32
OFFSET_ANGLE = 1.105
SPACECRAFT_SOLAR_DISTANCE = 2.15271e+08
TARGET_NAME = MARS
/* CAMERA DATA ELEMENTS */
DETECTOR_TEMPERATURE = 18.9822
FOCAL_PLANE_TEMPERATURE = 9.6028
INST_CMPRS_NAME = "DISCRETE COSINE TRANSFORMATION (DCT)"
INST_CMPRS_RATIO = 12.8792
INST_CMPRS_QUALITY = 0
INST_CMPRS_QUANTZ_TBL_ID = 0
INSTRUMENT_TEMPERATURE = 11.6418
LENS_TEMPERATURE = 10.2145
MACROPIXEL_SIZE = 4
MISSING_FRAMES = 0
PIXEL_SUBSAMPLING_FLAG = N
SIGNAL_CHAIN_ID = 2
/* RADIOMETRIC DATA ELEMENTS */
BANDWIDTH = 48.0
CENTER_FILTER_WAVELENGTH = 748.0
RADIANCE_OFFSET = 0.782542
RADIANCE_SCALING_FACTOR = 0.00522947
REFLECTANCE_SCALING_FACTOR = 0.000553042
MEX:REFLECTANCE_OFFSET = 0.0827576
/* IMAGE OBJECT DEFINITIONS */
OBJECT = IMAGE
  INTERCHANGE_FORMAT = BINARY
  LINES = 13224
  LINE_SAMPLES = 4242
  SAMPLE_TYPE = UNSIGNED_INTEGER
  SAMPLE_BITS = 8
  BANDS = 1
  BAND_STORAGE_TYPE = BAND_SEQUENTIAL
  MAXIMUM = 255
  MEAN = 192.739
  MINIMUM = 1
  STANDARD_DEVIATION = 54.3385
END_OBJECT = IMAGE
/* MAP OBJECT DEFINITIONS */
OBJECT = IMAGE_MAP_PROJECTION
  ^DATA_SET_MAP_PROJECTION_CATALOG= "DSMAP.CAT"
  A_AXIS_RADIUS = 3396.0
  B_AXIS_RADIUS = 3396.0
  C_AXIS_RADIUS = 3396.0
  CENTER_LATITUDE = 0.0
  CENTER_LONGITUDE = 100.0
  COORDINATE_SYSTEM_NAME = PLANETOGRAPHIC
  COORDINATE_SYSTEM_TYPE = "BODY-FIXED ROTATING"
  EASTERNMOST_LONGITUDE = 104.189
  FIRST_STANDARD_PARALLEL = "N/A"
  LINE_FIRST_PIXEL = 1
  LINE_LAST_PIXEL = 13224
  LINE_PROJECTION_OFFSET = -78885.375
  MAP_PROJECTION_ROTATION = 0.0
  MAP_PROJECTION_TYPE = SINUSOIDAL
  MAP_RESOLUTION = 1185.42760773333
  MAP_SCALE = 0.05
  MAXIMUM_LATITUDE = -66.5099
  MINIMUM_LATITUDE = -77.8526
  POSITIVE_LONGITUDE_DIRECTION = EAST
  REFERENCE_LATITUDE = "N/A"
  REFERENCE_LONGITUDE = "N/A"
  SAMPLE_FIRST_PIXEL = 1
  SAMPLE_LAST_PIXEL = 4242
  SAMPLE_PROJECTION_OFFSET = 2252.375
  SECOND_STANDARD_PARALLEL = "N/A"
  WESTERNMOST_LONGITUDE = 91.0189
END_OBJECT = IMAGE_MAP_PROJECTION
END
