PDS_VERSION_ID = PDS3
/* FILE DATA ELEMENTS */
RECORD_TYPE = UNDEFINED
/* POINTERS TO DATA OBJECTS */
^IMAGE = ("HP370_0000_GR4.TIF")
/* IDENTIFICATION DATA ELEMENTS */
DATA_SET_ID = "MEX-M-HRSC-4-REFDR-MAPPROJECT-EXT9-V4.0"
DATA_SET_NAME = "MARS EXPRESS HRSC MAP PROJECTED REFDR EXTENSION9 V4.0"
DETECTOR_ID = MEX_HRSC_GREEN
EVENT_TYPE = "MARS-REGIONAL-MAPPING-Gl-Pf-Eo"
INSTRUMENT_HOST_ID = MEX
INSTRUMENT_HOST_NAME = "MARS EXPRESS"
INSTRUMENT_ID = HRSC
INSTRUMENT_NAME = "HIGH RESOLUTION STEREO CAMERA"
MISSION_NAME = "MARS EXPRESS"
MISSION_PHASE_NAME = ME_Phase_50
PROCESSING_LEVEL_ID = 4
PRODUCT_CREATION_TIME = 2024-08-19T08:57:25.000Z
PRODUCT_ID = "HP370_0000_GR4.TIF"
RELEASE_ID = 0011
REVISION_ID = 0000
/* QUALITY DATA ELEMENTS */
DATA_QUALITY_ID = 1
DATA_QUALITY_DESC = "Data calculated based on original SPICE kernels"
/* TIME DATA ELEMENTS */
SPACECRAFT_CLOCK_START_COUNT = "1/0655138758.65120"
SPACECRAFT_CLOCK_STOP_COUNT = "1/0655139004.53928"
START_TIME = 2024-02-04T15:00:50.028Z
STOP_TIME = 2024-02-04T15:03:42.535Z
/* ORBITAL DATA ELEMENTS */
ASCENDING_NODE_LONGITUDE = 103.43
MAXIMUM_RESOLUTION = 0.0565
FOOTPRINT_POINT_LATITUDE = (-77.6816,-77.5783,-77.4611,-77.2851, -77.2806,-77.2631,-76.7508,-76.5448, -76.3387,-76.1315,-75.8194,-75.6111, -75.2977,-74.9829,-74.7724,-74.5614, -74.35,-74.1383,-73.9263,-73.7138, -73.501,-73.1811,-72.8607,-72.6466, -72.4322,-72.2176,-72.0024,-71.7873, -71.5719,-71.3564,-71.1405,-70.9243, -70.5995,-70.2744,-69.9487,-69.7314, -69.514,-69.2963,-69.0785,-68.7515, -68.5333,-68.3149,-68.0964,-67.8778, -67.5497,-67.2212,-66.8925,-66.6733, -66.5636,-66.5375,-66.5884,-66.6444, -66.7154,-66.7167,-66.7182,-67.0509, -67.2727,-67.4944,-67.7161,-68.0484, -68.27,-68.6021,-68.8235,-69.1554, -69.3765,-69.5976,-69.8184,-70.0393, -70.26,-70.4805,-70.811,-71.1417, -71.472,-71.6921,-71.9119,-72.1316, -72.4607,-72.7901,-73.0093,-73.338, -73.6653,-73.8837,-74.1018,-74.3193, -74.5371,-74.8632,-75.0803,-75.2971, -75.5144,-75.7314,-76.055,-76.2709, -76.4863,-76.7011,-76.9161,-77.1307, -77.345,-77.5588,-77.6655,-77.6816)
FOOTPRINT_POINT_LONGITUDE = (97.3727,95.6316,93.8768,91.5561, 91.5005,91.1023,91.9914,92.3294,92.6693 ,92.9844,93.4346,93.7326,94.167,94.5715 ,94.8307,95.0763,95.3195,95.5559, 95.7878,96.0124,96.2314,96.5461,96.8542 ,97.0503,97.2441,97.4304,97.6012, 97.7838,97.9609,98.1427,98.3073,98.4674 ,98.6966,98.9214,99.1383,99.2781, 99.4167,99.552,99.6833,99.8744,99.9991, 100.122,100.231,100.358,100.527,100.692 ,100.85,100.953,101.003,101.015,101.809 ,102.768,104.166,104.194,104.204, 104.096,104.022,103.946,103.869,103.75, 103.669,103.544,103.457,103.325,103.235 ,103.142,103.048,102.951,102.852, 102.751,102.596,102.432,102.263,102.146 ,102.027,101.906,101.718,101.518, 101.381,101.168,100.955,100.804,100.649 ,100.495,100.33,100.077,99.9013,99.7213 ,99.5275,99.3289,99.0339,98.824,98.6087 ,98.3912,98.1595,97.9202,97.6725, 97.4184,97.2885,97.3727)
ORBIT_NUMBER = 25370
ORBITAL_ECCENTRICITY = 0.574
ORBITAL_INCLINATION = 87.07
ORBITAL_SEMIMAJOR_AXIS = 8772.09
PERIAPSIS_ALTITUDE = 354.59
PERIAPSIS_ARGUMENT_ANGLE = 294.67
PERIAPSIS_TIME = 2024-02-04T15:04:03.000Z
SPACECRAFT_ORIENTATION = (0.0,1.0,0.0)
^MEX_ORIENTATION_DESC = "MEX_ORIENTATION_DESC.TXT"
SPACECRAFT_POINTING_MODE = ACROSSTRACK
^MEX_POINTING_DESC = "MEX_POINTING_DESC.TXT"
RIGHT_ASCENSION = -1e+32
DECLINATION = -1e+32
OFFSET_ANGLE = 1.105
SPACECRAFT_SOLAR_DISTANCE = 2.15271e+08
TARGET_NAME = MARS
/* CAMERA DATA ELEMENTS */
DETECTOR_TEMPERATURE = 18.5744
FOCAL_PLANE_TEMPERATURE = 9.6028
INST_CMPRS_NAME = "DISCRETE COSINE TRANSFORMATION (DCT)"
INST_CMPRS_RATIO = 25.2805
INST_CMPRS_QUALITY = 0
INST_CMPRS_QUANTZ_TBL_ID = 0
INSTRUMENT_TEMPERATURE = 11.6418
LENS_TEMPERATURE = 10.2145
MACROPIXEL_SIZE = 4
MISSING_FRAMES = 0
PIXEL_SUBSAMPLING_FLAG = N
SIGNAL_CHAIN_ID = 2
/* RADIOMETRIC DATA ELEMENTS */
BANDWIDTH = 88.0
CENTER_FILTER_WAVELENGTH = 538.0
RADIANCE_OFFSET = 1.15078
RADIANCE_SCALING_FACTOR = 0.00410873
REFLECTANCE_SCALING_FACTOR = 0.000163934
MEX:REFLECTANCE_OFFSET = 0.0459151
/* IMAGE OBJECT DEFINITIONS */
OBJECT = IMAGE
  INTERCHANGE_FORMAT = BINARY
  LINES = 13224
  LINE_SAMPLES = 4242
  SAMPLE_TYPE = UNSIGNED_INTEGER
  SAMPLE_BITS = 8
  BANDS = 1
  BAND_STORAGE_TYPE = BAND_SEQUENTIAL
  MAXIMUM = 255
  MEAN = 245.806
  MINIMUM = 1
  STANDARD_DEVIATION = 26.8532
END_OBJECT = IMAGE
/* MAP OBJECT DEFINITIONS */
OBJECT = IMAGE_MAP_PROJECTION
  ^DATA_SET_MAP_PROJECTION_CATALOG= "DSMAP.CAT"
  A_AXIS_RADIUS = 3396.0
  B_AXIS_RADIUS = 3396.0
  C_AXIS_RADIUS = 3396.0
  CENTER_LATITUDE = 0.0
  CENTER_LONGITUDE = 100.0
  COORDINATE_SYSTEM_NAME = PLANETOGRAPHIC
  COORDINATE_SYSTEM_TYPE = "BODY-FIXED ROTATING"
  EASTERNMOST_LONGITUDE = 104.204
  FIRST_STANDARD_PARALLEL = "N/A"
  LINE_FIRST_PIXEL = 1
  LINE_LAST_PIXEL = 13224
  LINE_PROJECTION_OFFSET = -78885.375
  MAP_PROJECTION_ROTATION = 0.0
  MAP_PROJECTION_TYPE = SINUSOIDAL
  MAP_RESOLUTION = 1185.42760773333
  MAP_SCALE = 0.05
  MAXIMUM_LATITUDE = -66.53749999999999
  MINIMUM_LATITUDE = -77.6816
  POSITIVE_LONGITUDE_DIRECTION = EAST
  REFERENCE_LATITUDE = "N/A"
  REFERENCE_LONGITUDE = "N/A"
  SAMPLE_FIRST_PIXEL = 1
  SAMPLE_LAST_PIXEL = 4242
  SAMPLE_PROJECTION_OFFSET = 2252.375
  SECOND_STANDARD_PARALLEL = "N/A"
  WESTERNMOST_LONGITUDE = 91.1023
END_OBJECT = IMAGE_MAP_PROJECTION
END
