PDS_VERSION_ID = PDS3
/* FILE DATA ELEMENTS */
RECORD_TYPE = UNDEFINED
/* POINTERS TO DATA OBJECTS */
^IMAGE = ("HP369_0000_P14.TIF")
/* IDENTIFICATION DATA ELEMENTS */
DATA_SET_ID = "MEX-M-HRSC-4-REFDR-MAPPROJECT-EXT9-V4.0"
DATA_SET_NAME = "MARS EXPRESS HRSC MAP PROJECTED REFDR EXTENSION9 V4.0"
DETECTOR_ID = MEX_HRSC_P1
EVENT_TYPE = "MARS-REGIONAL-MAPPING-Te-Im-Fl"
INSTRUMENT_HOST_ID = MEX
INSTRUMENT_HOST_NAME = "MARS EXPRESS"
INSTRUMENT_ID = HRSC
INSTRUMENT_NAME = "HIGH RESOLUTION STEREO CAMERA"
MISSION_NAME = "MARS EXPRESS"
MISSION_PHASE_NAME = ME_Phase_50
PROCESSING_LEVEL_ID = 4
PRODUCT_CREATION_TIME = 2024-08-19T08:57:25.000Z
PRODUCT_ID = "HP369_0000_P14.TIF"
RELEASE_ID = 0011
REVISION_ID = 0000
/* QUALITY DATA ELEMENTS */
DATA_QUALITY_ID = 1
DATA_QUALITY_DESC = "Data calculated based on original SPICE kernels"
/* TIME DATA ELEMENTS */
SPACECRAFT_CLOCK_START_COUNT = "1/0655113777.00336"
SPACECRAFT_CLOCK_STOP_COUNT = "1/0655114108.17525"
START_TIME = 2024-02-04T08:04:42.106Z
STOP_TIME = 2024-02-04T08:08:58.965Z
/* ORBITAL DATA ELEMENTS */
ASCENDING_NODE_LONGITUDE = 103.44
MAXIMUM_RESOLUTION = 0.0304
FOOTPRINT_POINT_LATITUDE = (-67.4771,-67.4316,-67.3873,-67.3389, -67.3373,-67.3976,-66.8978,-66.5649, -66.2337,-65.9018,-65.5702,-65.2381, -64.7404,-64.2431,-63.9113,-63.4144, -63.0844,-62.7536,-62.4227,-61.9263, -61.4313,-60.9367,-60.6079,-60.2789, -59.9551,-59.6263,-59.1302,-58.8035, -58.4775,-58.151,-57.6605,-57.3344, -57.0078,-56.6833,-56.197,-55.8737, -55.5501,-55.2268,-54.5863,-54.2634, -53.7794,-53.4512,-53.1214,-52.7941, -52.4664,-52.1397,-51.8127,-51.4785, -51.1463,-50.9793,-50.9535,-51.0095, -51.0634,-51.0639,-51.0647,-51.5667, -52.0677,-52.5628,-52.8907,-53.2154, -53.5445,-53.8734,-54.5204,-55.3251, -55.6487,-55.972,-56.3,-56.7843, -57.1092,-57.435,-57.7617,-58.0889, -58.4155,-58.7425,-59.0694,-59.3965, -59.725,-60.0533,-60.3825,-60.7107, -61.0466,-61.3717,-61.7034,-62.0343, -62.5308,-62.8618,-63.1928,-63.5241, -64.0213,-64.3529,-64.6851,-65.1832, -65.5147,-65.847,-66.3446,-66.6767, -67.0098,-67.3428,-67.5095,-67.4771)
FOOTPRINT_POINT_LONGITUDE = (215.934,214.452,213.296,212.215, 212.182,212.373,212.409,212.432,212.459 ,212.481,212.503,212.522,212.549, 212.573,212.586,212.606,212.621,212.632 ,212.642,212.653,212.665,212.676, 212.683,212.689,212.706,212.71,212.705, 212.71,212.716,212.719,212.72,212.72, 212.719,212.721,212.722,212.724,212.723 ,212.722,212.728,212.724,212.716, 212.712,212.707,212.706,212.702,212.699 ,212.695,212.689,212.688,212.685, 212.684,213.878,215.248,215.274,215.284 ,215.305,215.336,215.372,215.385, 215.385,215.399,215.415,215.459,215.49, 215.507,215.521,215.553,215.566,215.582 ,215.599,215.62,215.642,215.66,215.678, 215.694,215.71,215.731,215.75,215.772, 215.789,215.842,215.841,215.871,215.897 ,215.935,215.959,215.982,216.006, 216.042,216.065,216.092,216.129,216.15, 216.175,216.206,216.229,216.257,216.284 ,216.298,215.934)
ORBIT_NUMBER = 25369
ORBITAL_ECCENTRICITY = 0.574
ORBITAL_INCLINATION = 87.08
ORBITAL_SEMIMAJOR_AXIS = 8768.81
PERIAPSIS_ALTITUDE = 354.74
PERIAPSIS_ARGUMENT_ANGLE = 294.85
PERIAPSIS_TIME = 2024-02-04T08:04:56.000Z
SPACECRAFT_ORIENTATION = (0.0,1.0,0.0)
^MEX_ORIENTATION_DESC = "MEX_ORIENTATION_DESC.TXT"
SPACECRAFT_POINTING_MODE = ACROSSTRACK
^MEX_POINTING_DESC = "MEX_POINTING_DESC.TXT"
RIGHT_ASCENSION = -1e+32
DECLINATION = -1e+32
OFFSET_ANGLE = -2.438
SPACECRAFT_SOLAR_DISTANCE = 2.15319e+08
TARGET_NAME = MARS
/* CAMERA DATA ELEMENTS */
DETECTOR_TEMPERATURE = 17.7588
FOCAL_PLANE_TEMPERATURE = 8.5833
INST_CMPRS_NAME = "DISCRETE COSINE TRANSFORMATION (DCT)"
INST_CMPRS_RATIO = 15.5512
INST_CMPRS_QUALITY = 0
INST_CMPRS_QUANTZ_TBL_ID = 0
INSTRUMENT_TEMPERATURE = 11.4379
LENS_TEMPERATURE = 8.1755
MACROPIXEL_SIZE = 2
MISSING_FRAMES = 0
PIXEL_SUBSAMPLING_FLAG = N
SIGNAL_CHAIN_ID = 3
/* RADIOMETRIC DATA ELEMENTS */
BANDWIDTH = 174.0
CENTER_FILTER_WAVELENGTH = 675.0
RADIANCE_OFFSET = 3.41923
RADIANCE_SCALING_FACTOR = 0.0114421
REFLECTANCE_SCALING_FACTOR = 0.000285339
MEX:REFLECTANCE_OFFSET = 0.0852672
/* IMAGE OBJECT DEFINITIONS */
OBJECT = IMAGE
  INTERCHANGE_FORMAT = BINARY
  LINES = 39109
  LINE_SAMPLES = 3872
  SAMPLE_TYPE = UNSIGNED_INTEGER
  SAMPLE_BITS = 8
  BANDS = 1
  BAND_STORAGE_TYPE = BAND_SEQUENTIAL
  MAXIMUM = 255
  MEAN = 172.221
  MINIMUM = 1
  STANDARD_DEVIATION = 88.7435
END_OBJECT = IMAGE
/* MAP OBJECT DEFINITIONS */
OBJECT = IMAGE_MAP_PROJECTION
  ^DATA_SET_MAP_PROJECTION_CATALOG= "DSMAP.CAT"
  A_AXIS_RADIUS = 3396.0
  B_AXIS_RADIUS = 3396.0
  C_AXIS_RADIUS = 3396.0
  CENTER_LATITUDE = 0.0
  CENTER_LONGITUDE = 214.0
  COORDINATE_SYSTEM_NAME = PLANETOGRAPHIC
  COORDINATE_SYSTEM_TYPE = "BODY-FIXED ROTATING"
  EASTERNMOST_LONGITUDE = 216.298
  FIRST_STANDARD_PARALLEL = "N/A"
  LINE_FIRST_PIXEL = 1
  LINE_LAST_PIXEL = 39109
  LINE_PROJECTION_OFFSET = -120905.75
  MAP_PROJECTION_ROTATION = 0.0
  MAP_PROJECTION_TYPE = SINUSOIDAL
  MAP_RESOLUTION = 2370.85521546667
  MAP_SCALE = 0.025
  MAXIMUM_LATITUDE = -50.9535
  MINIMUM_LATITUDE = -67.5095
  POSITIVE_LONGITUDE_DIRECTION = EAST
  REFERENCE_LATITUDE = "N/A"
  REFERENCE_LONGITUDE = "N/A"
  SAMPLE_FIRST_PIXEL = 1
  SAMPLE_LAST_PIXEL = 3872
  SAMPLE_PROJECTION_OFFSET = 2045.75
  SECOND_STANDARD_PARALLEL = "N/A"
  WESTERNMOST_LONGITUDE = 212.182
END_OBJECT = IMAGE_MAP_PROJECTION
END
