PDS_VERSION_ID = PDS3
/* FILE DATA ELEMENTS */
RECORD_TYPE = UNDEFINED
/* POINTERS TO DATA OBJECTS */
^IMAGE = ("HP363_0000_P24.TIF")
/* IDENTIFICATION DATA ELEMENTS */
DATA_SET_ID = "MEX-M-HRSC-4-REFDR-MAPPROJECT-EXT9-V4.0"
DATA_SET_NAME = "MARS EXPRESS HRSC MAP PROJECTED REFDR EXTENSION9 V4.0"
DETECTOR_ID = MEX_HRSC_P2
EVENT_TYPE = "MARS-REGIONAL-MAPPING-Im-Pf-Eo"
INSTRUMENT_HOST_ID = MEX
INSTRUMENT_HOST_NAME = "MARS EXPRESS"
INSTRUMENT_ID = HRSC
INSTRUMENT_NAME = "HIGH RESOLUTION STEREO CAMERA"
MISSION_NAME = "MARS EXPRESS"
MISSION_PHASE_NAME = ME_Phase_50
PROCESSING_LEVEL_ID = 4
PRODUCT_CREATION_TIME = 2024-08-19T08:57:25.000Z
PRODUCT_ID = "HP363_0000_P24.TIF"
RELEASE_ID = 0011
REVISION_ID = 0000
/* QUALITY DATA ELEMENTS */
DATA_QUALITY_ID = 1
DATA_QUALITY_DESC = "Data calculated based on original SPICE kernels"
/* TIME DATA ELEMENTS */
SPACECRAFT_CLOCK_START_COUNT = "1/0654962829.00362"
SPACECRAFT_CLOCK_STOP_COUNT = "1/0654963139.00914"
START_TIME = 2024-02-02T14:08:07.668Z
STOP_TIME = 2024-02-02T14:12:08.674Z
/* ORBITAL DATA ELEMENTS */
ASCENDING_NODE_LONGITUDE = 103.55
MAXIMUM_RESOLUTION = 0.0289
FOOTPRINT_POINT_LATITUDE = (-72.045,-71.9956,-71.9267,-71.8165, -71.8138,-71.7406,-71.388,-71.0349, -70.7196,-70.1225,-69.6757,-69.079, -68.6281,-68.326,-67.7255,-67.4206, -67.1131,-66.6678,-66.3638,-66.0602, -65.7564,-65.4523,-65.1466,-64.8417, -64.5369,-64.2282,-63.9175,-63.3152, -63.0058,-62.6939,-62.3868,-62.0843, -61.7753,-61.4662,-61.1585,-60.6971, -60.3877,-60.0788,-59.77,-59.4634, -59.1458,-58.8343,-58.5253,-58.2151, -57.9044,-57.5946,-57.1301,-56.8201, -56.5144,-56.3603,-56.3594,-56.3989, -56.4635,-56.4643,-56.4651,-56.7758, -57.0872,-57.5545,-57.8663,-58.3329, -58.644,-58.955,-59.2664,-59.5823, -59.8968,-60.208,-60.5178,-60.9816, -61.4462,-61.7563,-62.066,-62.3719, -62.6815,-62.9909,-63.3008,-63.614, -64.076,-64.3843,-64.6926,-65.0012, -65.3091,-65.7698,-66.077,-66.3838, -66.6899,-67.1486,-67.6066,-67.9117, -68.368,-68.8237,-69.1275,-69.5825, -69.8852,-70.339,-70.6417,-71.0951, -71.4466,-71.8056,-71.9839,-72.045)
FOOTPRINT_POINT_LONGITUDE = (99.4578,98.455,97.2192,95.517,95.4783, 95.3642,95.5964,95.82,96.0214,96.3606, 96.604,96.9119,97.1276,97.2647,97.5328, 97.6555,97.7717,97.961,98.0742,98.185, 98.2927,98.3975,98.4976,98.5962,98.6926 ,98.7818,98.8662,99.0524,99.1321, 99.2068,99.2856,99.368,99.4407,99.5116, 99.5823,99.6855,99.7502,99.8139,99.8762 ,99.9396,99.9888,100.044,100.1,100.154, 100.205,100.257,100.332,100.38,100.432, 100.456,100.456,101.23,102.702,102.723, 102.731,102.7,102.667,102.617,102.582, 102.529,102.493,102.456,102.417,102.376 ,102.334,102.293,102.251,102.187,102.12 ,102.073,102.026,101.979,101.929, 101.878,101.825,101.769,101.686,101.629 ,101.57,101.509,101.446,101.35,101.284, 101.215,101.145,101.036,100.923,100.844 ,100.723,100.596,100.507,100.37,100.275 ,100.126,100.022,99.8601,99.7306, 99.5911,99.5202,99.4578)
ORBIT_NUMBER = 25363
ORBITAL_ECCENTRICITY = 0.574
ORBITAL_INCLINATION = 87.07
ORBITAL_SEMIMAJOR_AXIS = 8773.7
PERIAPSIS_ALTITUDE = 354.54
PERIAPSIS_ARGUMENT_ANGLE = 295.85
PERIAPSIS_TIME = 2024-02-02T14:10:34.000Z
SPACECRAFT_ORIENTATION = (0.0,1.0,0.0)
^MEX_ORIENTATION_DESC = "MEX_ORIENTATION_DESC.TXT"
SPACECRAFT_POINTING_MODE = ACROSSTRACK
^MEX_POINTING_DESC = "MEX_POINTING_DESC.TXT"
RIGHT_ASCENSION = -1e+32
DECLINATION = -1e+32
OFFSET_ANGLE = 0.377
SPACECRAFT_SOLAR_DISTANCE = 2.1561e+08
TARGET_NAME = MARS
/* CAMERA DATA ELEMENTS */
DETECTOR_TEMPERATURE = 18.9822
FOCAL_PLANE_TEMPERATURE = 8.5833
INST_CMPRS_NAME = "DISCRETE COSINE TRANSFORMATION (DCT)"
INST_CMPRS_RATIO = 6.53892
INST_CMPRS_QUALITY = 0
INST_CMPRS_QUANTZ_TBL_ID = 0
INSTRUMENT_TEMPERATURE = 11.234
LENS_TEMPERATURE = 8.7872
MACROPIXEL_SIZE = 2
MISSING_FRAMES = 0
PIXEL_SUBSAMPLING_FLAG = N
SIGNAL_CHAIN_ID = 3
/* RADIOMETRIC DATA ELEMENTS */
BANDWIDTH = 177.0
CENTER_FILTER_WAVELENGTH = 676.5
RADIANCE_OFFSET = 3.62278
RADIANCE_SCALING_FACTOR = 0.0265724
REFLECTANCE_SCALING_FACTOR = 0.000654978
MEX:REFLECTANCE_OFFSET = 0.0892975
/* IMAGE OBJECT DEFINITIONS */
OBJECT = IMAGE
  INTERCHANGE_FORMAT = BINARY
  LINES = 36977
  LINE_SAMPLES = 6907
  SAMPLE_TYPE = UNSIGNED_INTEGER
  SAMPLE_BITS = 8
  BANDS = 1
  BAND_STORAGE_TYPE = BAND_SEQUENTIAL
  MAXIMUM = 255
  MEAN = 113.779
  MINIMUM = 1
  STANDARD_DEVIATION = 45.73
END_OBJECT = IMAGE
/* MAP OBJECT DEFINITIONS */
OBJECT = IMAGE_MAP_PROJECTION
  ^DATA_SET_MAP_PROJECTION_CATALOG= "DSMAP.CAT"
  A_AXIS_RADIUS = 3396.0
  B_AXIS_RADIUS = 3396.0
  C_AXIS_RADIUS = 3396.0
  CENTER_LATITUDE = 0.0
  CENTER_LONGITUDE = 100.0
  COORDINATE_SYSTEM_NAME = PLANETOGRAPHIC
  COORDINATE_SYSTEM_TYPE = "BODY-FIXED ROTATING"
  EASTERNMOST_LONGITUDE = 102.731
  FIRST_STANDARD_PARALLEL = "N/A"
  LINE_FIRST_PIXEL = 1
  LINE_LAST_PIXEL = 36977
  LINE_PROJECTION_OFFSET = -133639.75
  MAP_PROJECTION_ROTATION = 0.0
  MAP_PROJECTION_TYPE = SINUSOIDAL
  MAP_RESOLUTION = 2370.85521546667
  MAP_SCALE = 0.025
  MAXIMUM_LATITUDE = -56.3594
  MINIMUM_LATITUDE = -72.045
  POSITIVE_LONGITUDE_DIRECTION = EAST
  REFERENCE_LATITUDE = "N/A"
  REFERENCE_LONGITUDE = "N/A"
  SAMPLE_FIRST_PIXEL = 1
  SAMPLE_LAST_PIXEL = 6907
  SAMPLE_PROJECTION_OFFSET = 3326.25
  SECOND_STANDARD_PARALLEL = "N/A"
  WESTERNMOST_LONGITUDE = 95.3642
END_OBJECT = IMAGE_MAP_PROJECTION
END
