PDS_VERSION_ID = PDS3
/* FILE DATA ELEMENTS */
RECORD_TYPE = UNDEFINED
/* POINTERS TO DATA OBJECTS */
^IMAGE = ("HP351_0000_BL4.TIF")
/* IDENTIFICATION DATA ELEMENTS */
DATA_SET_ID = "MEX-M-HRSC-4-REFDR-MAPPROJECT-EXT9-V4.0"
DATA_SET_NAME = "MARS EXPRESS HRSC MAP PROJECTED REFDR EXTENSION9 V4.0"
DETECTOR_ID = MEX_HRSC_BLUE
EVENT_TYPE = "MARS-REGIONAL-MAPPING-Im-Fl-Gl"
INSTRUMENT_HOST_ID = MEX
INSTRUMENT_HOST_NAME = "MARS EXPRESS"
INSTRUMENT_ID = HRSC
INSTRUMENT_NAME = "HIGH RESOLUTION STEREO CAMERA"
MISSION_NAME = "MARS EXPRESS"
MISSION_PHASE_NAME = ME_Phase_50
PROCESSING_LEVEL_ID = 4
PRODUCT_CREATION_TIME = 2024-08-19T08:57:25.000Z
PRODUCT_ID = "HP351_0000_BL4.TIF"
RELEASE_ID = 0011
REVISION_ID = 0000
/* QUALITY DATA ELEMENTS */
DATA_QUALITY_ID = 1
DATA_QUALITY_DESC = "Data calculated based on original SPICE kernels"
/* TIME DATA ELEMENTS */
SPACECRAFT_CLOCK_START_COUNT = "1/0654661145.00387"
SPACECRAFT_CLOCK_STOP_COUNT = "1/0654661482.05789"
START_TIME = 2024-01-30T02:20:19.063Z
STOP_TIME = 2024-01-30T02:24:44.536Z
/* ORBITAL DATA ELEMENTS */
ASCENDING_NODE_LONGITUDE = 103.76
MAXIMUM_RESOLUTION = 0.0563
FOOTPRINT_POINT_LATITUDE = (-66.6364,-66.5922,-66.5134,-66.5119, -66.4926,-65.8284,-65.3295,-64.9966, -64.6635,-64.3302,-63.9965,-63.6625, -63.3284,-62.994,-62.4924,-62.1578, -61.823,-61.3206,-60.8178,-60.4825, -60.1473,-59.812,-59.4767,-58.9739, -58.637,-58.3014,-57.9658,-57.4637, -57.1281,-56.7925,-56.457,-56.1215, -55.7861,-55.4508,-55.1156,-54.7807, -54.2779,-53.943,-53.6081,-53.1062, -52.7705,-52.2698,-51.6016,-51.2146, -50.8165,-50.4186,-50.022,-49.6245, -49.426,-49.3713,-49.4088,-49.4207, -49.4213,-49.4224,-50.0189,-50.417, -50.8158,-51.2151,-51.6126,-52.2826, -52.6179,-52.9535,-53.2891,-53.625, -54.1292,-54.4652,-54.8018,-55.137, -55.4736,-55.8116,-56.3161,-56.6527, -56.9895,-57.3265,-57.6634,-58.0005, -58.3376,-58.6746,-59.0103,-59.3481, -59.8538,-60.1908,-60.5279,-61.0325, -61.3703,-61.7071,-62.0429,-62.3804, -62.7168,-63.2213,-63.7256,-64.0616, -64.5654,-64.9011,-65.2366,-65.7396, -66.0746,-66.4095,-66.5771,-66.6364)
FOOTPRINT_POINT_LONGITUDE = (247.864,246.632,244.906,244.878, 244.816,245.03,245.182,245.279,245.373, 245.464,245.552,245.637,245.719,245.799 ,245.914,245.988,246.06,246.163,246.262 ,246.325,246.386,246.446,246.504, 246.589,246.639,246.69,246.741,246.816, 246.863,246.908,246.952,246.995,247.036 ,247.076,247.115,247.153,247.207, 247.242,247.276,247.325,247.353,247.4, 247.456,247.488,247.519,247.548,247.579 ,247.606,247.619,247.622,248.995, 249.616,249.634,249.64,249.613,249.594, 249.573,249.552,249.529,249.491,249.47, 249.45,249.428,249.407,249.372,249.35, 249.325,249.304,249.279,249.249,249.211 ,249.184,249.157,249.128,249.098, 249.068,249.036,249.005,248.977,248.94, 248.888,248.852,248.814,248.76,248.717, 248.676,248.638,248.592,248.548,248.48, 248.409,248.36,248.283,248.23,248.175, 248.09,248.031,247.97,247.938,247.864)
ORBIT_NUMBER = 25351
ORBITAL_ECCENTRICITY = 0.574
ORBITAL_INCLINATION = 87.06
ORBITAL_SEMIMAJOR_AXIS = 8774.12
PERIAPSIS_ALTITUDE = 354.66
PERIAPSIS_ARGUMENT_ANGLE = 297.86
PERIAPSIS_TIME = 2024-01-30T02:21:36.000Z
SPACECRAFT_ORIENTATION = (0.0,1.0,0.0)
^MEX_ORIENTATION_DESC = "MEX_ORIENTATION_DESC.TXT"
SPACECRAFT_POINTING_MODE = NADIR
^MEX_POINTING_DESC = "MEX_POINTING_DESC.TXT"
RIGHT_ASCENSION = -1e+32
DECLINATION = -1e+32
OFFSET_ANGLE = -1e+32
SPACECRAFT_SOLAR_DISTANCE = 2.16201e+08
TARGET_NAME = MARS
/* CAMERA DATA ELEMENTS */
DETECTOR_TEMPERATURE = 19.1861
FOCAL_PLANE_TEMPERATURE = 8.5833
INST_CMPRS_NAME = "DISCRETE COSINE TRANSFORMATION (DCT)"
INST_CMPRS_RATIO = 8.17957
INST_CMPRS_QUALITY = 0
INST_CMPRS_QUANTZ_TBL_ID = 0
INSTRUMENT_TEMPERATURE = 11.4379
LENS_TEMPERATURE = 8.7872
MACROPIXEL_SIZE = 4
MISSING_FRAMES = 0
PIXEL_SUBSAMPLING_FLAG = N
SIGNAL_CHAIN_ID = 2
/* RADIOMETRIC DATA ELEMENTS */
BANDWIDTH = 76.0
CENTER_FILTER_WAVELENGTH = 444.0
RADIANCE_OFFSET = 0.60051
RADIANCE_SCALING_FACTOR = 0.00396851
REFLECTANCE_SCALING_FACTOR = 0.000190591
MEX:REFLECTANCE_OFFSET = 0.02884
/* IMAGE OBJECT DEFINITIONS */
OBJECT = IMAGE
  INTERCHANGE_FORMAT = BINARY
  LINES = 20459
  LINE_SAMPLES = 2737
  SAMPLE_TYPE = UNSIGNED_INTEGER
  SAMPLE_BITS = 8
  BANDS = 1
  BAND_STORAGE_TYPE = BAND_SEQUENTIAL
  MAXIMUM = 255
  MEAN = 150.512
  MINIMUM = 1
  STANDARD_DEVIATION = 99.5951
END_OBJECT = IMAGE
/* MAP OBJECT DEFINITIONS */
OBJECT = IMAGE_MAP_PROJECTION
  ^DATA_SET_MAP_PROJECTION_CATALOG= "DSMAP.CAT"
  A_AXIS_RADIUS = 3396.0
  B_AXIS_RADIUS = 3396.0
  C_AXIS_RADIUS = 3396.0
  CENTER_LATITUDE = 0.0
  CENTER_LONGITUDE = 248.0
  COORDINATE_SYSTEM_NAME = PLANETOGRAPHIC
  COORDINATE_SYSTEM_TYPE = "BODY-FIXED ROTATING"
  EASTERNMOST_LONGITUDE = 249.64
  FIRST_STANDARD_PARALLEL = "N/A"
  LINE_FIRST_PIXEL = 1
  LINE_LAST_PIXEL = 20459
  LINE_PROJECTION_OFFSET = -58517.875
  MAP_PROJECTION_ROTATION = 0.0
  MAP_PROJECTION_TYPE = SINUSOIDAL
  MAP_RESOLUTION = 1185.42760773333
  MAP_SCALE = 0.05
  MAXIMUM_LATITUDE = -49.3713
  MINIMUM_LATITUDE = -66.63639999999999
  POSITIVE_LONGITUDE_DIRECTION = EAST
  REFERENCE_LATITUDE = "N/A"
  REFERENCE_LONGITUDE = "N/A"
  SAMPLE_FIRST_PIXEL = 1
  SAMPLE_LAST_PIXEL = 2737
  SAMPLE_PROJECTION_OFFSET = 1483.625
  SECOND_STANDARD_PARALLEL = "N/A"
  WESTERNMOST_LONGITUDE = 244.816
END_OBJECT = IMAGE_MAP_PROJECTION
END
