PDS_VERSION_ID = PDS3
/* FILE DATA ELEMENTS */
RECORD_TYPE = UNDEFINED
/* POINTERS TO DATA OBJECTS */
^IMAGE = ("HP346_0000_IR4.TIF")
/* IDENTIFICATION DATA ELEMENTS */
DATA_SET_ID = "MEX-M-HRSC-4-REFDR-MAPPROJECT-EXT9-V4.0"
DATA_SET_NAME = "MARS EXPRESS HRSC MAP PROJECTED REFDR EXTENSION9 V4.0"
DETECTOR_ID = MEX_HRSC_IR
EVENT_TYPE = "MARS-LOCAL-MAPPING-Im-Eo-At"
INSTRUMENT_HOST_ID = MEX
INSTRUMENT_HOST_NAME = "MARS EXPRESS"
INSTRUMENT_ID = HRSC
INSTRUMENT_NAME = "HIGH RESOLUTION STEREO CAMERA"
MISSION_NAME = "MARS EXPRESS"
MISSION_PHASE_NAME = ME_Phase_50
PROCESSING_LEVEL_ID = 4
PRODUCT_CREATION_TIME = 2024-08-19T08:57:25.000Z
PRODUCT_ID = "HP346_0000_IR4.TIF"
RELEASE_ID = 0011
REVISION_ID = 0000
/* QUALITY DATA ELEMENTS */
DATA_QUALITY_ID = 1
DATA_QUALITY_DESC = "Data calculated based on original SPICE kernels"
/* TIME DATA ELEMENTS */
SPACECRAFT_CLOCK_START_COUNT = "1/0654535613.00356"
SPACECRAFT_CLOCK_STOP_COUNT = "1/0654535890.23240"
START_TIME = 2024-01-28T15:28:43.087Z
STOP_TIME = 2024-01-28T15:32:06.611Z
/* ORBITAL DATA ELEMENTS */
ASCENDING_NODE_LONGITUDE = 103.85
MAXIMUM_RESOLUTION = 0.0633
FOOTPRINT_POINT_LATITUDE = (-52.9976,-53.0024,-53.0043,-53.0017, -53.0016,-53.0513,-52.8106,-52.4506, -52.2105,-51.9712,-51.7322,-51.493, -51.2542,-50.8965,-50.6571,-50.1818, -49.7048,-49.1138,-48.5234,-48.0537, -47.8123,-47.572,-47.3308,-46.969, -46.4912,-46.2466,-46.0012,-45.7558, -45.511,-45.2663,-45.0207,-44.771, -44.5203,-44.1528,-43.9054,-43.655, -43.4001,-43.0124,-42.7611,-42.5078, -42.25,-41.993,-41.7362,-41.4794, -41.2176,-40.9551,-40.8241,-40.7237, -40.7114,-40.7002,-40.688,-40.6786, -40.6685,-40.6679,-40.6687,-41.0623, -41.3255,-41.5853,-41.9722,-42.2306, -42.4936,-42.7491,-43.0014,-43.2498, -43.5037,-43.7576,-44.0077,-44.2592, -44.5098,-44.7612,-45.012,-45.257, -45.5026,-45.7488,-46.1181,-46.4862, -46.7273,-46.9676,-47.2088,-47.5713, -47.8137,-48.2915,-48.6505,-48.89, -49.2401,-49.4786,-49.8363,-50.0748, -50.3143,-50.5533,-50.793,-51.0325, -51.2724,-51.6322,-51.9921,-52.3534, -52.5954,-52.8368,-52.9578,-52.9976)
FOOTPRINT_POINT_LONGITUDE = (37.1689,36.5088,35.8191,34.8653, 34.8418,34.6895,34.7322,34.7927,34.8333 ,34.8713,34.9085,34.9461,34.9825, 35.0357,35.0734,35.1398,35.2103,35.2852 ,35.3592,35.4126,35.4426,35.4683,35.496 ,35.5381,35.5842,35.6096,35.6343, 35.6592,35.6832,35.7069,35.7326,35.7549 ,35.7794,35.7994,35.8182,35.839,35.8613 ,35.9058,35.922,35.94,35.9579,35.9748, 35.9918,36.0092,36.0259,36.0437,36.0523 ,36.058,36.6759,37.1278,37.6293,37.9766 ,38.2981,38.318,38.3246,38.2973,38.2787 ,38.2599,38.2318,38.2129,38.1905, 38.1699,38.1515,38.1362,38.1167,38.096, 38.075,38.0529,38.0316,38.0096,37.9876, 37.9662,37.9443,37.9217,37.888,37.8536, 37.8305,37.8081,37.7848,37.7491,37.7245 ,37.675,37.6335,37.6055,37.5732,37.5461 ,37.5053,37.4779,37.4492,37.421,37.3918 ,37.3628,37.3329,37.2881,37.2428, 37.1953,37.1619,37.129,37.1121,37.1689)
ORBIT_NUMBER = 25346
ORBITAL_ECCENTRICITY = 0.574
ORBITAL_INCLINATION = 87.06
ORBITAL_SEMIMAJOR_AXIS = 8777.37
PERIAPSIS_ALTITUDE = 355.47
PERIAPSIS_ARGUMENT_ANGLE = 298.72
PERIAPSIS_TIME = 2024-01-28T15:26:11.000Z
SPACECRAFT_ORIENTATION = (0.0,1.0,0.0)
^MEX_ORIENTATION_DESC = "MEX_ORIENTATION_DESC.TXT"
SPACECRAFT_POINTING_MODE = ACROSSTRACK
^MEX_POINTING_DESC = "MEX_POINTING_DESC.TXT"
RIGHT_ASCENSION = -1e+32
DECLINATION = -1e+32
OFFSET_ANGLE = 1.831
SPACECRAFT_SOLAR_DISTANCE = 2.16451e+08
TARGET_NAME = MARS
/* CAMERA DATA ELEMENTS */
DETECTOR_TEMPERATURE = 17.7588
FOCAL_PLANE_TEMPERATURE = 8.7872
INST_CMPRS_NAME = "DISCRETE COSINE TRANSFORMATION (DCT)"
INST_CMPRS_RATIO = 9.90903
INST_CMPRS_QUALITY = 0
INST_CMPRS_QUANTZ_TBL_ID = 0
INSTRUMENT_TEMPERATURE = 11.8457
LENS_TEMPERATURE = 8.3794
MACROPIXEL_SIZE = 4
MISSING_FRAMES = 0
PIXEL_SUBSAMPLING_FLAG = N
SIGNAL_CHAIN_ID = 2
/* RADIOMETRIC DATA ELEMENTS */
BANDWIDTH = 81.0
CENTER_FILTER_WAVELENGTH = 955.5
RADIANCE_OFFSET = 0.629365
RADIANCE_SCALING_FACTOR = 0.00373741
REFLECTANCE_SCALING_FACTOR = 0.000377762
MEX:REFLECTANCE_OFFSET = 0.0636137
/* IMAGE OBJECT DEFINITIONS */
OBJECT = IMAGE
  INTERCHANGE_FORMAT = BINARY
  LINES = 14784
  LINE_SAMPLES = 2719
  SAMPLE_TYPE = UNSIGNED_INTEGER
  SAMPLE_BITS = 8
  BANDS = 1
  BAND_STORAGE_TYPE = BAND_SEQUENTIAL
  MAXIMUM = 255
  MEAN = 99.4384
  MINIMUM = 1
  STANDARD_DEVIATION = 27.7109
END_OBJECT = IMAGE
/* MAP OBJECT DEFINITIONS */
OBJECT = IMAGE_MAP_PROJECTION
  ^DATA_SET_MAP_PROJECTION_CATALOG= "DSMAP.CAT"
  A_AXIS_RADIUS = 3396.0
  B_AXIS_RADIUS = 3396.0
  C_AXIS_RADIUS = 3396.0
  CENTER_LATITUDE = 0.0
  CENTER_LONGITUDE = 37.0
  COORDINATE_SYSTEM_NAME = PLANETOGRAPHIC
  COORDINATE_SYSTEM_TYPE = "BODY-FIXED ROTATING"
  EASTERNMOST_LONGITUDE = 38.3246
  FIRST_STANDARD_PARALLEL = "N/A"
  LINE_FIRST_PIXEL = 1
  LINE_LAST_PIXEL = 14784
  LINE_PROJECTION_OFFSET = -48182.625
  MAP_PROJECTION_ROTATION = 0.0
  MAP_PROJECTION_TYPE = SINUSOIDAL
  MAP_RESOLUTION = 1185.42760773333
  MAP_SCALE = 0.05
  MAXIMUM_LATITUDE = -40.6679
  MINIMUM_LATITUDE = -53.0513
  POSITIVE_LONGITUDE_DIRECTION = EAST
  REFERENCE_LATITUDE = "N/A"
  REFERENCE_LONGITUDE = "N/A"
  SAMPLE_FIRST_PIXEL = 1
  SAMPLE_LAST_PIXEL = 2719
  SAMPLE_PROJECTION_OFFSET = 1550.875
  SECOND_STANDARD_PARALLEL = "N/A"
  WESTERNMOST_LONGITUDE = 34.6895
END_OBJECT = IMAGE_MAP_PROJECTION
END
