PDS_VERSION_ID = PDS3
/* FILE DATA ELEMENTS */
RECORD_TYPE = UNDEFINED
/* POINTERS TO DATA OBJECTS */
^IMAGE = ("HP326_0000_RE4.TIF")
/* IDENTIFICATION DATA ELEMENTS */
DATA_SET_ID = "MEX-M-HRSC-4-REFDR-MAPPROJECT-EXT9-V4.0"
DATA_SET_NAME = "MARS EXPRESS HRSC MAP PROJECTED REFDR EXTENSION9 V4.0"
DETECTOR_ID = MEX_HRSC_RED
EVENT_TYPE = "MARS-REGIONAL-MAPPING-Te-Im-Fl"
INSTRUMENT_HOST_ID = MEX
INSTRUMENT_HOST_NAME = "MARS EXPRESS"
INSTRUMENT_ID = HRSC
INSTRUMENT_NAME = "HIGH RESOLUTION STEREO CAMERA"
MISSION_NAME = "MARS EXPRESS"
MISSION_PHASE_NAME = ME_Phase_50
PROCESSING_LEVEL_ID = 4
PRODUCT_CREATION_TIME = 2024-08-19T08:57:25.000Z
PRODUCT_ID = "HP326_0000_RE4.TIF"
RELEASE_ID = 0011
REVISION_ID = 0000
/* QUALITY DATA ELEMENTS */
DATA_QUALITY_ID = 1
DATA_QUALITY_DESC = "Data calculated based on original SPICE kernels"
/* TIME DATA ELEMENTS */
SPACECRAFT_CLOCK_START_COUNT = "1/0654032449.00336"
SPACECRAFT_CLOCK_STOP_COUNT = "1/0654032766.07594"
START_TIME = 2024-01-22T19:41:42.020Z
STOP_TIME = 2024-01-22T19:45:50.379Z
/* ORBITAL DATA ELEMENTS */
ASCENDING_NODE_LONGITUDE = 104.19
MAXIMUM_RESOLUTION = 0.0591
FOOTPRINT_POINT_LATITUDE = (-68.9333,-68.8577,-68.7726,-68.6454, -68.6422,-68.5469,-68.2113,-67.8749, -67.5375,-67.1986,-66.8599,-66.5195, -66.1788,-65.8376,-65.495,-65.152, -64.6361,-64.1191,-63.6006,-63.2543, -62.9072,-62.4391,-61.7064,-61.4127, -61.1182,-60.8241,-60.5291,-60.234, -59.9385,-59.643,-59.3472,-59.0508, -58.7545,-58.4572,-58.1601,-57.8634, -57.4189,-57.1193,-56.8198,-56.5215, -56.2226,-55.9231,-55.624,-55.3241, -54.8761,-54.5771,-54.277,-53.9756, -53.6775,-53.3684,-53.0635,-52.9109, -52.899,-52.9806,-53.0777,-53.079, -53.0803,-53.5326,-53.8328,-54.1335, -54.5844,-55.0359,-55.3373,-55.7892, -56.2407,-56.6919,-57.2927,-57.5929, -57.8926,-58.3421,-58.6413,-58.9401, -59.2391,-59.6861,-59.9841,-60.2815, -60.5789,-60.8765,-61.1745,-61.6212, -62.2095,-62.5091,-62.951,-63.3021, -63.6525,-64.1764,-64.5254,-65.0483, -65.3954,-65.916,-66.2629,-66.6087, -66.9535,-67.2987,-67.643,-67.9787, -68.3279,-68.6701,-68.8404,-68.9333)
FOOTPRINT_POINT_LONGITUDE = (278.376,277.299,276.207,274.751, 274.716,274.563,274.751,274.933,275.108 ,275.278,275.443,275.602,275.757, 275.907,276.052,276.192,276.396,276.59, 276.776,276.896,277.012,277.162,277.383 ,277.467,277.549,277.63,277.708,277.785 ,277.86,277.934,278.006,278.076,278.145 ,278.211,278.276,278.341,278.437, 278.495,278.552,278.61,278.666,278.72, 278.774,278.826,278.905,278.955,279.004 ,279.05,279.099,279.133,279.172,279.191 ,279.193,280.144,281.298,281.317, 281.323,281.278,281.246,281.215,281.166 ,281.116,281.082,281.029,280.975,280.92 ,280.843,280.803,280.763,280.701, 280.658,280.614,280.57,280.501,280.455, 280.407,280.358,280.308,280.257,280.179 ,280.069,280.013,279.926,279.854,279.78 ,279.666,279.587,279.464,279.379, 279.247,279.156,279.062,278.965,278.865 ,278.762,278.656,278.547,278.433, 278.375,278.376)
ORBIT_NUMBER = 25326
ORBITAL_ECCENTRICITY = 0.574
ORBITAL_INCLINATION = 87.06
ORBITAL_SEMIMAJOR_AXIS = 8780.02
PERIAPSIS_ALTITUDE = 355.33
PERIAPSIS_ARGUMENT_ANGLE = 302.09
PERIAPSIS_TIME = 2024-01-22T19:45:05.000Z
SPACECRAFT_ORIENTATION = (0.0,1.0,0.0)
^MEX_ORIENTATION_DESC = "MEX_ORIENTATION_DESC.TXT"
SPACECRAFT_POINTING_MODE = ACROSSTRACK
^MEX_POINTING_DESC = "MEX_POINTING_DESC.TXT"
RIGHT_ASCENSION = -1e+32
DECLINATION = -1e+32
OFFSET_ANGLE = 0.956
SPACECRAFT_SOLAR_DISTANCE = 2.1747e+08
TARGET_NAME = MARS
/* CAMERA DATA ELEMENTS */
DETECTOR_TEMPERATURE = 19.1861
FOCAL_PLANE_TEMPERATURE = 8.7872
INST_CMPRS_NAME = "DISCRETE COSINE TRANSFORMATION (DCT)"
INST_CMPRS_RATIO = 12.1842
INST_CMPRS_QUALITY = 0
INST_CMPRS_QUANTZ_TBL_ID = 0
INSTRUMENT_TEMPERATURE = 11.8457
LENS_TEMPERATURE = 9.6028
MACROPIXEL_SIZE = 4
MISSING_FRAMES = 0
PIXEL_SUBSAMPLING_FLAG = N
SIGNAL_CHAIN_ID = 2
/* RADIOMETRIC DATA ELEMENTS */
BANDWIDTH = 48.0
CENTER_FILTER_WAVELENGTH = 748.0
RADIANCE_OFFSET = 0.806497
RADIANCE_SCALING_FACTOR = 0.00607495
REFLECTANCE_SCALING_FACTOR = 0.000655644
MEX:REFLECTANCE_OFFSET = 0.0870418
/* IMAGE OBJECT DEFINITIONS */
OBJECT = IMAGE
  INTERCHANGE_FORMAT = BINARY
  LINES = 18812
  LINE_SAMPLES = 3499
  SAMPLE_TYPE = UNSIGNED_INTEGER
  SAMPLE_BITS = 8
  BANDS = 1
  BAND_STORAGE_TYPE = BAND_SEQUENTIAL
  MAXIMUM = 255
  MEAN = 140.226
  MINIMUM = 1
  STANDARD_DEVIATION = 44.6704
END_OBJECT = IMAGE
/* MAP OBJECT DEFINITIONS */
OBJECT = IMAGE_MAP_PROJECTION
  ^DATA_SET_MAP_PROJECTION_CATALOG= "DSMAP.CAT"
  A_AXIS_RADIUS = 3396.0
  B_AXIS_RADIUS = 3396.0
  C_AXIS_RADIUS = 3396.0
  CENTER_LATITUDE = 0.0
  CENTER_LONGITUDE = 279.0
  COORDINATE_SYSTEM_NAME = PLANETOGRAPHIC
  COORDINATE_SYSTEM_TYPE = "BODY-FIXED ROTATING"
  EASTERNMOST_LONGITUDE = 281.323
  FIRST_STANDARD_PARALLEL = "N/A"
  LINE_FIRST_PIXEL = 1
  LINE_LAST_PIXEL = 18812
  LINE_PROJECTION_OFFSET = -62752.125
  MAP_PROJECTION_ROTATION = 0.0
  MAP_PROJECTION_TYPE = SINUSOIDAL
  MAP_RESOLUTION = 1185.42760773333
  MAP_SCALE = 0.05
  MAXIMUM_LATITUDE = -52.899
  MINIMUM_LATITUDE = -68.9333
  POSITIVE_LONGITUDE_DIRECTION = EAST
  REFERENCE_LATITUDE = "N/A"
  REFERENCE_LONGITUDE = "N/A"
  SAMPLE_FIRST_PIXEL = 1
  SAMPLE_LAST_PIXEL = 3499
  SAMPLE_PROJECTION_OFFSET = 1819.375
  SECOND_STANDARD_PARALLEL = "N/A"
  WESTERNMOST_LONGITUDE = 274.563
END_OBJECT = IMAGE_MAP_PROJECTION
END
