PDS_VERSION_ID = PDS3
/* FILE DATA ELEMENTS */
RECORD_TYPE = UNDEFINED
/* POINTERS TO DATA OBJECTS */
^IMAGE = ("HP326_0000_GR4.TIF")
/* IDENTIFICATION DATA ELEMENTS */
DATA_SET_ID = "MEX-M-HRSC-4-REFDR-MAPPROJECT-EXT9-V4.0"
DATA_SET_NAME = "MARS EXPRESS HRSC MAP PROJECTED REFDR EXTENSION9 V4.0"
DETECTOR_ID = MEX_HRSC_GREEN
EVENT_TYPE = "MARS-REGIONAL-MAPPING-Te-Im-Fl"
INSTRUMENT_HOST_ID = MEX
INSTRUMENT_HOST_NAME = "MARS EXPRESS"
INSTRUMENT_ID = HRSC
INSTRUMENT_NAME = "HIGH RESOLUTION STEREO CAMERA"
MISSION_NAME = "MARS EXPRESS"
MISSION_PHASE_NAME = ME_Phase_50
PROCESSING_LEVEL_ID = 4
PRODUCT_CREATION_TIME = 2024-08-19T08:57:25.000Z
PRODUCT_ID = "HP326_0000_GR4.TIF"
RELEASE_ID = 0011
REVISION_ID = 0000
/* QUALITY DATA ELEMENTS */
DATA_QUALITY_ID = 1
DATA_QUALITY_DESC = "Data calculated based on original SPICE kernels"
/* TIME DATA ELEMENTS */
SPACECRAFT_CLOCK_START_COUNT = "1/0654032449.00336"
SPACECRAFT_CLOCK_STOP_COUNT = "1/0654032766.07594"
START_TIME = 2024-01-22T19:42:18.394Z
STOP_TIME = 2024-01-22T19:46:22.865Z
/* ORBITAL DATA ELEMENTS */
ASCENDING_NODE_LONGITUDE = 104.19
MAXIMUM_RESOLUTION = 0.0567
FOOTPRINT_POINT_LATITUDE = (-68.7859,-68.7355,-68.6775,-68.5891, -68.5868,-68.5861,-68.2349,-67.8831, -67.5308,-67.178,-66.8246,-66.4709, -66.1166,-65.762,-65.4069,-64.8773, -64.2806,-63.9819,-63.6762,-63.377, -63.0777,-62.7714,-62.3218,-62.0218, -61.7218,-61.4215,-61.1212,-60.8207, -60.5201,-60.069,-59.6176,-59.1661, -58.865,-58.4132,-58.112,-57.66, -57.2078,-56.9066,-56.6052,-56.3039, -56.0025,-55.7012,-55.3999,-55.0984, -54.7971,-54.3453,-53.5926,-53.1423, -52.9919,-52.9495,-52.973,-52.9986, -53.0254,-53.026,-53.027,-53.3294, -53.7832,-54.086,-54.5402,-54.843, -55.1458,-55.6001,-55.903,-56.206, -56.509,-56.9635,-57.2666,-57.7213, -58.176,-58.4791,-58.7823,-59.2369, -59.5401,-59.9947,-60.2977,-60.6007, -60.9035,-61.2061,-61.6599,-61.9625, -62.2657,-62.5673,-62.87,-63.3303, -63.7835,-64.0924,-64.3942,-64.6959, -64.9974,-65.525,-65.8843,-66.2432, -66.602,-66.9604,-67.3184,-67.6763, -68.0348,-68.5692,-68.7477,-68.7859)
FOOTPRINT_POINT_LONGITUDE = (278.373,277.334,276.277,274.862, 274.828,274.623,274.817,275.004,275.185 ,275.358,275.527,275.689,275.846, 275.999,276.145,276.356,276.581,276.688 ,276.797,276.899,276.999,277.098, 277.238,277.329,277.415,277.5,277.582, 277.664,277.742,277.857,277.968,278.075 ,278.144,278.244,278.309,278.403, 278.499,278.554,278.612,278.667,278.722 ,278.775,278.827,278.881,278.931, 279.003,279.119,279.168,279.188,279.193 ,279.752,280.412,281.314,281.333, 281.339,281.308,281.261,281.228,281.178 ,281.143,281.109,281.056,281.019, 280.982,280.944,280.886,280.846,280.784 ,280.721,280.677,280.632,280.564, 280.516,280.443,280.393,280.342,280.29, 280.237,280.156,280.099,280.039,279.983 ,279.921,279.825,279.726,279.657, 279.588,279.517,279.444,279.311,279.217 ,279.121,279.021,278.918,278.812, 278.701,278.584,278.409,278.347, 278.373)
ORBIT_NUMBER = 25326
ORBITAL_ECCENTRICITY = 0.574
ORBITAL_INCLINATION = 87.06
ORBITAL_SEMIMAJOR_AXIS = 8780.02
PERIAPSIS_ALTITUDE = 355.33
PERIAPSIS_ARGUMENT_ANGLE = 302.09
PERIAPSIS_TIME = 2024-01-22T19:45:05.000Z
SPACECRAFT_ORIENTATION = (0.0,1.0,0.0)
^MEX_ORIENTATION_DESC = "MEX_ORIENTATION_DESC.TXT"
SPACECRAFT_POINTING_MODE = ACROSSTRACK
^MEX_POINTING_DESC = "MEX_POINTING_DESC.TXT"
RIGHT_ASCENSION = -1e+32
DECLINATION = -1e+32
OFFSET_ANGLE = 0.956
SPACECRAFT_SOLAR_DISTANCE = 2.1747e+08
TARGET_NAME = MARS
/* CAMERA DATA ELEMENTS */
DETECTOR_TEMPERATURE = 18.3705
FOCAL_PLANE_TEMPERATURE = 8.7872
INST_CMPRS_NAME = "DISCRETE COSINE TRANSFORMATION (DCT)"
INST_CMPRS_RATIO = 18.5112
INST_CMPRS_QUALITY = 0
INST_CMPRS_QUANTZ_TBL_ID = 0
INSTRUMENT_TEMPERATURE = 11.8457
LENS_TEMPERATURE = 9.6028
MACROPIXEL_SIZE = 4
PIXEL_SUBSAMPLING_FLAG = N
SIGNAL_CHAIN_ID = 2
/* RADIOMETRIC DATA ELEMENTS */
BANDWIDTH = 88.0
CENTER_FILTER_WAVELENGTH = 538.0
RADIANCE_OFFSET = 1.09067
RADIANCE_SCALING_FACTOR = 0.00592735
REFLECTANCE_SCALING_FACTOR = 0.00024135
MEX:REFLECTANCE_OFFSET = 0.0444099
/* IMAGE OBJECT DEFINITIONS */
OBJECT = IMAGE
  INTERCHANGE_FORMAT = BINARY
  LINES = 18812
  LINE_SAMPLES = 3499
  SAMPLE_TYPE = UNSIGNED_INTEGER
  SAMPLE_BITS = 8
  BANDS = 1
  BAND_STORAGE_TYPE = BAND_SEQUENTIAL
  MAXIMUM = 255
  MEAN = 210.692
  MINIMUM = 1
  STANDARD_DEVIATION = 53.5106
END_OBJECT = IMAGE
/* MAP OBJECT DEFINITIONS */
OBJECT = IMAGE_MAP_PROJECTION
  ^DATA_SET_MAP_PROJECTION_CATALOG= "DSMAP.CAT"
  A_AXIS_RADIUS = 3396.0
  B_AXIS_RADIUS = 3396.0
  C_AXIS_RADIUS = 3396.0
  CENTER_LATITUDE = 0.0
  CENTER_LONGITUDE = 279.0
  COORDINATE_SYSTEM_NAME = PLANETOGRAPHIC
  COORDINATE_SYSTEM_TYPE = "BODY-FIXED ROTATING"
  EASTERNMOST_LONGITUDE = 281.339
  FIRST_STANDARD_PARALLEL = "N/A"
  LINE_FIRST_PIXEL = 1
  LINE_LAST_PIXEL = 18812
  LINE_PROJECTION_OFFSET = -62752.125
  MAP_PROJECTION_ROTATION = 0.0
  MAP_PROJECTION_TYPE = SINUSOIDAL
  MAP_RESOLUTION = 1185.42760773333
  MAP_SCALE = 0.05
  MAXIMUM_LATITUDE = -52.9495
  MINIMUM_LATITUDE = -68.7859
  POSITIVE_LONGITUDE_DIRECTION = EAST
  REFERENCE_LATITUDE = "N/A"
  REFERENCE_LONGITUDE = "N/A"
  SAMPLE_FIRST_PIXEL = 1
  SAMPLE_LAST_PIXEL = 3499
  SAMPLE_PROJECTION_OFFSET = 1819.375
  SECOND_STANDARD_PARALLEL = "N/A"
  WESTERNMOST_LONGITUDE = 274.623
END_OBJECT = IMAGE_MAP_PROJECTION
END
