PDS_VERSION_ID = PDS3
/* FILE DATA ELEMENTS */
RECORD_TYPE = UNDEFINED
/* POINTERS TO DATA OBJECTS */
^IMAGE = ("HP314_0000_BL4.TIF")
/* IDENTIFICATION DATA ELEMENTS */
DATA_SET_ID = "MEX-M-HRSC-4-REFDR-MAPPROJECT-EXT9-V4.0"
DATA_SET_NAME = "MARS EXPRESS HRSC MAP PROJECTED REFDR EXTENSION9 V4.0"
DETECTOR_ID = MEX_HRSC_BLUE
EVENT_TYPE = "MARS-REGIONAL-MAPPING-Gl-Pf-Mw"
INSTRUMENT_HOST_ID = MEX
INSTRUMENT_HOST_NAME = "MARS EXPRESS"
INSTRUMENT_ID = HRSC
INSTRUMENT_NAME = "HIGH RESOLUTION STEREO CAMERA"
MISSION_NAME = "MARS EXPRESS"
MISSION_PHASE_NAME = ME_Phase_50
PROCESSING_LEVEL_ID = 4
PRODUCT_CREATION_TIME = 2024-08-19T08:57:25.000Z
PRODUCT_ID = "HP314_0000_BL4.TIF"
RELEASE_ID = 0011
REVISION_ID = 0000
/* QUALITY DATA ELEMENTS */
DATA_QUALITY_ID = 1
DATA_QUALITY_DESC = "Data calculated based on original SPICE kernels"
/* TIME DATA ELEMENTS */
SPACECRAFT_CLOCK_START_COUNT = "1/0653730913.00347"
SPACECRAFT_CLOCK_STOP_COUNT = "1/0653731201.23043"
START_TIME = 2024-01-19T07:56:27.065Z
STOP_TIME = 2024-01-19T08:00:01.511Z
/* ORBITAL DATA ELEMENTS */
ASCENDING_NODE_LONGITUDE = 104.4
MAXIMUM_RESOLUTION = 0.0575
FOOTPRINT_POINT_LATITUDE = (-55.8334,-55.7976,-55.7569,-55.6953, -55.6937,-55.6637,-55.4095,-55.0285, -54.6474,-54.2666,-53.8856,-53.5043, -53.1232,-52.8691,-52.6154,-52.2341, -51.8532,-51.4723,-51.0916,-50.8378, -50.5839,-50.3301,-50.0757,-49.8218, -49.441,-49.1875,-48.9334,-48.4261, -47.9947,-47.6921,-47.3899,-46.9365, -46.6338,-46.3311,-46.0289,-45.7273, -45.4253,-45.1237,-44.8227,-44.5217, -44.2197,-43.9189,-43.4675,-43.1671, -42.8663,-42.566,-42.1154,-41.9654, -41.8829,-41.9133,-41.9398,-41.9715, -41.9721,-41.9733,-42.2742,-42.7257, -43.0271,-43.3286,-43.6305,-43.9328, -44.3863,-44.6887,-44.9915,-45.2932, -45.5959,-46.0508,-46.5059,-46.8091, -47.113,-47.4167,-47.7209,-48.0244, -48.4706,-48.7258,-48.9801,-49.2347, -49.4896,-49.7447,-49.9997,-50.382, -50.6373,-50.8929,-51.4019,-51.658, -51.913,-52.1681,-52.4233,-52.8063, -53.0617,-53.3172,-53.5727,-53.8282, -54.0833,-54.3394,-54.5939,-54.8498, -55.2326,-55.6155,-55.7431,-55.8334)
FOOTPRINT_POINT_LONGITUDE = (65.9365,65.2925,64.6272,63.7194, 63.6973,63.5293,63.5739,63.6408,63.7058 ,63.7718,63.8348,63.8956,63.956,63.995, 64.0358,64.092,64.1483,64.2039,64.2587, 64.294,64.3286,64.3629,64.3932,64.4253, 64.4725,64.5052,64.5335,64.5935,64.6417 ,64.6746,64.7086,64.7568,64.7852, 64.8118,64.8401,64.8701,64.8967,64.9243 ,64.9534,64.9812,65.0021,65.0277, 65.0631,65.0869,65.1079,65.1291,65.1583 ,65.168,65.1732,65.7583,66.3259,67.1034 ,67.1207,67.1263,67.1083,67.0803, 67.0616,67.0423,67.0231,67.004,66.9742, 66.9536,66.9332,66.9091,66.8871,66.8544 ,66.8204,66.7966,66.7737,66.7495, 66.7259,66.6999,66.6609,66.64,66.6161, 66.5926,66.5696,66.5466,66.5226,66.4855 ,66.4613,66.4374,66.3823,66.3585, 66.3312,66.3039,66.2762,66.2345,66.2063 ,66.178,66.1493,66.1202,66.0895,66.0611 ,66.0278,65.9982,65.9497,65.9005,65.884 ,65.9365)
ORBIT_NUMBER = 25314
ORBITAL_ECCENTRICITY = 0.575
ORBITAL_INCLINATION = 87.07
ORBITAL_SEMIMAJOR_AXIS = 8784.56
PERIAPSIS_ALTITUDE = 354.9
PERIAPSIS_ARGUMENT_ANGLE = 304.11
PERIAPSIS_TIME = 2024-01-19T07:56:34.000Z
SPACECRAFT_ORIENTATION = (0.0,1.0,0.0)
^MEX_ORIENTATION_DESC = "MEX_ORIENTATION_DESC.TXT"
SPACECRAFT_POINTING_MODE = ACROSSTRACK
^MEX_POINTING_DESC = "MEX_POINTING_DESC.TXT"
RIGHT_ASCENSION = -1e+32
DECLINATION = -1e+32
OFFSET_ANGLE = 1.414
SPACECRAFT_SOLAR_DISTANCE = 2.18094e+08
TARGET_NAME = MARS
/* CAMERA DATA ELEMENTS */
DETECTOR_TEMPERATURE = 18.3705
FOCAL_PLANE_TEMPERATURE = 8.5833
INST_CMPRS_NAME = "DISCRETE COSINE TRANSFORMATION (DCT)"
INST_CMPRS_RATIO = 6.28078
INST_CMPRS_QUALITY = 0
INST_CMPRS_QUANTZ_TBL_ID = 0
INSTRUMENT_TEMPERATURE = 11.234
LENS_TEMPERATURE = 8.5833
MACROPIXEL_SIZE = 4
MISSING_FRAMES = 0
PIXEL_SUBSAMPLING_FLAG = N
SIGNAL_CHAIN_ID = 2
/* RADIOMETRIC DATA ELEMENTS */
BANDWIDTH = 76.0
CENTER_FILTER_WAVELENGTH = 444.0
RADIANCE_OFFSET = 0.63624
RADIANCE_SCALING_FACTOR = 0.00167877
REFLECTANCE_SCALING_FACTOR = 8.20419e-05
MEX:REFLECTANCE_OFFSET = 0.0310931
/* IMAGE OBJECT DEFINITIONS */
OBJECT = IMAGE
  INTERCHANGE_FORMAT = BINARY
  LINES = 16476
  LINE_SAMPLES = 2586
  SAMPLE_TYPE = UNSIGNED_INTEGER
  SAMPLE_BITS = 8
  BANDS = 1
  BAND_STORAGE_TYPE = BAND_SEQUENTIAL
  MAXIMUM = 255
  MEAN = 138.572
  MINIMUM = 2
  STANDARD_DEVIATION = 32.5606
END_OBJECT = IMAGE
/* MAP OBJECT DEFINITIONS */
OBJECT = IMAGE_MAP_PROJECTION
  ^DATA_SET_MAP_PROJECTION_CATALOG= "DSMAP.CAT"
  A_AXIS_RADIUS = 3396.0
  B_AXIS_RADIUS = 3396.0
  C_AXIS_RADIUS = 3396.0
  CENTER_LATITUDE = 0.0
  CENTER_LONGITUDE = 66.0
  COORDINATE_SYSTEM_NAME = PLANETOGRAPHIC
  COORDINATE_SYSTEM_TYPE = "BODY-FIXED ROTATING"
  EASTERNMOST_LONGITUDE = 67.1263
  FIRST_STANDARD_PARALLEL = "N/A"
  LINE_FIRST_PIXEL = 1
  LINE_LAST_PIXEL = 16476
  LINE_PROJECTION_OFFSET = -49689.875
  MAP_PROJECTION_ROTATION = 0.0
  MAP_PROJECTION_TYPE = SINUSOIDAL
  MAP_RESOLUTION = 1185.42760773333
  MAP_SCALE = 0.05
  MAXIMUM_LATITUDE = -41.8829
  MINIMUM_LATITUDE = -55.8334
  POSITIVE_LONGITUDE_DIRECTION = EAST
  REFERENCE_LATITUDE = "N/A"
  REFERENCE_LONGITUDE = "N/A"
  SAMPLE_FIRST_PIXEL = 1
  SAMPLE_LAST_PIXEL = 2586
  SAMPLE_PROJECTION_OFFSET = 1551.875
  SECOND_STANDARD_PARALLEL = "N/A"
  WESTERNMOST_LONGITUDE = 63.5293
END_OBJECT = IMAGE_MAP_PROJECTION
END
