PDS_VERSION_ID = PDS3
/* FILE DATA ELEMENTS */
RECORD_TYPE = UNDEFINED
/* POINTERS TO DATA OBJECTS */
^IMAGE = ("HP312_0000_GR4.TIF")
/* IDENTIFICATION DATA ELEMENTS */
DATA_SET_ID = "MEX-M-HRSC-4-REFDR-MAPPROJECT-EXT9-V4.0"
DATA_SET_NAME = "MARS EXPRESS HRSC MAP PROJECTED REFDR EXTENSION9 V4.0"
DETECTOR_ID = MEX_HRSC_GREEN
EVENT_TYPE = "MARS-REGIONAL-MAPPING-Im-Fl-Gl"
INSTRUMENT_HOST_ID = MEX
INSTRUMENT_HOST_NAME = "MARS EXPRESS"
INSTRUMENT_ID = HRSC
INSTRUMENT_NAME = "HIGH RESOLUTION STEREO CAMERA"
MISSION_NAME = "MARS EXPRESS"
MISSION_PHASE_NAME = ME_Phase_50
PROCESSING_LEVEL_ID = 4
PRODUCT_CREATION_TIME = 2024-08-19T08:57:25.000Z
PRODUCT_ID = "HP312_0000_GR4.TIF"
RELEASE_ID = 0011
REVISION_ID = 0000
/* QUALITY DATA ELEMENTS */
DATA_QUALITY_ID = 1
DATA_QUALITY_DESC = "Data calculated based on original SPICE kernels"
/* TIME DATA ELEMENTS */
SPACECRAFT_CLOCK_START_COUNT = "1/0653680567.64177"
SPACECRAFT_CLOCK_STOP_COUNT = "1/0653680809.55864"
START_TIME = 2024-01-18T17:57:33.755Z
STOP_TIME = 2024-01-18T18:00:25.592Z
/* ORBITAL DATA ELEMENTS */
ASCENDING_NODE_LONGITUDE = 104.44
MAXIMUM_RESOLUTION = 0.0567
FOOTPRINT_POINT_LATITUDE = (-59.5604,-59.5309,-59.4967,-59.4437, -59.4423,-59.4441,-59.2255,-59.0064, -58.7875,-58.5686,-58.3494,-58.1303, -57.9111,-57.5823,-57.3629,-57.1436, -56.9242,-56.595,-56.3755,-56.0462, -55.8266,-55.6071,-55.3874,-55.168, -54.9484,-54.7287,-54.3992,-54.1797, -53.8504,-53.6308,-53.4113,-53.1918, -52.9722,-52.7527,-52.5332,-52.204, -51.9846,-51.6555,-51.4362,-51.2169, -50.9976,-50.7784,-50.5592,-50.3401, -49.902,-49.4642,-49.1359,-48.5893, -48.48,-48.4038,-48.4331,-48.4545, -48.4679,-48.4683,-48.4693,-48.9082, -49.1278,-49.3474,-49.5672,-49.787, -50.0069,-50.2268,-50.4468,-50.6668, -50.887,-51.1071,-51.3274,-51.5477, -51.768,-51.9884,-52.319,-52.5395, -52.7601,-52.9807,-53.2013,-53.5322, -53.8631,-54.0837,-54.3045,-54.5255, -54.7463,-54.9671,-55.188,-55.4088, -55.7397,-56.0711,-56.4026,-56.6235, -56.9548,-57.2861,-57.5069,-57.7276, -58.059,-58.39,-58.7208,-58.9414, -59.1619,-59.3827,-59.4933,-59.5604)
FOOTPRINT_POINT_LONGITUDE = (270.001,269.288,268.555,267.561, 267.537,267.389,267.433,267.5,267.552, 267.599,267.658,267.707,267.757,267.832 ,267.881,267.929,267.977,268.045, 268.091,268.158,268.202,268.244,268.287 ,268.323,268.363,268.405,268.465, 268.501,268.553,268.588,268.622,268.655 ,268.689,268.722,268.754,268.802, 268.833,268.879,268.909,268.938,268.967 ,268.996,269.024,269.051,269.104, 269.156,269.194,269.254,269.265,269.273 ,270.054,270.735,271.235,271.253, 271.259,271.223,271.205,271.186,271.168 ,271.148,271.129,271.11,271.09,271.07, 271.049,271.029,271.008,270.987,270.965 ,270.943,270.91,270.888,270.865,270.841 ,270.817,270.782,270.745,270.721, 270.695,270.668,270.642,270.615,270.588 ,270.561,270.521,270.477,270.432, 270.402,270.356,270.309,270.277,270.245 ,270.195,270.144,270.093,270.058, 270.023,269.986,269.965,270.001)
ORBIT_NUMBER = 25312
ORBITAL_ECCENTRICITY = 0.574
ORBITAL_INCLINATION = 87.06
ORBITAL_SEMIMAJOR_AXIS = 8784.13
PERIAPSIS_ALTITUDE = 355.35
PERIAPSIS_ARGUMENT_ANGLE = 304.44
PERIAPSIS_TIME = 2024-01-18T17:58:33.000Z
SPACECRAFT_ORIENTATION = (0.0,1.0,0.0)
^MEX_ORIENTATION_DESC = "MEX_ORIENTATION_DESC.TXT"
SPACECRAFT_POINTING_MODE = ACROSSTRACK
^MEX_POINTING_DESC = "MEX_POINTING_DESC.TXT"
RIGHT_ASCENSION = -1e+32
DECLINATION = -1e+32
OFFSET_ANGLE = 1.2
SPACECRAFT_SOLAR_DISTANCE = 2.18199e+08
TARGET_NAME = MARS
/* CAMERA DATA ELEMENTS */
DETECTOR_TEMPERATURE = 18.3705
FOCAL_PLANE_TEMPERATURE = 7.9716
INST_CMPRS_NAME = "DISCRETE COSINE TRANSFORMATION (DCT)"
INST_CMPRS_RATIO = 12.1617
INST_CMPRS_QUALITY = 0
INST_CMPRS_QUANTZ_TBL_ID = 0
INSTRUMENT_TEMPERATURE = 11.234
LENS_TEMPERATURE = 8.5833
MACROPIXEL_SIZE = 4
MISSING_FRAMES = 0
PIXEL_SUBSAMPLING_FLAG = N
SIGNAL_CHAIN_ID = 2
/* RADIOMETRIC DATA ELEMENTS */
BANDWIDTH = 88.0
CENTER_FILTER_WAVELENGTH = 538.0
RADIANCE_OFFSET = 1.17351
RADIANCE_SCALING_FACTOR = 0.00254097
REFLECTANCE_SCALING_FACTOR = 0.000104159
MEX:REFLECTANCE_OFFSET = 0.0481039
/* IMAGE OBJECT DEFINITIONS */
OBJECT = IMAGE
  INTERCHANGE_FORMAT = BINARY
  LINES = 13274
  LINE_SAMPLES = 2504
  SAMPLE_TYPE = UNSIGNED_INTEGER
  SAMPLE_BITS = 8
  BANDS = 1
  BAND_STORAGE_TYPE = BAND_SEQUENTIAL
  MAXIMUM = 255
  MEAN = 179.347
  MINIMUM = 1
  STANDARD_DEVIATION = 73.4254
END_OBJECT = IMAGE
/* MAP OBJECT DEFINITIONS */
OBJECT = IMAGE_MAP_PROJECTION
  ^DATA_SET_MAP_PROJECTION_CATALOG= "DSMAP.CAT"
  A_AXIS_RADIUS = 3396.0
  B_AXIS_RADIUS = 3396.0
  C_AXIS_RADIUS = 3396.0
  CENTER_LATITUDE = 0.0
  CENTER_LONGITUDE = 270.0
  COORDINATE_SYSTEM_NAME = PLANETOGRAPHIC
  COORDINATE_SYSTEM_TYPE = "BODY-FIXED ROTATING"
  EASTERNMOST_LONGITUDE = 271.259
  FIRST_STANDARD_PARALLEL = "N/A"
  LINE_FIRST_PIXEL = 1
  LINE_LAST_PIXEL = 13274
  LINE_PROJECTION_OFFSET = -57358.625
  MAP_PROJECTION_ROTATION = 0.0
  MAP_PROJECTION_TYPE = SINUSOIDAL
  MAP_RESOLUTION = 1185.42760773333
  MAP_SCALE = 0.05
  MAXIMUM_LATITUDE = -48.4038
  MINIMUM_LATITUDE = -59.5604
  POSITIVE_LONGITUDE_DIRECTION = EAST
  REFERENCE_LATITUDE = "N/A"
  REFERENCE_LONGITUDE = "N/A"
  SAMPLE_FIRST_PIXEL = 1
  SAMPLE_LAST_PIXEL = 2504
  SAMPLE_PROJECTION_OFFSET = 1496.875
  SECOND_STANDARD_PARALLEL = "N/A"
  WESTERNMOST_LONGITUDE = 267.389
END_OBJECT = IMAGE_MAP_PROJECTION
END
